BEGIN:VCALENDAR
VERSION:2.0
PRODID:-//Le site officiel de la Ville de Beaucaire - ECPv6.7.0//NONSGML v1.0//EN
CALSCALE:GREGORIAN
METHOD:PUBLISH
X-ORIGINAL-URL:https://www.beaucaire.fr
X-WR-CALDESC:Évènements pour Le site officiel de la Ville de Beaucaire
REFRESH-INTERVAL;VALUE=DURATION:PT1H
X-Robots-Tag:noindex
X-PUBLISHED-TTL:PT1H
BEGIN:VTIMEZONE
TZID:Europe/Paris
BEGIN:DAYLIGHT
TZOFFSETFROM:+0100
TZOFFSETTO:+0200
TZNAME:CEST
DTSTART:20240331T010000
END:DAYLIGHT
BEGIN:STANDARD
TZOFFSETFROM:+0200
TZOFFSETTO:+0100
TZNAME:CET
DTSTART:20241027T010000
END:STANDARD
END:VTIMEZONE
BEGIN:VEVENT
DTSTART;TZID=Europe/Paris:20240926T100000
DTEND;TZID=Europe/Paris:20240928T170000
DTSTAMP:20260422T073135
CREATED:20240702T085559Z
LAST-MODIFIED:20240702T085559Z
UID:84374-1727344800-1727542800@www.beaucaire.fr
SUMMARY:Grande braderie de livres
DESCRIPTION:DU JEUDI 26 AU SAMEDI 28 SEPTEMBRE | DE 10H À 17H\nGRANDE BRADERIE DE LIVRES\nLa Mairie de Beaucaire vous invite à la 7ème grande braderie de livres.\nRomans\, albums jeunesse\, bandes dessinées\, magazines\,… genres et thèmes variés de livres venant du fonds de la Bibliothèque seront mis en vente.\nDe quoi remplir sa bibliothèque personnelle et faire le plein de livres.\nUne opération qui permet à la bibliothèque d’actualiser ses collections\, de favoriser l’accès à la lecture et de donner une seconde vie aux ouvrages.\nInfos au 04 66 59 26 98.\n> Bibliothèque Municipale\, 1 rue Roger Pascal
URL:https://www.beaucaire.fr/evenement/grande-braderie-de-livres-5/
LOCATION:Bibliothèque Municipale\, 1 rue Roger Pascal\, Beaucaire\, 30300\, France
CATEGORIES:Braderie
ATTACH;FMTTYPE=image/jpeg:https://www.beaucaire.fr/wp-content/uploads/20230929-grande-braderie-6.jpg
END:VEVENT
END:VCALENDAR