BEGIN:VCALENDAR
VERSION:2.0
PRODID:-//Le site officiel de la Ville de Beaucaire - ECPv6.7.0//NONSGML v1.0//EN
CALSCALE:GREGORIAN
METHOD:PUBLISH
X-ORIGINAL-URL:https://www.beaucaire.fr
X-WR-CALDESC:Évènements pour Le site officiel de la Ville de Beaucaire
REFRESH-INTERVAL;VALUE=DURATION:PT1H
X-Robots-Tag:noindex
X-PUBLISHED-TTL:PT1H
BEGIN:VTIMEZONE
TZID:Europe/Paris
BEGIN:DAYLIGHT
TZOFFSETFROM:+0100
TZOFFSETTO:+0200
TZNAME:CEST
DTSTART:20170326T010000
END:DAYLIGHT
BEGIN:STANDARD
TZOFFSETFROM:+0200
TZOFFSETTO:+0100
TZNAME:CET
DTSTART:20171029T010000
END:STANDARD
END:VTIMEZONE
BEGIN:VEVENT
DTSTART;TZID=Europe/Paris:20170301T190000
DTEND;TZID=Europe/Paris:20170301T210000
DTSTAMP:20260422T050239
CREATED:20170103T141439Z
LAST-MODIFIED:20170224T123248Z
UID:7467-1488394800-1488402000@www.beaucaire.fr
SUMMARY:Courses camarguaises : présentation de la saison 2017
DESCRIPTION:Mercredi 1er mars à 19h\, se tiendra au Casino Municipal de Beaucaire la présentation de la saison 2017 des Courses Camarguaises.\nJulien Sanchez\, Maire de Beaucaire\, et les élus du conseil municipal\, vous convient à cet événement très attendu\, lors duquel l’intégralité du calendrier vous sera présenté\, en présence de Daniel et Jacky Siméon.
URL:https://www.beaucaire.fr/evenement/courses-camarguaises-presentation-de-saison-2017/
LOCATION:Casino Municipal\, 1\, allée du Casino\, Beaucaire\, 30300\, France
CATEGORIES:Courses camarguaises
ATTACH;FMTTYPE=image/png:https://www.beaucaire.fr/wp-content/uploads/2017/02/Course-camarguaise-invitation-présentation-01.png
END:VEVENT
END:VCALENDAR