BEGIN:VCALENDAR
VERSION:2.0
PRODID:-//Le site officiel de la Ville de Beaucaire - ECPv6.7.0//NONSGML v1.0//EN
CALSCALE:GREGORIAN
METHOD:PUBLISH
X-ORIGINAL-URL:https://www.beaucaire.fr
X-WR-CALDESC:Évènements pour Le site officiel de la Ville de Beaucaire
REFRESH-INTERVAL;VALUE=DURATION:PT1H
X-Robots-Tag:noindex
X-PUBLISHED-TTL:PT1H
BEGIN:VTIMEZONE
TZID:Europe/Paris
BEGIN:DAYLIGHT
TZOFFSETFROM:+0100
TZOFFSETTO:+0200
TZNAME:CEST
DTSTART:20180325T010000
END:DAYLIGHT
BEGIN:STANDARD
TZOFFSETFROM:+0200
TZOFFSETTO:+0100
TZNAME:CET
DTSTART:20181028T010000
END:STANDARD
END:VTIMEZONE
BEGIN:VEVENT
DTSTART;TZID=Europe/Paris:20180307T190000
DTEND;TZID=Europe/Paris:20180307T210000
DTSTAMP:20260421T103136
CREATED:20180223T171034Z
LAST-MODIFIED:20190830T164014Z
UID:15874-1520449200-1520456400@www.beaucaire.fr
SUMMARY:Présentation Saison 2018 des courses camarguaises
DESCRIPTION:Julien SANCHEZ\, Maire de Beaucaire et conseiller régional d’Occitanie\, Maurice MOURET\, Conseiller municipal délégué aux courses camarguaises\, Mireille FOUGASSE\, adjointe au Maire déléguée à la culture et aux traditions et l’ensemble du conseil municipal ont le plaisir de vous inviter à la présentation de la Saison 2018 des courses camarguaises en présence de Daniel et Jacky SIMEON. \nMercredi 7 Mars 2018 à 19h\nCasino Municipal\, Allée du Casino\, Beaucaire\nEntrée libre
URL:https://www.beaucaire.fr/evenement/presentation-saison-2018-courses-camarguaises/
LOCATION:Casino Municipal\, 1\, allée du Casino\, Beaucaire\, 30300\, France
CATEGORIES:Courses camarguaises
ATTACH;FMTTYPE=image/png:https://www.beaucaire.fr/wp-content/uploads/2018/02/Invitation-lancement-saison-courses2.png
END:VEVENT
END:VCALENDAR