BEGIN:VCALENDAR
VERSION:2.0
PRODID:-//Le site officiel de la Ville de Beaucaire - ECPv6.7.0//NONSGML v1.0//EN
CALSCALE:GREGORIAN
METHOD:PUBLISH
X-ORIGINAL-URL:https://www.beaucaire.fr
X-WR-CALDESC:Évènements pour Le site officiel de la Ville de Beaucaire
REFRESH-INTERVAL;VALUE=DURATION:PT1H
X-Robots-Tag:noindex
X-PUBLISHED-TTL:PT1H
BEGIN:VTIMEZONE
TZID:Europe/Paris
BEGIN:DAYLIGHT
TZOFFSETFROM:+0100
TZOFFSETTO:+0200
TZNAME:CEST
DTSTART:20170326T010000
END:DAYLIGHT
BEGIN:STANDARD
TZOFFSETFROM:+0200
TZOFFSETTO:+0100
TZNAME:CET
DTSTART:20171029T010000
END:STANDARD
END:VTIMEZONE
BEGIN:VEVENT
DTSTART;TZID=Europe/Paris:20170731T163000
DTEND;TZID=Europe/Paris:20170731T183000
DTSTAMP:20260421T223523
CREATED:20170328T123119Z
LAST-MODIFIED:20170328T125955Z
UID:8965-1501518600-1501525800@www.beaucaire.fr
SUMMARY:Finale de la Palme d'Or
DESCRIPTION:Lundi 31 juillet à 16h30 : GRANDE FINALE de la Palme d’Or 2017.\nUne finale qui s’annonce exceptionnelle ! \nLa Mairie de Beaucaire et Daniel Siméon vous ont préparé une très belle première journée avec :\n• VINCENT de Aubanel\n• GALOPIN de Blanc\n• CHICO de Lautier\n• LAOS de Cyr\n• MUSTANG de Cuillé\n• MARGASSE de Rambier\n• PINO BAUMELLES/MOKA de Rousty\n• RATIS de Despedida \net les meilleurs raseteurs du moment ! \nBilletterie en Mairie de Beaucaire ou aux Arènes le jour de la course :\n• Tarif pour réservation : 17€\n• Tarif général : 12€\n• Tarif réduit : 6€ pour les jeunes de 12 à 16 ans ainsi que pour les retraités Beaucairois (à partir de 65 ans sous présentation d’une carte d’identité et d’un justificatif de domicile).\n• Gratuit pour les moins de 12 ans. \nProgramme complet de la saison 2017 des courses camarguaises : http://www.beaucaire.fr/nos-temps-forts/multi-saisons/les-courses-camarguaises/
URL:https://www.beaucaire.fr/evenement/finale-de-palme-dor/
LOCATION:Arènes de Beaucaire\, Champ de foire\, Beaucaire\, 30300\, France Métropolitaine
CATEGORIES:Courses camarguaises
ATTACH;FMTTYPE=image/png:https://www.beaucaire.fr/wp-content/uploads/2017/03/courses-camarguaises-beaucaire.png
END:VEVENT
END:VCALENDAR