BEGIN:VCALENDAR
VERSION:2.0
PRODID:-//Le site officiel de la Ville de Beaucaire - ECPv6.7.0//NONSGML v1.0//EN
CALSCALE:GREGORIAN
METHOD:PUBLISH
X-ORIGINAL-URL:https://www.beaucaire.fr
X-WR-CALDESC:Évènements pour Le site officiel de la Ville de Beaucaire
REFRESH-INTERVAL;VALUE=DURATION:PT1H
X-Robots-Tag:noindex
X-PUBLISHED-TTL:PT1H
BEGIN:VTIMEZONE
TZID:UTC
BEGIN:STANDARD
TZOFFSETFROM:+0000
TZOFFSETTO:+0000
TZNAME:UTC
DTSTART:20160101T000000
END:STANDARD
END:VTIMEZONE
BEGIN:VEVENT
DTSTART;VALUE=DATE:20160728
DTEND;VALUE=DATE:20160802
DTSTAMP:20260425T174316
CREATED:20160717T074923Z
LAST-MODIFIED:20160728T140558Z
UID:2276-1469664000-1470095999@www.beaucaire.fr
SUMMARY:Salon Taurin
DESCRIPTION:Du jeudi 28 juillet au lundi 1er août\, ne manquez pas le Salon Taurin de Beaucaire et ses bodégas !\n Chaque jour\, dès 18h00\, les bodégas vous accueillent pour commencer la soirée dans la bonne humeur à l’heure de l’apéritif puis vous proposent de dîner\, au pied des Arènes et devant lA grande scène du Salon Taurin. Puis\, à 21h30\, la Ville de Beaucaire vous offre un spectacle différent chaque soir ! \n\n– Jeudi 28 juillet 2016 – 21h30\n La folie des années 80 avec Jean-Pierre Mader\, Cookie Dingler\,… \n– Vendredi 29 juillet 2016 – 21h30\n Grand show Disco Fever avec Disco Live Tour \n– Samedi 30 juillet 2016 – 21h30\n Soire dansante et spectacle avec Vintage Pop Orchestra \n– Dimanche 31 juillet 2016 – 21h30\n Spectacle et concert de Phil Barney \n– Lundi 1er août 2016 – 21h30\n Concert de Catherine Lara \n\nPensez à réserver vos places pour dîner au Salon Taurin\n – Bodéga Gym Flip : 06.62.58.97.70 ou 06.13.10.40.30\n – Bodéga du Stade Beaucairois : 06.19.94.63.23\n – Bodéga Les Chevaliers : 06.27.07.58.34\n – Bodéga du Tennis Club : 06.14.05.28.11 ou 06.22.28.12.96\n – Bodéga du Rugby Club : 06.15.51.59.72\n – Bodéga de l’Aficion Taurine Beaucairoise : 06.13.90.43.30 \n\nNe manquez pas non plus les bodégas du « 7 » et du « Chalet » qui vous proposent toute la nuit des plateaux exceptionnels de DJ !
URL:https://www.beaucaire.fr/evenement/salon-taurin/
LOCATION:Salon Taurin\, Face aux Arènes\, champ de foire\, Beaucaire\, 30300\, France Métropolitaine
CATEGORIES:Événements
ATTACH;FMTTYPE=image/jpeg:https://www.beaucaire.fr/wp-content/uploads/2016/07/DSC_4813.jpg
END:VEVENT
BEGIN:VEVENT
DTSTART;TZID=UTC:20160801T213000
DTEND;TZID=UTC:20160801T235500
DTSTAMP:20260425T174316
CREATED:20160717T085833Z
LAST-MODIFIED:20160717T085833Z
UID:2284-1470087000-1470095700@www.beaucaire.fr
SUMMARY:Concert de Catherine Lara
DESCRIPTION:Du jeudi 28 juillet au lundi 1er août\, ne manquez pas le Salon Taurin de Beaucaire et ses bodégas !\n Chaque jour\, dès 18h00\, les bodégas vous accueillent pour commencer la soirée dans la bonne humeur à l’heure de l’apéritif puis vous proposent de dîner\, au pied des Arènes et devant lA grande scène du Salon Taurin. Puis\, à 21h30\, la Ville de Beaucaire vous offre un spectacle différent chaque soir ! \n\n– Jeudi 28 juillet 2016 – 21h30\n La folie des années 80 avec Jean-Pierre Mader\, Cookie Dingler\,… \n– Vendredi 29 juillet 2016 – 21h30\n Grand show Disco Fever avec Disco Live Tour \n– Samedi 30 juillet 2016 – 21h30\n Soire dansante et spectacle avec Vintage Pop Orchestra \n– Dimanche 31 juillet 2016 – 21h30\n Spectacle et concert de Phil Barney \n– Lundi 1er août 2016 – 21h30\n Concert de Catherine Lara \n\nPensez à réserver vos places pour dîner au Salon Taurin\n – Bodéga Gym Flip : 06.62.58.97.70 ou 06.13.10.40.30\n – Bodéga du Stade Beaucairois : 06.19.94.63.23\n – Bodéga Les Chevaliers : 06.27.07.58.34\n – Bodéga du Tennis Club : 06.14.05.28.11 ou 06.22.28.12.96\n – Bodéga du Rugby Club : 06.15.51.59.7\n – Bodéga de l’Aficion Taurine Beaucairoise : 06.13.90.43.30 \n\nNe manquez pas non plus les bodégas du « 7 » et du « Chalet » qui vous proposent toute la nuit des plateaux exceptionnels de DJ !
URL:https://www.beaucaire.fr/evenement/concert-de-catherine-lara/
LOCATION:Salon Taurin\, Face aux Arènes\, champ de foire\, Beaucaire\, 30300\, France Métropolitaine
CATEGORIES:Événements
END:VEVENT
BEGIN:VEVENT
DTSTART;TZID=UTC:20160801T230000
DTEND;TZID=UTC:20160801T233000
DTSTAMP:20260425T174316
CREATED:20160717T090313Z
LAST-MODIFIED:20160717T090615Z
UID:2285-1470092400-1470094200@www.beaucaire.fr
SUMMARY:Feu d'artifice
DESCRIPTION:Nouveau cette année :\nLe feu d’artifice\, clôturant les fêtes de la Madeleine de Beaucaire\, sera tiré du château !
URL:https://www.beaucaire.fr/evenement/feu-dartifice/
LOCATION:Château de Beaucaire\, Beaucaire\, 30300\, France Métropolitaine
CATEGORIES:Événements
ATTACH;FMTTYPE=image/jpeg:https://www.beaucaire.fr/wp-content/uploads/2016/07/shutterstock_448274731.jpg
END:VEVENT
BEGIN:VEVENT
DTSTART;TZID=UTC:20160824T170000
DTEND;TZID=UTC:20160824T180000
DTSTAMP:20260425T174316
CREATED:20160810T052733Z
LAST-MODIFIED:20160810T052733Z
UID:3746-1472058000-1472061600@www.beaucaire.fr
SUMMARY:Cérémonie commémorative de la libération de Beaucaire
DESCRIPTION:Julien SANCHEZ\n Maire de Beaucaire\n Conseiller régional \nAntoine BOYER\n Conseiller municipal délégué aux anciens combattants et aux associations patriotiques \net le conseil municipal \nvous convient à la cérémonie commémorative de la Libération de Beaucaire \nle mercredi 24 août 2016 à 17h00\nMonument aux Morts\, cimetière de la route de Saint-Gilles\, Beaucaire
URL:https://www.beaucaire.fr/evenement/ceremonie-commemorative-de-liberation-de-beaucaire/
LOCATION:Cimetière de la route de Saint-Gilles\, Route de Saint-Gilles\, Beaucaire\, 30300\, France Métropolitaine
CATEGORIES:Événements
ATTACH;FMTTYPE=image/jpeg:https://www.beaucaire.fr/wp-content/uploads/2016/08/Ceremonie-Beaucaire.jpg
END:VEVENT
BEGIN:VEVENT
DTSTART;TZID=UTC:20160827T100000
DTEND;TZID=UTC:20160828T030000
DTSTAMP:20260425T174316
CREATED:20160801T091037Z
LAST-MODIFIED:20160803T101217Z
UID:3441-1472292000-1472353200@www.beaucaire.fr
SUMMARY:Fête votive de Garrigues Planes
DESCRIPTION:Chaque année\, le quartier Garrigues Planes fait sa fête votive… et c’est un événement incontournable à Beaucaire ! \n11h00\nAbrivado avec la Manade l’Amista \n13h00\nApéritif \n18h00\nBandido \nDès 20h00\nSoirée festive \n  \nMISE EN GARDE\nLes taureaux\, les vaches et les petits veaux demeurent des animaux sauvages et dangereux.\nCliquez ici pour consulter les règles de sécurité à respecter lors des manifestations taurines.
URL:https://www.beaucaire.fr/evenement/fete-votive-de-garrigues-planes/
LOCATION:Ecole de Garrigues Planes\, Quartier Garrigues Planes\, Beaucaire\, 30300\, France Métropolitaine
CATEGORIES:Événements
ATTACH;FMTTYPE=image/jpeg:https://www.beaucaire.fr/wp-content/uploads/2016/08/DSC_0437.jpg
END:VEVENT
END:VCALENDAR