BEGIN:VCALENDAR
VERSION:2.0
PRODID:-//Le site officiel de la Ville de Beaucaire - ECPv6.7.0//NONSGML v1.0//EN
CALSCALE:GREGORIAN
METHOD:PUBLISH
X-ORIGINAL-URL:https://www.beaucaire.fr
X-WR-CALDESC:Évènements pour Le site officiel de la Ville de Beaucaire
REFRESH-INTERVAL;VALUE=DURATION:PT1H
X-Robots-Tag:noindex
X-PUBLISHED-TTL:PT1H
BEGIN:VTIMEZONE
TZID:UTC
BEGIN:STANDARD
TZOFFSETFROM:+0000
TZOFFSETTO:+0000
TZNAME:UTC
DTSTART:20160101T000000
END:STANDARD
END:VTIMEZONE
BEGIN:VEVENT
DTSTART;TZID=UTC:20160903T100000
DTEND;TZID=UTC:20160903T220000
DTSTAMP:20260425T161621
CREATED:20160810T053408Z
LAST-MODIFIED:20160901T123100Z
UID:3749-1472896800-1472940000@www.beaucaire.fr
SUMMARY:Beaucaire à l'Italienne
DESCRIPTION:La Ville de Beaucaire vous offre une journée Italienne\, sur la place Georges Clemenceau (mairie) le samedi 3 septembre 2016.\n\nToute la journée\n– Espace enfants\n– Rassemblement de Fiat 500\, Vespa et Ferrari\n– Animations musicales et exposants\n– Restauration Italienne proposée par les commerçants de la place Georges Clemenceau \n  \n11h30\nParade en ville – Pour tous les passionnés de vespa ou de fiat 500\, venez partager votre passion pour les belles italiennes lors de la parade en ville qui part de la place Georges Clémenceau à 11h30 ! \n15h00\nSpectacle de lanceurs de drapeaux Italiens \n15h30\nThé dansant \n17h00\nSpectacle de lanceurs de drapeaux Italiens \n17h30\nAirs d’Opéra Italien \n18h30\nDéfilé de mode \n20h00\nDîner-spectacle dansant \n> Réservez votre dîner-spectacle dansant dès maintenant auprès des restaurateurs :\nLA PETITE CUISINE D’ÉTÉ au 06 80 04 09 04 ou LA PLACE au 06 19 97 57 66
URL:https://www.beaucaire.fr/evenement/beaucaire-a-litalienne/
LOCATION:Place Georges Clemenceau\, Place Georges Clemenceau\, Beaucaire\, 30300\, France
CATEGORIES:Événements
ATTACH;FMTTYPE=image/png:https://www.beaucaire.fr/wp-content/uploads/2016/08/bandeau-fb.png
END:VEVENT
BEGIN:VEVENT
DTSTART;TZID=UTC:20160909T180000
DTEND;TZID=UTC:20160909T200000
DTSTAMP:20260425T161621
CREATED:20160811T145452Z
LAST-MODIFIED:20160811T145658Z
UID:3839-1473444000-1473451200@www.beaucaire.fr
SUMMARY:Inauguration de l’église Saint-Paul après rénovation des façades
DESCRIPTION:Julien SANCHEZ\nMaire de Beaucaire et conseiller régional \nPascal MAILHOS\nPréfet de la région Languedoc-Roussillon Midi-Pyréenées \nDenis BOUAD\nPrésident du conseil départemental du Gard \net l’ensemble du conseil municipal\,\nvous invitent à l’inauguration après restauration des couvertures et des façades \nde l’église Saint-Paul de Beaucaire \nLE VENDREDI 9 SEPTEMBRE 2016 – 18H00\nEglise Saint-Paul\, Impasse Saint-Paul\, Beaucaire
URL:https://www.beaucaire.fr/evenement/inauguration-apres-renovation-facades-de-leglise-saint-paul/
LOCATION:Eglise Saint-Paul\, Impasse Saint-Paul\, rue de l'Hôtel de Ville\, Beaucaire\, 30300\, France Métropolitaine
CATEGORIES:Événements
ATTACH;FMTTYPE=image/jpeg:https://www.beaucaire.fr/wp-content/uploads/2016/08/Eglise_st_paul.jpg
END:VEVENT
BEGIN:VEVENT
DTSTART;TZID=UTC:20160910T100000
DTEND;TZID=UTC:20160910T180000
DTSTAMP:20260425T161621
CREATED:20160810T073031Z
LAST-MODIFIED:20160810T073031Z
UID:3751-1473501600-1473530400@www.beaucaire.fr
SUMMARY:Fête des associations
DESCRIPTION:La fête des associations de Beaucaire  se déroulera le samedi 10 septembre 2016 de 10h à 18h à la base nautique municipale. \nAu programme :\n– Initiations gratuites\n– Animations \nPlus de 50 associations présentes !
URL:https://www.beaucaire.fr/evenement/fete-des-associations/
LOCATION:Base nautique municipale\, Champ de foire\, Beaucaire\, 30300\, France Métropolitaine
CATEGORIES:Événements
ATTACH;FMTTYPE=image/png:https://www.beaucaire.fr/wp-content/uploads/2016/08/Fete-des-assocaitions-2016-Beaucaire.png
END:VEVENT
BEGIN:VEVENT
DTSTART;TZID=UTC:20160928T140000
DTEND;TZID=UTC:20160928T190000
DTSTAMP:20260425T161621
CREATED:20160927T132734Z
LAST-MODIFIED:20160927T133118Z
UID:5034-1475071200-1475089200@www.beaucaire.fr
SUMMARY:Les après-midis dansants
DESCRIPTION:La Ville de Beaucaire et son CCAS proposent des après-midis dansants gratuits.\nProchain rendez-vous : ce mercredi 28 septembre à 14h00 ! \nRendez-vous suivant : mercredi 16 novembre à 14h00 !\n\n\nGoûter et animations offert par le C.C.A.S. et la Ville de Beaucaire.
URL:https://www.beaucaire.fr/evenement/apres-midi-dansants/
LOCATION:Casino Municipal\, 1\, allée du Casino\, Beaucaire\, 30300\, France
CATEGORIES:Événements
ATTACH;FMTTYPE=image/png:https://www.beaucaire.fr/wp-content/uploads/2016/09/apremdansant.png
END:VEVENT
END:VCALENDAR