BEGIN:VCALENDAR
VERSION:2.0
PRODID:-//Le site officiel de la Ville de Beaucaire - ECPv6.7.0//NONSGML v1.0//EN
CALSCALE:GREGORIAN
METHOD:PUBLISH
X-ORIGINAL-URL:https://www.beaucaire.fr
X-WR-CALDESC:Évènements pour Le site officiel de la Ville de Beaucaire
REFRESH-INTERVAL;VALUE=DURATION:PT1H
X-Robots-Tag:noindex
X-PUBLISHED-TTL:PT1H
BEGIN:VTIMEZONE
TZID:UTC
BEGIN:STANDARD
TZOFFSETFROM:+0000
TZOFFSETTO:+0000
TZNAME:UTC
DTSTART:20160101T000000
END:STANDARD
END:VTIMEZONE
BEGIN:VEVENT
DTSTART;VALUE=DATE:20161003
DTEND;VALUE=DATE:20161010
DTSTAMP:20260425T144539
CREATED:20160915T045756Z
LAST-MODIFIED:20160927T124629Z
UID:4754-1475452800-1476057599@www.beaucaire.fr
SUMMARY:La Semaine Bleue 2016
DESCRIPTION:La Semaine Bleue\, semaine des retraités et des seniors\, sera particulièrement animée cette année à Beaucaire !\n Du lundi 3 au dimanche 9 octobre 2016\, la Ville de Beaucaire\, son Centre Communal d’Action Sociale et ses partenaires ont programmé de nombreuses activités gratuites pour nos aînés. \nUn grand déjeuner-spectacle\, offert par le CCAS et la Ville de Beaucaire\, viendra clôturer cette semaine. \nInformations : 04.66.59.36.35 \n\nProgramme de la semaine (Au casino municipal) :\nLundi 3 octobre à 14h : Ouverture officielle par Julien Sanchez\, Maire de Beaucaire • Après-midi récréatif avec « La Magie du cirque »\, spectacle offert par le Rotary-Club Beaucaire-Tarascon • Goûter offert par le Rotary-Club Beaucaire-Tarascon\, le C.C.A.S. avec la participation de la F.N.A.T.H. \nMardi 4 octobre à 14h : Animation musicale offerte par le Secours Populaire • Goûter offert par le Rotary-Club de Pont du Gard \nMercredi 5 octobre à 14h : Après-midi inter-générations organisé par les Hôpitaux des Portes de Camargue\, l’association Loisirs et Partage\, la Croix Rouge\, la V.M.E.H.\, Tous en scène\, la chorale des résidents\, le conservatoire de Musique • Goûter offert par les Hôpitaux des Portes de Camargue \nJeudi 6 octobre à 14h : Loto gratuit organisé par le Club Municipal du 3ème âge • Goûter offert par le Lion’s Club \nVendredi 7 octobre à 14h : Karaoké offert les Hôpitaux des Portes de Camargue\, la V.M.E.H. et avec la participation de la chorale d’AVF Beaucaire Accueil • Goûter offert par le C.C.A.S. de Beaucaire \nSamedi 8 octobre à 14h : Loto organisé par les Hôpitaux des Portes de Camargue\, l’association Loisirs et Partage et la V.M.E.H. (8€ les trois cartons) • Vente de pâtisseries et de boissons \nDimanche 9 octobre à 12h : Grand-déjeuner spectacle de clôture offert par le C.C.A.S. et la Ville de Beaucaire \n  \nDurant la Semaine Bleue\, les membres de l’A.V.F. Beaucaire offriront des friandises et des fleurs aux personnes âgées qui ne peuvent se déplacer de leur domicile. L’association V.M.E.H. rendra visite aux personnes en milieu hospitalier comme tout au long de l’année. \nD’autres activités sont également proposées aux pensionnaires des hôpitaux. Le programme est à retrouver dans les établissements concernés. \nATELIER INFORMATIQUE : \nDes ateliers d’initiation à internet et à la messagerie électronique sont organisés. \nDu mardi 4 au samedi 8 octobre 2016 à la bibliothèque municipale. \nInformations et inscriptions à cet atelier à la Bibliothèque Municipale. \n  \n 
URL:https://www.beaucaire.fr/evenement/semaine-bleue-2016/
LOCATION:Casino Municipal\, 1\, allée du Casino\, Beaucaire\, 30300\, France
CATEGORIES:Événements
ATTACH;FMTTYPE=image/png:https://www.beaucaire.fr/wp-content/uploads/2016/09/SEMAINE-BLEUE-1.png
ORGANIZER;CN="C.C.A.S.":MAILTO:ccas@beaucaire.fr
END:VEVENT
BEGIN:VEVENT
DTSTART;VALUE=DATE:20161007
DTEND;VALUE=DATE:20161010
DTSTAMP:20260425T144539
CREATED:20160905T061230Z
LAST-MODIFIED:20161006T123422Z
UID:4382-1475798400-1476057599@www.beaucaire.fr
SUMMARY:Salon des Métiers d'Art de Beaucaire 2016
DESCRIPTION:  \n \nLes 7\, 8 et 9 octobre\, la Ville de Beaucaire organise son Salon des Métiers d’Art. Venez y découvrir le savoir-faire exceptionnel des meilleurs artisans d’art\, au cœur du centre historique de Beaucaire.\n\nNouveauté 2016 : le samedi et le dimanche\, les enfants pourront profiter d’initiations gratuites.\n– Entrée libre et gratuite –\n\n\n> Ouvert de 10h à 19h\nConsultez-ici le plan du Salon des Métiers d’Art \n  \n  \n  \n  \n  \n  \n  \n  \n 
URL:https://www.beaucaire.fr/evenement/salon-metiers-dart-de-beaucaire-2016/
LOCATION:Place Georges Clemenceau\, Place Georges Clemenceau\, Beaucaire\, 30300\, France
CATEGORIES:Événements
ATTACH;FMTTYPE=image/png:https://www.beaucaire.fr/wp-content/uploads/2016/09/SDM.png
END:VEVENT
BEGIN:VEVENT
DTSTART;TZID=UTC:20161009T120000
DTEND;TZID=UTC:20161009T160000
DTSTAMP:20260425T144539
CREATED:20160923T123400Z
LAST-MODIFIED:20160923T123400Z
UID:4821-1476014400-1476028800@www.beaucaire.fr
SUMMARY:Déjeuner-spectacle de clôture de la Semaine Bleue
DESCRIPTION:Le grand déjeuner-spectacle de la Semaine Bleue\, semaine des retraités et des seniors\, offert par le CCAS et la Ville de Beaucaire\, viendra clôturer cette semaine qui s’annonce particulièrement animée cette année à Beaucaire ! \nInformations : 04.66.59.36.35
URL:https://www.beaucaire.fr/evenement/dejeuner-spectacle-de-cloture-de-semaine-bleue/
LOCATION:Casino Municipal\, 1\, allée du Casino\, Beaucaire\, 30300\, France
CATEGORIES:Événements
ATTACH;FMTTYPE=image/png:https://www.beaucaire.fr/wp-content/uploads/2016/09/repassbaperçu.png
ORGANIZER;CN="C.C.A.S.":MAILTO:ccas@beaucaire.fr
END:VEVENT
BEGIN:VEVENT
DTSTART;TZID=UTC:20161031T140000
DTEND;TZID=UTC:20161031T160000
DTSTAMP:20260425T144539
CREATED:20161022T102239Z
LAST-MODIFIED:20161022T102239Z
UID:5759-1477922400-1477929600@www.beaucaire.fr
SUMMARY:Distribution de bonbons pour Halloween
DESCRIPTION:La Ville de Beaucaire vous donne rendez-vous pour une distribution de bonbons aux enfants déguisés\, à l’accueil de l’Hôtel de Ville\, lundi 31 octobre\, de 14h00 à 16h00.
URL:https://www.beaucaire.fr/evenement/distribution-de-bonbons-halloween/
LOCATION:Hôtel de Ville\, place Georges Clemenceau\, Beaucaire\, 30300\, France
CATEGORIES:Événements
ATTACH;FMTTYPE=image/png:https://www.beaucaire.fr/wp-content/uploads/2016/10/distribution-bonbons.png
END:VEVENT
END:VCALENDAR