BEGIN:VCALENDAR
VERSION:2.0
PRODID:-//Le site officiel de la Ville de Beaucaire - ECPv6.7.0//NONSGML v1.0//EN
CALSCALE:GREGORIAN
METHOD:PUBLISH
X-ORIGINAL-URL:https://www.beaucaire.fr
X-WR-CALDESC:Évènements pour Le site officiel de la Ville de Beaucaire
REFRESH-INTERVAL;VALUE=DURATION:PT1H
X-Robots-Tag:noindex
X-PUBLISHED-TTL:PT1H
BEGIN:VTIMEZONE
TZID:Europe/Paris
BEGIN:DAYLIGHT
TZOFFSETFROM:+0100
TZOFFSETTO:+0200
TZNAME:CEST
DTSTART:20170326T010000
END:DAYLIGHT
BEGIN:STANDARD
TZOFFSETFROM:+0200
TZOFFSETTO:+0100
TZNAME:CET
DTSTART:20171029T010000
END:STANDARD
END:VTIMEZONE
BEGIN:VEVENT
DTSTART;TZID=Europe/Paris:20170721T170000
DTEND;TZID=Europe/Paris:20170801T170000
DTSTAMP:20260425T000131
CREATED:20170718T063515Z
LAST-MODIFIED:20170719T144518Z
UID:10700-1500656400-1501606800@www.beaucaire.fr
SUMMARY:Fête Foraine
DESCRIPTION:
URL:https://www.beaucaire.fr/evenement/fete-foraine/
LOCATION:Champ de foire\, Champ de foire\, Beaucaire\, 30300\, France
CATEGORIES:Événements
ATTACH;FMTTYPE=image/jpeg:https://www.beaucaire.fr/wp-content/uploads/2017/07/fete-foraine.jpg
END:VEVENT
BEGIN:VEVENT
DTSTART;TZID=Europe/Paris:20170804T190000
DTEND;TZID=Europe/Paris:20170804T190000
DTSTAMP:20260425T000131
CREATED:20170801T083935Z
LAST-MODIFIED:20170801T083935Z
UID:11920-1501873200-1501873200@www.beaucaire.fr
SUMMARY:Les vendredis de Beaucaire : spectacle sur le thème des chansons françaises animé par Show Lorca
DESCRIPTION:Les Vendredis de Beaucaire sont de retour après les Fêtes de la Madeleine ! \nDès 19h\, vendredi 4 août\, retrouvez un marché artisanal nocturne sur la canal\, quai du Général de Gaulle\, ainsi qu’un spectacle sur le thème des chansons françaises animé par Show Lorca à 21h30 place Georges Clemenceau. \n> Un événement gratuit\, proposé par la Mairie de Beaucaire.
URL:https://www.beaucaire.fr/evenement/vendredis-de-beaucaire-spectacle-theme-chansons-francaises-anime-show-lorca/
LOCATION:Place Georges Clemenceau\, Place Georges Clemenceau\, Beaucaire\, 30300\, France
CATEGORIES:Événements
ATTACH;FMTTYPE=image/png:https://www.beaucaire.fr/wp-content/uploads/2017/08/Bannières-vendredis-de-beaucaire-01.png
END:VEVENT
BEGIN:VEVENT
DTSTART;TZID=Europe/Paris:20170811T190000
DTEND;TZID=Europe/Paris:20170811T190000
DTSTAMP:20260425T000131
CREATED:20170801T084217Z
LAST-MODIFIED:20170801T084217Z
UID:11925-1502478000-1502478000@www.beaucaire.fr
SUMMARY:Les vendredis de Beaucaire : spectacle de magie avec Benjamin Lycan
DESCRIPTION:Les Vendredis de Beaucaire continuent ! \nDès 19h\, vendredi 11 août\, retrouvez un marché artisanal nocturne sur la canal\, quai du Général De Gaulle\, ainsi qu’un spectacle de magie avec Benjamin Lycan à 21h30\, place Georges Clemenceau. \n> Un événement gratuit\, proposé par la Mairie de Beaucaire.
URL:https://www.beaucaire.fr/evenement/vendredis-de-beaucaire-spectacle-de-magie-benjamin-lycan/
LOCATION:Place Georges Clemenceau\, Place Georges Clemenceau\, Beaucaire\, 30300\, France
CATEGORIES:Événements
ATTACH;FMTTYPE=image/png:https://www.beaucaire.fr/wp-content/uploads/2017/08/Bannières-vendredis-de-beaucaire-02.png
END:VEVENT
BEGIN:VEVENT
DTSTART;TZID=Europe/Paris:20170812T080000
DTEND;TZID=Europe/Paris:20170827T170000
DTSTAMP:20260425T000131
CREATED:20170814T133409Z
LAST-MODIFIED:20170814T135432Z
UID:12153-1502524800-1503853200@www.beaucaire.fr
SUMMARY:Exposition Danielle Reynaud & André Corsi
DESCRIPTION:Exposition « Portraits et masques » de Danielle Reynaud ainsi que l’exposition de André Corsi « Aspect de l’art contemporain ». \nOuvert au public les samedis\, dimanches\, mardis et jeudis de 15h30 à 20h.
URL:https://www.beaucaire.fr/evenement/exposition-danielle-reynaud-andre-corsi/
LOCATION:Salle des expositions\, 27 bis quai du général de Gaulle\, Beaucaire\, 30300\, France Métropolitaine
CATEGORIES:Événements
ATTACH;FMTTYPE=image/jpeg:https://www.beaucaire.fr/wp-content/uploads/2017/08/Sans-titre-1-1.jpg
END:VEVENT
BEGIN:VEVENT
DTSTART;TZID=Europe/Paris:20170818T190000
DTEND;TZID=Europe/Paris:20170818T190000
DTSTAMP:20260425T000131
CREATED:20170801T084444Z
LAST-MODIFIED:20170801T091028Z
UID:11927-1503082800-1503082800@www.beaucaire.fr
SUMMARY:Les vendredis de Beaucaire : "Dalida\, 30 ans de légende" par Céline Dubois
DESCRIPTION:Les Vendredis de Beaucaire continuent ! \nDès 19h\, vendredi 18 août\, retrouvez un marché artisanal nocturne sur la canal\, quai du Général De Gaulle\, ainsi que le spectacle “Dalida\, 30 ans de légende” à 21h30\, place Georges Clemenceau. \n> Un événement gratuit\, proposé par la Mairie de Beaucaire.
URL:https://www.beaucaire.fr/evenement/vendredis-de-beaucaire-dalida-30-ans-de-legende/
LOCATION:Place Georges Clemenceau\, Place Georges Clemenceau\, Beaucaire\, 30300\, France
CATEGORIES:Événements
ATTACH;FMTTYPE=image/png:https://www.beaucaire.fr/wp-content/uploads/2017/08/Bannières-vendredis-de-beaucaire-03.png
END:VEVENT
BEGIN:VEVENT
DTSTART;TZID=Europe/Paris:20170825T190000
DTEND;TZID=Europe/Paris:20170825T190000
DTSTAMP:20260425T000131
CREATED:20170801T084822Z
LAST-MODIFIED:20170801T084822Z
UID:11929-1503687600-1503687600@www.beaucaire.fr
SUMMARY:Les vendredis de Beaucaire :  le meilleur des chansons internationales avec la troupe Newzik
DESCRIPTION:Les Vendredis de Beaucaire 2017 : dernière date de l’année ! \nDès 19h\, vendredi 25 août\, retrouvez un marché artisanal nocturne sur la canal\, quai du Général De Gaulle\, ainsi qu’un concert sur le thèmes des meilleurs chansons internationales à 21h30\, place Georges Clemenceau. \n> Un événement gratuit\, proposé par la Mairie de Beaucaire.
URL:https://www.beaucaire.fr/evenement/vendredis-de-beaucaire-meilleur-chansons-internationales-troupe-newzik/
LOCATION:Place Georges Clemenceau\, Place Georges Clemenceau\, Beaucaire\, 30300\, France
CATEGORIES:Événements
ATTACH;FMTTYPE=image/png:https://www.beaucaire.fr/wp-content/uploads/2017/08/Bannières-vendredis-de-beaucaire-04.png
END:VEVENT
BEGIN:VEVENT
DTSTART;TZID=Europe/Paris:20170826T100000
DTEND;TZID=Europe/Paris:20170827T030000
DTSTAMP:20260425T000131
CREATED:20170810T142250Z
LAST-MODIFIED:20170810T142250Z
UID:12134-1503741600-1503802800@www.beaucaire.fr
SUMMARY:Fête votive de Garrigues Planes
DESCRIPTION:Chaque année\, le quartier Garrigues Planes fait sa fête votive… et c’est un événement incontournable à Beaucaire ! \n11h00\nAbrivado avec la Manade l’Amista \n13h00\nApéritif \n18h00\nBandido avec la Manade l’Amista \nDès 20h00\nSoirée festive \nMISE EN GARDE\nLes taureaux\, les vaches et les petits veaux demeurent des animaux sauvages et dangereux.\nCliquez ici pour consulter les règles de sécurité à respecter lors des manifestations taurines.
URL:https://www.beaucaire.fr/evenement/fete-votive-de-garrigues-planes-2/
LOCATION:Garrigues Planes\, Quartier Garrigues Planes\, Beaucaire
CATEGORIES:Événements
ATTACH;FMTTYPE=image/png:https://www.beaucaire.fr/wp-content/uploads/2017/08/Bannière-Garrigues-Planes-01.png
END:VEVENT
END:VCALENDAR