BEGIN:VCALENDAR
VERSION:2.0
PRODID:-//Le site officiel de la Ville de Beaucaire - ECPv6.7.0//NONSGML v1.0//EN
CALSCALE:GREGORIAN
METHOD:PUBLISH
X-ORIGINAL-URL:https://www.beaucaire.fr
X-WR-CALDESC:Évènements pour Le site officiel de la Ville de Beaucaire
REFRESH-INTERVAL;VALUE=DURATION:PT1H
X-Robots-Tag:noindex
X-PUBLISHED-TTL:PT1H
BEGIN:VTIMEZONE
TZID:Europe/Paris
BEGIN:DAYLIGHT
TZOFFSETFROM:+0100
TZOFFSETTO:+0200
TZNAME:CEST
DTSTART:20180325T010000
END:DAYLIGHT
BEGIN:STANDARD
TZOFFSETFROM:+0200
TZOFFSETTO:+0100
TZNAME:CET
DTSTART:20181028T010000
END:STANDARD
END:VTIMEZONE
BEGIN:VEVENT
DTSTART;VALUE=DATE:20180501
DTEND;VALUE=DATE:20180502
DTSTAMP:20260424T091418
CREATED:20180308T142042Z
LAST-MODIFIED:20180426T140926Z
UID:15982-1525132800-1525219199@www.beaucaire.fr
SUMMARY:American Bike 2018
DESCRIPTION:La Mairie de Beaucaire\, en partenariat avec l’UCIA (association des commerçants) et les Gladiators Ugernum\, vous donne rendez-vous le 1er mai à partir de 9h\, Boulevard Maréchal Foch\, pour la 5ème édition de l’American Bike\, grand rassemblement festif de motos et bolides américains. \nAu programme : animations\, cascadeur à moto\, rodéo mécanique\, défilé balade\, concours de tatouages et de barbes\, concerts rock\, danse country\, bénédiction des motos\, espace enfants\,…sans oublier nos superbes Pin’Up ! \nEntrée libre
URL:https://www.beaucaire.fr/evenement/american-bike-2018/
LOCATION:Boulevard Maréchal Foch\, Boulevard Maréchal Foch\, Beaucaire\, 30300\, France Métropolitaine
CATEGORIES:Événements
ATTACH;FMTTYPE=image/jpeg:https://www.beaucaire.fr/wp-content/uploads/2018/03/Affiche-american-bike-beaucaire.jpg
END:VEVENT
BEGIN:VEVENT
DTSTART;TZID=Europe/Paris:20180505T180000
DTEND;TZID=Europe/Paris:20180511T230000
DTSTAMP:20260424T091418
CREATED:20180503T142012Z
LAST-MODIFIED:20180522T121715Z
UID:16761-1525543200-1526079600@www.beaucaire.fr
SUMMARY:Inscription pour la Fête des voisins 2018
DESCRIPTION:Cette année\, la Fête des voisins aura lieu le vendredi 25 mai 2018.\nPour la quatrième année\, le Maire de Beaucaire fait adhérer la ville à l’association « Immeubles en fête« \, association organisatrice de l’événement. \nCe partenariat a pour but d’étendre la fête des voisins à tous les quartiers de la ville afin qu’un maximum de Beaucairois participent à cet événement festif et convivial\, comme ce fut le cas l’année dernière. \nLe Maire de Beaucaire tient à remercier celles et ceux qui participaient déjà la Fête des voisins depuis plusieurs années et invite les Beaucairois à s’inscrire à cette édition 2018. \nLes habitants et associations de la ville souhaitant participer doivent remplir un bulletin d’inscription disponible en cliquant ici mais également au service des festivités ainsi qu’à l’Office du Tourisme\, en Mairie\, Mairie Annexe et au Conservatoire.\nLa ville distribuera aux participants un kit de décoration et communication et mettra à disposition du matériel (tables\, chaises\, barrières\,…). \nDate limite des inscriptions : vendredi 11 mai à 12h00.\nInfos et renseignements : 04.66.59.71.31 \n  \n 
URL:https://www.beaucaire.fr/evenement/fete-des-voisins/
LOCATION:Beaucaire\, Beaucaire\, 30300\, France Métropolitaine
CATEGORIES:Événements
ATTACH;FMTTYPE=image/png:https://www.beaucaire.fr/wp-content/uploads/2018/05/carré-web-fête-des-voisins-2018-2_Plan-de-travail-1.png
END:VEVENT
BEGIN:VEVENT
DTSTART;VALUE=DATE:20180510
DTEND;VALUE=DATE:20180511
DTSTAMP:20260424T091418
CREATED:20180503T143648Z
LAST-MODIFIED:20180503T143648Z
UID:16751-1525910400-1525996799@www.beaucaire.fr
SUMMARY:Foire de l'Ascension
DESCRIPTION:Le jeudi 10 mai 2018\, la Mairie de Beaucaire vous propose sa traditionnelle Foire de l’Ascension qui est l’un des grands rendez-vous de notre commune.\nSur une journée\, ce sont ainsi plus de 20 000 visiteurs qui déambulent à travers les étals des marchands et les rues de Beaucaire. Une fête foraine est également en place pendant plusieurs jours à cette période pour que s’amusent petits et grands « enfants ». \nNous vous invitons à venir nombreux et en famille pour découvrir un marché de qualité qui fait sa part belle au terroir\, à l’artisanat\, aux produits divers et variés\, de qualité\, aux produits qui sentent bon la France et la Provence… \n 
URL:https://www.beaucaire.fr/evenement/foire-de-lascension/
LOCATION:Quai du Général de Gaulle\,  Quai du Général de Gaulle\, Beaucaire\, 30300\, France Métropolitaine
CATEGORIES:Événements
ATTACH;FMTTYPE=image/png:https://www.beaucaire.fr/wp-content/uploads/2018/05/carré-web.png
END:VEVENT
BEGIN:VEVENT
DTSTART;TZID=Europe/Paris:20180516T070000
DTEND;TZID=Europe/Paris:20180516T120000
DTSTAMP:20260424T091418
CREATED:20180516T075655Z
LAST-MODIFIED:20180807T091636Z
UID:17069-1526454000-1526472000@www.beaucaire.fr
SUMMARY:Brocante en régie municipale
DESCRIPTION:La Mairie de Beaucaire vous propose une Brocante en régie municipale\, tous les mercredis matin de 7h à 12h au Pré\, allée Fanfonne Guillierme. \nInformation importante : pas de brocante le mercredi 15 août pour cause de jour férié
URL:https://www.beaucaire.fr/evenement/brocante-regie-municipale/
LOCATION:au Pré\, Allée Fanfonne Guillierme\, Beaucaire
CATEGORIES:Événements
ATTACH;FMTTYPE=image/png:https://www.beaucaire.fr/wp-content/uploads/2018/05/Carré-web-1.png
END:VEVENT
BEGIN:VEVENT
DTSTART;TZID=Europe/Paris:20180523T070000
DTEND;TZID=Europe/Paris:20180523T120000
DTSTAMP:20260424T091418
CREATED:20180516T075655Z
LAST-MODIFIED:20180807T091638Z
UID:20328-1527058800-1527076800@www.beaucaire.fr
SUMMARY:Brocante en régie municipale
DESCRIPTION:La Mairie de Beaucaire vous propose une Brocante en régie municipale\, tous les mercredis matin de 7h à 12h au Pré\, allée Fanfonne Guillierme. \nInformation importante : pas de brocante le mercredi 15 août pour cause de jour férié
URL:https://www.beaucaire.fr/evenement/brocante-regie-municipale-2018-05-23/
LOCATION:au Pré\, Allée Fanfonne Guillierme\, Beaucaire
CATEGORIES:Événements
ATTACH;FMTTYPE=image/png:https://www.beaucaire.fr/wp-content/uploads/2018/05/Carré-web-1.png
END:VEVENT
BEGIN:VEVENT
DTSTART;TZID=Europe/Paris:20180525T203000
DTEND;TZID=Europe/Paris:20180525T230000
DTSTAMP:20260424T091418
CREATED:20180507T090503Z
LAST-MODIFIED:20180524T135806Z
UID:16758-1527280200-1527289200@www.beaucaire.fr
SUMMARY:Spectacle : Hommage à France Gall et Johnny Hallyday
DESCRIPTION:A travers un spectacle\, les élèves du Conservatoire rendront hommage à France Gall et Johnny Hallyday le vendredi 25 mai au Casino Municipal.
URL:https://www.beaucaire.fr/evenement/spectacle-hommage-a-france-gall-johnny-hallyday/
LOCATION:Casino Municipal\, 1\, allée du Casino\, Beaucaire\, 30300\, France
CATEGORIES:Événements
ATTACH;FMTTYPE=image/jpeg:https://www.beaucaire.fr/wp-content/uploads/2018/05/invitation-spectacle-du-conservatoire-du-25-mai-20182.jpg
END:VEVENT
BEGIN:VEVENT
DTSTART;TZID=Europe/Paris:20180530T070000
DTEND;TZID=Europe/Paris:20180530T120000
DTSTAMP:20260424T091418
CREATED:20180516T075655Z
LAST-MODIFIED:20180807T091638Z
UID:20329-1527663600-1527681600@www.beaucaire.fr
SUMMARY:Brocante en régie municipale
DESCRIPTION:La Mairie de Beaucaire vous propose une Brocante en régie municipale\, tous les mercredis matin de 7h à 12h au Pré\, allée Fanfonne Guillierme. \nInformation importante : pas de brocante le mercredi 15 août pour cause de jour férié
URL:https://www.beaucaire.fr/evenement/brocante-regie-municipale-2018-05-30/
LOCATION:au Pré\, Allée Fanfonne Guillierme\, Beaucaire
CATEGORIES:Événements
ATTACH;FMTTYPE=image/png:https://www.beaucaire.fr/wp-content/uploads/2018/05/Carré-web-1.png
END:VEVENT
END:VCALENDAR