BEGIN:VCALENDAR
VERSION:2.0
PRODID:-//Le site officiel de la Ville de Beaucaire - ECPv6.7.0//NONSGML v1.0//EN
CALSCALE:GREGORIAN
METHOD:PUBLISH
X-ORIGINAL-URL:https://www.beaucaire.fr
X-WR-CALDESC:Évènements pour Le site officiel de la Ville de Beaucaire
REFRESH-INTERVAL;VALUE=DURATION:PT1H
X-Robots-Tag:noindex
X-PUBLISHED-TTL:PT1H
BEGIN:VTIMEZONE
TZID:Europe/Paris
BEGIN:DAYLIGHT
TZOFFSETFROM:+0100
TZOFFSETTO:+0200
TZNAME:CEST
DTSTART:20180325T010000
END:DAYLIGHT
BEGIN:STANDARD
TZOFFSETFROM:+0200
TZOFFSETTO:+0100
TZNAME:CET
DTSTART:20181028T010000
END:STANDARD
END:VTIMEZONE
BEGIN:VEVENT
DTSTART;TZID=Europe/Paris:20180901T100000
DTEND;TZID=Europe/Paris:20180901T230000
DTSTAMP:20260424T022658
CREATED:20180710T132713Z
LAST-MODIFIED:20180830T083306Z
UID:18523-1535796000-1535842800@www.beaucaire.fr
SUMMARY:Beaucaire à l'Italienne
DESCRIPTION:Beaucaire à l’Italienne est de retour ! \nLe samedi 1er septembre\, à partir de 10h sur la place Georges Clemenceau\, la Mairie de Beaucaire vous donne rendez-vous pour une nouvelle journée dédiée à l’Italie.\nTout au long de la journée\, de nombreuses animations vous seront proposées : rassemblement de Fiat 500\, Vespa et Ferrari\, présence des « Masqués Vénitiens »\, de lanceurs de drapeaux et d’exposants de produits italiens\, animations musicales\, espace pour les enfants\,…\nLe soir\, venez danser au rythme de l’Italie\, avec un apéro-opéra suivi d’un dîner-concert. \nProgramme complet : http://www.beaucaire.fr/evenement/beaucaire-a-litalienne-3/ \nProgramme complet :
URL:https://www.beaucaire.fr/evenement/beaucaire-a-litalienne-3/
LOCATION:Place Georges Clemenceau\, Place Georges Clemenceau\, Beaucaire\, 30300\, France
CATEGORIES:Événements
ATTACH;FMTTYPE=image/png:https://www.beaucaire.fr/wp-content/uploads/2018/07/Estivales-201855.png
END:VEVENT
BEGIN:VEVENT
DTSTART;TZID=Europe/Paris:20180905T080000
DTEND;TZID=Europe/Paris:20180905T120000
DTSTAMP:20260424T022658
CREATED:20180807T091206Z
LAST-MODIFIED:20180830T134427Z
UID:20313-1536134400-1536148800@www.beaucaire.fr
SUMMARY:Brocante en régie municipale
DESCRIPTION:La Mairie de Beaucaire vous propose une Brocante en régie municipale\, tous les mercredis matin de 7h à 12h au Pré\, allée Fanfonne Guillierme.
URL:https://www.beaucaire.fr/evenement/brocante-regie-municipal-2018-09-05/
LOCATION:au Pré\, Allée Fanfonne Guillierme\, Beaucaire
CATEGORIES:Événements
ATTACH;FMTTYPE=image/png:https://www.beaucaire.fr/wp-content/uploads/2018/08/Carré-web.png
END:VEVENT
BEGIN:VEVENT
DTSTART;TZID=Europe/Paris:20180908T100000
DTEND;TZID=Europe/Paris:20180908T190000
DTSTAMP:20260424T022658
CREATED:20180711T081933Z
LAST-MODIFIED:20180711T081933Z
UID:18564-1536400800-1536433200@www.beaucaire.fr
SUMMARY:Fête des associations
DESCRIPTION:Le samedi 8 septembre à partir de 10h à la Base Nautique Adrien Hardy\, venez à la rencontre des associations qui présentent leurs activités aux Beaucairois.\nLa journée est festive\, en musique\, et de nombreuses activités sont proposées.\nBeaucaire est une ville avec un tissu associatif important. Plus de 250 associations existent et s’impliquent dans la vie locale. \nOrganisé par le CCAS de la Ville de Beaucaire\nInformations : 04 66 59 36 35 \n> Base Nautique Adrien Hardy 20 allée du Drac\, Champ de Foire
URL:https://www.beaucaire.fr/evenement/fete-des-associations-3/
LOCATION:Base nautique municipale\, Champ de foire\, Beaucaire\, 30300\, France Métropolitaine
CATEGORIES:Événements
ATTACH;FMTTYPE=image/png:https://www.beaucaire.fr/wp-content/uploads/2018/07/Estivales-201851.png
ORGANIZER;CN="C.C.A.S.":MAILTO:ccas@beaucaire.fr
END:VEVENT
BEGIN:VEVENT
DTSTART;VALUE=DATE:20180909
DTEND;VALUE=DATE:20180910
DTSTAMP:20260424T022658
CREATED:20180711T082656Z
LAST-MODIFIED:20180830T084014Z
UID:18567-1536451200-1536537599@www.beaucaire.fr
SUMMARY:Grande Foire de la rentrée
DESCRIPTION:+ de 200 exposants :\nProduits du terroir\, artisanat\, marché aux fleurs\, produits divers et variés\, fête foraine\,… \n– – – \nSur une journée\, ce sont plus de 20 000 visiteurs qui déambulent à travers les étals des marchands et les rues de Beaucaire.\nNotre grande et belle foire populaire de la rentrée fait la part belle au terroir\, à l’artisanat\, aux produits divers et variés\, de qualité\, aux produits qui sentent bon la France et la Provence\,…\nC’est de toute la région que l’on vient désormais assister à la Foire\, sous le soleil de Beaucaire et dans un cadre agréable au bord du Canal du Rhône à Sète. \nInformations : 04 66 59 10 06 \n> Boulevard du Maréchal Foch et quai Général de Gaulle
URL:https://www.beaucaire.fr/evenement/foire-de-rentree/
LOCATION:Boulevard Maréchal Foch\, Boulevard Maréchal Foch\, Beaucaire\, 30300\, France Métropolitaine
CATEGORIES:Événements
ATTACH;FMTTYPE=image/png:https://www.beaucaire.fr/wp-content/uploads/2018/07/foire-rentrée-2018.png
END:VEVENT
BEGIN:VEVENT
DTSTART;TZID=Europe/Paris:20180912T080000
DTEND;TZID=Europe/Paris:20180912T120000
DTSTAMP:20260424T022658
CREATED:20180807T091206Z
LAST-MODIFIED:20180830T134428Z
UID:20314-1536739200-1536753600@www.beaucaire.fr
SUMMARY:Brocante en régie municipale
DESCRIPTION:La Mairie de Beaucaire vous propose une Brocante en régie municipale\, tous les mercredis matin de 7h à 12h au Pré\, allée Fanfonne Guillierme.
URL:https://www.beaucaire.fr/evenement/brocante-regie-municipal-2018-09-12/
LOCATION:au Pré\, Allée Fanfonne Guillierme\, Beaucaire
CATEGORIES:Événements
ATTACH;FMTTYPE=image/png:https://www.beaucaire.fr/wp-content/uploads/2018/08/Carré-web.png
END:VEVENT
BEGIN:VEVENT
DTSTART;TZID=Europe/Paris:20180915T203000
DTEND;TZID=Europe/Paris:20180915T233000
DTSTAMP:20260424T022658
CREATED:20180523T084605Z
LAST-MODIFIED:20180605T134055Z
UID:17169-1537043400-1537054200@www.beaucaire.fr
SUMMARY:Soirée dansante pour les séniors
DESCRIPTION:Avec le succès des après-midis dansantes\, la Ville de Beaucaire et son CCAS vous proposent en cette année 2018\, en plus des après-midis dansantes\, des soirées dansantes. \nEntrée : 10 € avec 1 boisson\, 3 mini pâtisseries et des feuilletés.
URL:https://www.beaucaire.fr/evenement/soiree-dansante-seniors-3/
LOCATION:Casino Municipal\, 1\, allée du Casino\, Beaucaire\, 30300\, France
CATEGORIES:Événements
ATTACH;FMTTYPE=image/jpeg:https://www.beaucaire.fr/wp-content/uploads/2018/05/carré-web-soirées-dansantes.jpg
END:VEVENT
BEGIN:VEVENT
DTSTART;TZID=Europe/Paris:20180919T080000
DTEND;TZID=Europe/Paris:20180919T120000
DTSTAMP:20260424T022658
CREATED:20180807T091206Z
LAST-MODIFIED:20180830T134430Z
UID:20315-1537344000-1537358400@www.beaucaire.fr
SUMMARY:Brocante en régie municipale
DESCRIPTION:La Mairie de Beaucaire vous propose une Brocante en régie municipale\, tous les mercredis matin de 7h à 12h au Pré\, allée Fanfonne Guillierme.
URL:https://www.beaucaire.fr/evenement/brocante-regie-municipal-2018-09-19/
LOCATION:au Pré\, Allée Fanfonne Guillierme\, Beaucaire
CATEGORIES:Événements
ATTACH;FMTTYPE=image/png:https://www.beaucaire.fr/wp-content/uploads/2018/08/Carré-web.png
END:VEVENT
BEGIN:VEVENT
DTSTART;TZID=Europe/Paris:20180919T140000
DTEND;TZID=Europe/Paris:20180919T160000
DTSTAMP:20260424T022658
CREATED:20180711T083632Z
LAST-MODIFIED:20180904T130807Z
UID:18570-1537365600-1537372800@www.beaucaire.fr
SUMMARY:Portes ouvertes de l'école de voile et multisports
DESCRIPTION:Mercredi 19 septembre de 14h à 16h\, l’école de voile et multisports ouvre ses portes et offre des séances gratuites pour la découverte de l’activité de voile (ou multisports selon la météo).  \nGratuit \nOrganisé par la Mairie de Beaucaire\nInformations au 04 66 59 45 42 ou au 06 11 36 53 51 – base.nautique@beaucaire.fr \n> Base Nautique Adrien Hardy 20 allée du Drac\, Champ de Foire
URL:https://www.beaucaire.fr/evenement/portes-ouvertes-de-lecole-de-voile-multisport/
LOCATION:Base nautique municipale\, Champ de foire\, Beaucaire\, 30300\, France Métropolitaine
CATEGORIES:Événements
ATTACH;FMTTYPE=image/jpeg:https://www.beaucaire.fr/wp-content/uploads/2018/07/FETE-DU-NAUTISME-2014-178.jpg
END:VEVENT
BEGIN:VEVENT
DTSTART;TZID=Europe/Paris:20180926T080000
DTEND;TZID=Europe/Paris:20180926T120000
DTSTAMP:20260424T022658
CREATED:20180807T091206Z
LAST-MODIFIED:20180830T134434Z
UID:20316-1537948800-1537963200@www.beaucaire.fr
SUMMARY:Brocante en régie municipale
DESCRIPTION:La Mairie de Beaucaire vous propose une Brocante en régie municipale\, tous les mercredis matin de 7h à 12h au Pré\, allée Fanfonne Guillierme.
URL:https://www.beaucaire.fr/evenement/brocante-regie-municipal-2018-09-26/
LOCATION:au Pré\, Allée Fanfonne Guillierme\, Beaucaire
CATEGORIES:Événements
ATTACH;FMTTYPE=image/png:https://www.beaucaire.fr/wp-content/uploads/2018/08/Carré-web.png
END:VEVENT
BEGIN:VEVENT
DTSTART;TZID=Europe/Paris:20180929T140000
DTEND;TZID=Europe/Paris:20180929T190000
DTSTAMP:20260424T022658
CREATED:20180711T133756Z
LAST-MODIFIED:20180911T115436Z
UID:18588-1538229600-1538247600@www.beaucaire.fr
SUMMARY:15ème édition de la Gambade de Saint-Roman
DESCRIPTION:– 14h00 : Marche nordique chronométrée et rando (10km)\n– 16h00 : Course de 12\,8km (Peu de bitume et un sentier 90 % nature qui vous mènera au massif de Saint-Roman\, d’où vous pourrez découvrir une très belle vue sur le géant de Provence). 2 ravitaillements. 10€ (ou 12€ sur place).\n– 16h15 : Course de 5\,8km (100 % plat\, alliant route et nature avec un passage sur la voie verte. Un ravitaillement. 8€ (ou 10€ sur place). \nOrganisé par l’association Courir à Beaucaire\, en partenariat avec la Mairie de Beaucaire. \nInformations au 06 19 71 25 80\nPré-inscriptions sur endurancechrono.com \n> Départs du Casino Municipal\, Rue du Champ de foire
URL:https://www.beaucaire.fr/evenement/14eme-edition-de-gambade-de-saint-roman/
LOCATION:Casino Municipal\, 1\, allée du Casino\, Beaucaire\, 30300\, France
CATEGORIES:Événements
ATTACH;FMTTYPE=image/jpeg:https://www.beaucaire.fr/wp-content/uploads/2018/07/DSC_0439-9.jpg
END:VEVENT
END:VCALENDAR