BEGIN:VCALENDAR
VERSION:2.0
PRODID:-//Le site officiel de la Ville de Beaucaire - ECPv6.7.0//NONSGML v1.0//EN
CALSCALE:GREGORIAN
METHOD:PUBLISH
X-ORIGINAL-URL:https://www.beaucaire.fr
X-WR-CALDESC:Évènements pour Le site officiel de la Ville de Beaucaire
REFRESH-INTERVAL;VALUE=DURATION:PT1H
X-Robots-Tag:noindex
X-PUBLISHED-TTL:PT1H
BEGIN:VTIMEZONE
TZID:Europe/Paris
BEGIN:DAYLIGHT
TZOFFSETFROM:+0100
TZOFFSETTO:+0200
TZNAME:CEST
DTSTART:20180325T010000
END:DAYLIGHT
BEGIN:STANDARD
TZOFFSETFROM:+0200
TZOFFSETTO:+0100
TZNAME:CET
DTSTART:20181028T010000
END:STANDARD
END:VTIMEZONE
BEGIN:VEVENT
DTSTART;TZID=Europe/Paris:20181003T080000
DTEND;TZID=Europe/Paris:20181003T120000
DTSTAMP:20260424T004438
CREATED:20180807T091206Z
LAST-MODIFIED:20180830T134434Z
UID:20317-1538553600-1538568000@www.beaucaire.fr
SUMMARY:Brocante en régie municipale
DESCRIPTION:La Mairie de Beaucaire vous propose une Brocante en régie municipale\, tous les mercredis matin de 7h à 12h au Pré\, allée Fanfonne Guillierme.
URL:https://www.beaucaire.fr/evenement/brocante-regie-municipal-2018-10-03/
LOCATION:au Pré\, Allée Fanfonne Guillierme\, Beaucaire
CATEGORIES:Événements
ATTACH;FMTTYPE=image/png:https://www.beaucaire.fr/wp-content/uploads/2018/08/Carré-web.png
END:VEVENT
BEGIN:VEVENT
DTSTART;TZID=Europe/Paris:20181003T100000
DTEND;TZID=Europe/Paris:20181003T160000
DTSTAMP:20260424T004438
CREATED:20181001T085644Z
LAST-MODIFIED:20181001T085644Z
UID:21608-1538560800-1538582400@www.beaucaire.fr
SUMMARY:Programme des animations du mercredi 3 octobre à la Bibliothèque Municipale
DESCRIPTION:Retrouvez le programme complet des animations du mercredi 3 octobre à la Bibliothèque Municipale :\n10h : Les Ateliers Créatifs\nA la Bibliothèque\, on ne vient pas que pour lire ! Nous vous proposons des rendez-vous réguliers sous forme d’ateliers de bricolage : pliages papier\, fabrication de doudous\, crochet… et d’autres !\nCes ateliers sont gratuits et accessibles à toutes et tous.. Selon les cas\, nous pourrons vous demander quelques fois de ramener votre propre matériel.\nNous essaierons en fonction du succès de ces ateliers la mise en place d’expositions. \n11h : Lecture Kamishibaï\n14h30 : Conte science en partage « Code ton jeu »\nEnvie de découvrir des expériences à refaire à la maison ?\nVenez participer aux contes scientifiques des Petits Débrouillards.
URL:https://www.beaucaire.fr/evenement/programme-animations-mercredi-3-octobre-a-bibliotheque-municipale/
LOCATION:Bibliothèque Municipale\, 1 rue Roger Pascal\, Beaucaire\, 30300\, France
CATEGORIES:Événements
ATTACH;FMTTYPE=image/jpeg:https://www.beaucaire.fr/wp-content/uploads/2018/10/DSC_0159-845x321.jpg
END:VEVENT
BEGIN:VEVENT
DTSTART;TZID=Europe/Paris:20181005T100000
DTEND;TZID=Europe/Paris:20181007T190000
DTSTAMP:20260424T004438
CREATED:20180906T135055Z
LAST-MODIFIED:20181002T150947Z
UID:21154-1538733600-1538938800@www.beaucaire.fr
SUMMARY:Salon des métiers d'art
DESCRIPTION:Les 5\, 6 et 7 octobre\, la Mairie de Beaucaire organise son Salon des Métiers d’Art. \nVenez y découvrir le savoir-faire exceptionnel des meilleurs artisans d’art\, au cœur du centre historique de Beaucaire\, Place Georges Clemenceau.\nInvité d’honneur cette année : Patricia Lopez\, peintre en décor du patrimoine.\nLe samedi et le dimanche\, les enfants pourront profiter d’initiations gratuites. \nVendredi 5 octobre à 18h30 : Inauguration du Salon des Métiers d’Art 2018 (place Georges Clemenceau).\nDimanche 7 octobre à 11h30 : Remise des prix du Salon des Métiers d’Art 2018 (place Georges Clemenceau). \nEntrée libre et gratuite (Ouvert de 14h30 à 19h le vendredi – de 10h à 19h le samedi et le dimanche) \nCliquez ici pour télécharger le plan du salon et la liste des artisans d’art
URL:https://www.beaucaire.fr/evenement/salon-metiers-dart/
LOCATION:Place Georges Clemenceau\, Place Georges Clemenceau\, Beaucaire\, 30300\, France
CATEGORIES:Événements
ATTACH;FMTTYPE=image/png:https://www.beaucaire.fr/wp-content/uploads/2018/09/Affiche-SMA-Salon-des-Métiers-dArt-2018.png
END:VEVENT
BEGIN:VEVENT
DTSTART;VALUE=DATE:20181008
DTEND;VALUE=DATE:20181015
DTSTAMP:20260424T004438
CREATED:20181005T161755Z
LAST-MODIFIED:20181005T161755Z
UID:21818-1538956800-1539561599@www.beaucaire.fr
SUMMARY:La semaine bleue
DESCRIPTION:La Semaine Bleue\, semaine des retraités et des seniors\, sera particulièrement animée cette année à Beaucaire !\nDu lundi 8 au dimanche 14 octobre 2018\, la Mairie de Beaucaire\, son Centre Communal d’Action Sociale et ses partenaires ont programmé de nombreuses activités gratuites pour nos aînés. \nUn grand déjeuner-spectacle\, offert par le CCAS et la Ville de Beaucaire\, viendra clôturer cette semaine (inscriptions closes). \nInformations au 04.66.59.36.35 et sur beaucaire.fr \n   \n 
URL:https://www.beaucaire.fr/evenement/la-semaine-bleue/
LOCATION:Beaucaire\, Beaucaire\, 30300\, France Métropolitaine
CATEGORIES:Événements
ATTACH;FMTTYPE=image/jpeg:https://www.beaucaire.fr/wp-content/uploads/2018/10/repas-ccas-de-beaucaire-2018-1.jpg
ORGANIZER;CN="C.C.A.S.":MAILTO:ccas@beaucaire.fr
END:VEVENT
BEGIN:VEVENT
DTSTART;TZID=Europe/Paris:20181010T080000
DTEND;TZID=Europe/Paris:20181010T120000
DTSTAMP:20260424T004438
CREATED:20180807T091206Z
LAST-MODIFIED:20180830T134434Z
UID:20318-1539158400-1539172800@www.beaucaire.fr
SUMMARY:Brocante en régie municipale
DESCRIPTION:La Mairie de Beaucaire vous propose une Brocante en régie municipale\, tous les mercredis matin de 7h à 12h au Pré\, allée Fanfonne Guillierme.
URL:https://www.beaucaire.fr/evenement/brocante-regie-municipal-2018-10-10/
LOCATION:au Pré\, Allée Fanfonne Guillierme\, Beaucaire
CATEGORIES:Événements
ATTACH;FMTTYPE=image/png:https://www.beaucaire.fr/wp-content/uploads/2018/08/Carré-web.png
END:VEVENT
BEGIN:VEVENT
DTSTART;TZID=Europe/Paris:20181010T100000
DTEND;TZID=Europe/Paris:20181010T170000
DTSTAMP:20260424T004438
CREATED:20181001T085837Z
LAST-MODIFIED:20181001T090957Z
UID:21611-1539165600-1539190800@www.beaucaire.fr
SUMMARY:Programme des animations du mercredi 10 octobre à la Bibliothèque Municipale
DESCRIPTION:Retrouvez le programme complet des animations du mercredi 10 octobre à la Bibliothèque Municipale :\n10h : Les Ateliers Créatifs\nA la Bibliothèque\, on ne vient pas que pour lire ! Nous vous proposons des rendez-vous réguliers sous forme d’ateliers de bricolage : pliages papier\, fabrication de doudous\, crochet… et d’autres !\nCes ateliers sont gratuits et accessibles à toutes et tous.. Selon les cas\, nous pourrons vous demander quelques fois de ramener votre propre matériel.\nNous essaierons en fonction du succès de ces ateliers la mise en place d’expositions. \n11h : Lecture Kamishibaï\n16h : L’heure du conte\nPour toutes celles et ceux qui ont envie d’entendre « Il était une fois ». \n> 1 rue Roger Pascal (entrée du public Cours Gambetta)\nRenseignements et inscriptions : 04.66.59.26.98
URL:https://www.beaucaire.fr/evenement/programme-animations-mercredi-10-octobre-a-bibliotheque-municipale/
LOCATION:Bibliothèque Municipale\, 1 rue Roger Pascal\, Beaucaire\, 30300\, France
CATEGORIES:Événements
ATTACH;FMTTYPE=image/jpeg:https://www.beaucaire.fr/wp-content/uploads/2018/10/DSC_0159-845x321.jpg
END:VEVENT
BEGIN:VEVENT
DTSTART;TZID=Europe/Paris:20181016T140000
DTEND;TZID=Europe/Paris:20181016T160000
DTSTAMP:20260424T004438
CREATED:20181001T090601Z
LAST-MODIFIED:20181015T095340Z
UID:21613-1539698400-1539705600@www.beaucaire.fr
SUMMARY:Bibliothèque Municipale : Programme des animations du mardi 16 octobre
DESCRIPTION:Retrouvez le programme complet des animations du mardi 16 octobre à la Bibliothèque Municipale :\n14h : Café Tricot\nLa Bibliothèque n’est plus un lieu sacré où le silence et les livres règnent : c’est un vrai lieu de vie.\nLe tricot gagne en popularité actuellement et dans ce contexte les ateliers biblio-tricot\nfleurissent un peu partout dans l’hexagone. Nous nous lançons donc nous aussi dans l’aventure.\nNous débuterons par un mardi par mois de 15h à 17h au sein de la bibliothèque.\nDans une ambiance décontractée\,nous offrirons les boissons chaudes\, conseils\, et la bonne humeur.\nNous sortirons des étagères nos ouvrages et nous nous lancerons dans la conception d’objets divers et variés.\nCet atelier est ouvert à tous\, débutants ou non de tous âges : chacun devrait y trouver son compte.\nC’est gratuit !\nOn peut y rester dix minutes\, une heure ou plus. Vous pouvez apporter votre matériel\, ou les bibliothécaires vous prêteront le leur. \nSi le cœur vous en dit\, venez nous rejoindre !\nEt si l’idée de tricoter vous défrise\, dégainez quand même vos pelotes et faites en don à la Bibliothèque !\nNous déciderons ensemble de ce que nous ferons de nos créations (Assos préma\, Téléthon…) \n> 1 rue Roger Pascal (entrée du public Cours Gambetta)\nRenseignements et inscriptions : 04.66.59.26.98
URL:https://www.beaucaire.fr/evenement/programme-animations-mardi-16-octobre-a-bibliotheque-municipale/
LOCATION:Bibliothèque Municipale\, 1 rue Roger Pascal\, Beaucaire\, 30300\, France
CATEGORIES:Événements
ATTACH;FMTTYPE=image/jpeg:https://www.beaucaire.fr/wp-content/uploads/2018/10/DSC_0159-845x321.jpg
END:VEVENT
BEGIN:VEVENT
DTSTART;TZID=Europe/Paris:20181017T080000
DTEND;TZID=Europe/Paris:20181017T120000
DTSTAMP:20260424T004438
CREATED:20180807T091206Z
LAST-MODIFIED:20180830T134434Z
UID:20319-1539763200-1539777600@www.beaucaire.fr
SUMMARY:Brocante en régie municipale
DESCRIPTION:La Mairie de Beaucaire vous propose une Brocante en régie municipale\, tous les mercredis matin de 7h à 12h au Pré\, allée Fanfonne Guillierme.
URL:https://www.beaucaire.fr/evenement/brocante-regie-municipal-2018-10-17/
LOCATION:au Pré\, Allée Fanfonne Guillierme\, Beaucaire
CATEGORIES:Événements
ATTACH;FMTTYPE=image/png:https://www.beaucaire.fr/wp-content/uploads/2018/08/Carré-web.png
END:VEVENT
BEGIN:VEVENT
DTSTART;TZID=Europe/Paris:20181017T093000
DTEND;TZID=Europe/Paris:20181017T183000
DTSTAMP:20260424T004438
CREATED:20181001T091208Z
LAST-MODIFIED:20181015T095323Z
UID:21615-1539768600-1539801000@www.beaucaire.fr
SUMMARY:Bibliothèque Municipale : Programme des animations du mercredi 17 octobre
DESCRIPTION:Retrouvez le programme complet des animations du mercredi 17 octobre à la Bibliothèque Municipale :\n9h30 : Les BB lecteurs\nDu nourrisson jusqu’à l’enfant de 3 ans\nLire des histoires aux tout-petits\, c’est le principe des séances de bébés lecteurs qui ont lieu en bibliothèque. En partenariat avec Elsa Gamon coordonnatrice du réseau d’assistantes maternelles\, nous initions nous aussi les jeunes enfants à la lecture.\nTous les bébés et les jeunes enfants aiment les livres. Les premiers mois et les premières années de la vie d’un enfant se caractérisent par un goût pour l’exploration et une curiosité insatiable.\nLes sons\, les voix\, les couleurs\, les odeurs\, la musique… tout captive nos petits aventuriers et c’est aussi le pouvoir des livres. Le but est donc de donner aux petits\, dès leur plus jeune âge\, le goût de l’histoire racontée et de l’écoute musicale. En même temps\, elle sensibilise les adultes accompagnateurs au plaisir de la lecture avec le tout-petit. \nNous accueillons de très jeunes usagers\, du nourrisson jusqu’à l’enfant de 3 ans\, dans le cadre de cet atelier bébés lecteurs. Chaque atelier est décliné selon un thème choisi à l’avance\, nous proposons des animations autour de la lecture d’albums de littérature jeunesse. Nos albums sont exposés\, dans la pièce où se déroule l’animation.\nL’atelier dure entre 20 et 30 minutes\, selon l’attention des enfants. Les personnes qui accompagnent sont les assistantes maternelles. Nous commençons à y inclure des parents\, grands-parents\, chacun étant bien sûr invité à prolonger\, à son domicile\, ces moments de lecture plaisir. \n10h : Les Ateliers Créatifs\nA la Bibliothèque\, on ne vient pas que pour lire ! Nous vous proposons des rendez-vous réguliers sous forme d’ateliers de bricolage : pliages papier\, fabrication de doudous\, crochet… et d’autres !\nCes ateliers sont gratuits et accessibles à toutes et tous.. Selon les cas\, nous pourrons vous demander quelques fois de ramener votre propre matériel.\nNous essaierons en fonction du succès de ces ateliers la mise en place d’expositions. \n11h : Lecture Kamishibaï\n16h : L’heure du conte\nPour toutes celles et ceux qui ont envie d’entendre « Il était une fois ». \n17h : Cercle de lecture\nComme d’habitude nous nous retrouverons autour d’un café ou d’un thé pour présenter nos livres préférés.\nRomans\, polars\, documentaires\, Beaux Livres\, ou Bandes dessinés seront nos invités. \n> 1 rue Roger Pascal (entrée du public Cours Gambetta)\nRenseignements et inscriptions : 04.66.59.26.98
URL:https://www.beaucaire.fr/evenement/programme-animations-mercredi-17-octobre-a-bibliotheque-municipale/
LOCATION:Bibliothèque Municipale\, 1 rue Roger Pascal\, Beaucaire\, 30300\, France
CATEGORIES:Événements
ATTACH;FMTTYPE=image/jpeg:https://www.beaucaire.fr/wp-content/uploads/2018/10/DSC_0159-845x321.jpg
END:VEVENT
BEGIN:VEVENT
DTSTART;TZID=Europe/Paris:20181019T183000
DTEND;TZID=Europe/Paris:20181019T203000
DTSTAMP:20260424T004438
CREATED:20181011T152056Z
LAST-MODIFIED:20181011T152110Z
UID:22010-1539973800-1539981000@www.beaucaire.fr
SUMMARY:Présentation de la Saison Culturelle 2018-2019
DESCRIPTION:🎭 [ Invitation – Présentation de la Saison Culturelle 2018-2019 ] \n\n\n\nLe Maire de Beaucaire\, son adjointe déléguée à la culture et l’ensemble du conseil municipal ont le plaisir de vous inviter à la présentation de la Saison Culturelle 2018-2019\, le vendredi 19 octobre à 18h30.\n\n\n \n\n\nLa billetterie de la Saison Culturelle sera en vente sur place. \n\n\n\n\n\n> Hôtel de Ville – Salle du conseil municipal\n\n\nPlace Georges Clemenceau\, 30300 Beaucaire
URL:https://www.beaucaire.fr/evenement/presentation-de-saison-culturelle-2018-2019/
LOCATION:Hôtel de Ville\, place Georges Clemenceau\, Beaucaire\, 30300\, France
CATEGORIES:Événements
ATTACH;FMTTYPE=image/jpeg:https://www.beaucaire.fr/wp-content/uploads/2018/10/Invitation-Saison-culurelle-2018-2019-2-image-verso.jpg
END:VEVENT
BEGIN:VEVENT
DTSTART;TZID=Europe/Paris:20181020T070000
DTEND;TZID=Europe/Paris:20181021T210000
DTSTAMP:20260424T004438
CREATED:20181009T113932Z
LAST-MODIFIED:20181017T070035Z
UID:21893-1540018800-1540155600@www.beaucaire.fr
SUMMARY:Slalom automobile de Beaucaire
DESCRIPTION:🏎️ [Nouveauté cette année]\nL’Association Sportive Automobile Gard Cévennes\, en partenariat avec la Mairie de Beaucaire\, organise les 20 et 21 octobre 2018 la 1ère édition du Slalom de Beaucaire.\nCette compétition sur circuit fermé\, qui se déroulera au champ de Foire\, comptera pour la Coupe de France des slaloms\, le Challenge de la ligue Occitanie-Méditerranée des slaloms et le Challenge ASA Gard Cévennes. \nAu programme :\nSamedi : vérifications administratives et techniques afin d’assurer le bon déroulement de la course.\nDimanche matin : Essais sur piste.\nDimanche après-midi : courses \n\n13h30 : 1ère manche chronométrée\n15h30 : 2ème manche chronométrée\n17h30 : 3ème manche chronométrée\n\nNous vous attendons nombreux !\nEntrée gratuite\nBuvette et restauration sur place.
URL:https://www.beaucaire.fr/evenement/slalom-automobile/
LOCATION:Champ de foire\, Champ de foire\, Beaucaire\, 30300\, France
CATEGORIES:Événements
ATTACH;FMTTYPE=image/jpeg:https://www.beaucaire.fr/wp-content/uploads/2018/10/42929567_10212852216244796_5547894824876638208_o.jpg
END:VEVENT
BEGIN:VEVENT
DTSTART;TZID=Europe/Paris:20181024T080000
DTEND;TZID=Europe/Paris:20181024T120000
DTSTAMP:20260424T004438
CREATED:20180807T091206Z
LAST-MODIFIED:20180830T134435Z
UID:20320-1540368000-1540382400@www.beaucaire.fr
SUMMARY:Brocante en régie municipale
DESCRIPTION:La Mairie de Beaucaire vous propose une Brocante en régie municipale\, tous les mercredis matin de 7h à 12h au Pré\, allée Fanfonne Guillierme.
URL:https://www.beaucaire.fr/evenement/brocante-regie-municipal-2018-10-24/
LOCATION:au Pré\, Allée Fanfonne Guillierme\, Beaucaire
CATEGORIES:Événements
ATTACH;FMTTYPE=image/png:https://www.beaucaire.fr/wp-content/uploads/2018/08/Carré-web.png
END:VEVENT
BEGIN:VEVENT
DTSTART;TZID=Europe/Paris:20181024T100000
DTEND;TZID=Europe/Paris:20181024T173000
DTSTAMP:20260424T004438
CREATED:20181015T091857Z
LAST-MODIFIED:20181015T091857Z
UID:22062-1540375200-1540402200@www.beaucaire.fr
SUMMARY:Escape game de la fête de la science
DESCRIPTION:À occasion de la fête de la science\, la Mairie de Beaucaire vous propose un « Escape game » (jeu d’évasion réel) le mercredi 24 octobre à la Bibliothèque Municipale.\n3 sessions de jeu sont organisées (10h\, 14h et 16h pour 5 joueurs maximum\, à partir de 12 ans). Activité gratuite. \n> Renseignements et inscriptions : 04.66.59.26.98 \nBibliothèque Municipale\n1 rue Roger Pascal\, 30300 Beaucaire (entrée du public Cours Gambetta)
URL:https://www.beaucaire.fr/evenement/escape-game-de-fete-de-science/
LOCATION:Bibliothèque Municipale\, 1 rue Roger Pascal\, Beaucaire\, 30300\, France
CATEGORIES:Événements
ATTACH;FMTTYPE=image/jpeg:https://www.beaucaire.fr/wp-content/uploads/2018/10/Bandeau-web-Panique-dans-la-bibliothèque.jpg
END:VEVENT
BEGIN:VEVENT
DTSTART;TZID=Europe/Paris:20181026T203000
DTEND;TZID=Europe/Paris:20181026T233000
DTSTAMP:20260424T004438
CREATED:20180523T084729Z
LAST-MODIFIED:20180605T134148Z
UID:17170-1540585800-1540596600@www.beaucaire.fr
SUMMARY:Soirée dansante pour les séniors
DESCRIPTION:Avec le succès des après-midis dansantes\, la Ville de Beaucaire et son CCAS vous proposent en cette année 2018\, en plus des après-midis dansantes\, des soirées dansantes. \nEntrée : 10 € avec 1 boisson\, 3 mini pâtisseries et des feuilletés.
URL:https://www.beaucaire.fr/evenement/soiree-dansante-seniors-4/
LOCATION:Casino Municipal\, 1\, allée du Casino\, Beaucaire\, 30300\, France
CATEGORIES:Événements
ATTACH;FMTTYPE=image/jpeg:https://www.beaucaire.fr/wp-content/uploads/2018/05/carré-web-soirées-dansantes.jpg
END:VEVENT
BEGIN:VEVENT
DTSTART;TZID=Europe/Paris:20181027T110000
DTEND;TZID=Europe/Paris:20181027T110000
DTSTAMP:20260424T004438
CREATED:20181001T132553Z
LAST-MODIFIED:20181008T092535Z
UID:21619-1540638000-1540638000@www.beaucaire.fr
SUMMARY:Bibliothèque Municipale : programme des animations du samedi 27 octobre
DESCRIPTION:Retrouvez le programme complet des animations du samedi 27 octobre à la Bibliothèque Municipale :\nA partir de 11h : Ateliers d’écritures sous forme de spectacle participatif autour de machines à écrire poétiques et farfelues.\nInscriptions gratuites auprès des bibliothécaires. \n\n1 rue Roger Pascal (entrée du public Cours Gambetta)\nRenseignements et inscriptions : 04.66.59.26.98
URL:https://www.beaucaire.fr/evenement/bibliotheque-municipale-programme-animations-samedi-27-octobre/
LOCATION:Bibliothèque Municipale\, 1 rue Roger Pascal\, Beaucaire\, 30300\, France
CATEGORIES:Événements
ATTACH;FMTTYPE=image/jpeg:https://www.beaucaire.fr/wp-content/uploads/2018/10/DSC_0159-845x321-1.jpg
END:VEVENT
BEGIN:VEVENT
DTSTART;TZID=Europe/Paris:20181027T190000
DTEND;TZID=Europe/Paris:20181027T230000
DTSTAMP:20260424T004438
CREATED:20181025T150610Z
LAST-MODIFIED:20181025T150610Z
UID:22342-1540666800-1540681200@www.beaucaire.fr
SUMMARY:Réception en l'honneur et en présence Lola Brengues / Miss Languedoc 2019
DESCRIPTION:Elue Miss Beaucaire en juillet dernier\, Lola Brengues a depuis été couronnée Miss Languedoc-Roussillon et va concourir pour l’élection de Miss France 2019 (le 15 décembre prochain sur TF1).\nJulien Sanchez\, Maire de Beaucaire et conseiller régional d’Occitanie et Thierry Mazars\, délégué régional du comité Miss France vous convient à une réception en l’honneur et en présence de Lola Brengues ce samedi 27 octobre à 19h au Casino Municipal. \nEntrée libre\n> Casino Municipal\, Champ de foire\, 30300 Beaucaire \n \nrs foire de l'ascension 2026
URL:https://www.beaucaire.fr/evenement/reception-lhonneur-presence-lola-brengues-miss-languedoc-2019/
LOCATION:Casino Municipal\, 1\, allée du Casino\, Beaucaire\, 30300\, France
CATEGORIES:Événements
ATTACH;FMTTYPE=image/jpeg:https://www.beaucaire.fr/wp-content/uploads/2018/10/DSC_9898-copy_pp-copy.jpg
END:VEVENT
BEGIN:VEVENT
DTSTART;TZID=Europe/Paris:20181031T080000
DTEND;TZID=Europe/Paris:20181031T120000
DTSTAMP:20260424T004438
CREATED:20180807T091206Z
LAST-MODIFIED:20180830T134435Z
UID:20321-1540972800-1540987200@www.beaucaire.fr
SUMMARY:Brocante en régie municipale
DESCRIPTION:La Mairie de Beaucaire vous propose une Brocante en régie municipale\, tous les mercredis matin de 7h à 12h au Pré\, allée Fanfonne Guillierme.
URL:https://www.beaucaire.fr/evenement/brocante-regie-municipal-2018-10-31/
LOCATION:au Pré\, Allée Fanfonne Guillierme\, Beaucaire
CATEGORIES:Événements
ATTACH;FMTTYPE=image/png:https://www.beaucaire.fr/wp-content/uploads/2018/08/Carré-web.png
END:VEVENT
BEGIN:VEVENT
DTSTART;TZID=Europe/Paris:20181031T170000
DTEND;TZID=Europe/Paris:20181031T200000
DTSTAMP:20260424T004438
CREATED:20181031T085611Z
LAST-MODIFIED:20181031T085741Z
UID:22419-1541005200-1541016000@www.beaucaire.fr
SUMMARY:Halloween à Beaucaire
DESCRIPTION:🎃 Le 31 octobre\, c’est Halloween !\nÀ cette occasion\, la Mairie de Beaucaire offre à tous les enfants déguisés des bonbons entre 17h et 20h\, au Casino Municipal. \n> Les enfants repartiront avec une photo souvenir offerte par la Mairie.
URL:https://www.beaucaire.fr/evenement/halloween-2/
LOCATION:Casino Municipal\, 1\, allée du Casino\, Beaucaire\, 30300\, France
CATEGORIES:Événements
ATTACH;FMTTYPE=image/jpeg:https://www.beaucaire.fr/wp-content/uploads/2018/10/halloween-2018-Casino.jpg
END:VEVENT
END:VCALENDAR