BEGIN:VCALENDAR
VERSION:2.0
PRODID:-//Le site officiel de la Ville de Beaucaire - ECPv6.7.0//NONSGML v1.0//EN
CALSCALE:GREGORIAN
METHOD:PUBLISH
X-ORIGINAL-URL:https://www.beaucaire.fr
X-WR-CALDESC:Évènements pour Le site officiel de la Ville de Beaucaire
REFRESH-INTERVAL;VALUE=DURATION:PT1H
X-Robots-Tag:noindex
X-PUBLISHED-TTL:PT1H
BEGIN:VTIMEZONE
TZID:Europe/Paris
BEGIN:DAYLIGHT
TZOFFSETFROM:+0100
TZOFFSETTO:+0200
TZNAME:CEST
DTSTART:20180325T010000
END:DAYLIGHT
BEGIN:STANDARD
TZOFFSETFROM:+0200
TZOFFSETTO:+0100
TZNAME:CET
DTSTART:20181028T010000
END:STANDARD
END:VTIMEZONE
BEGIN:VEVENT
DTSTART;VALUE=DATE:20181201
DTEND;VALUE=DATE:20181202
DTSTAMP:20260423T214010
CREATED:20181121T145931Z
LAST-MODIFIED:20181126T144654Z
UID:22930-1543622400-1543708799@www.beaucaire.fr
SUMMARY:Téléthon 2018
DESCRIPTION:La grande journée de mobilisation pour le Téléthon aura lieu cette année le samedi 1er décembre 2018 sur le cours Gambetta et le quai Général de Gaulle. L’événement est organisé par la Mairie de Beaucaire\, le CCAS de la ville et les associations de la commune. \nAu programme\, de nombreuses activités comme chaque année. Ambiance conviviale assurée ! \nDès 19h\, le vendredi 30 novembre\, une soirée des associations aura lieu au Gymnase Angelo Parisi\, avenue Jean Bouin. \nUne entrée 5€\, deux entrées 7€\, trois entrées 9€. Vente de boissons\, pizzas\, chips et friandises par le CCAS de la Mairie de Beaucaire au profit du Téléthon. \nRetrouvez le programme complet des animations en cliquant ici 
URL:https://www.beaucaire.fr/evenement/telethon-2018/
LOCATION:Beaucaire\, Beaucaire\, 30300\, France Métropolitaine
CATEGORIES:Événements
ATTACH;FMTTYPE=image/png:https://www.beaucaire.fr/wp-content/uploads/2018/11/Clamaméo-téléthon-2018-combi-1-png.png
ORGANIZER;CN="C.C.A.S.":MAILTO:ccas@beaucaire.fr
END:VEVENT
BEGIN:VEVENT
DTSTART;TZID=Europe/Paris:20181201T100000
DTEND;TZID=Europe/Paris:20181201T180000
DTSTAMP:20260423T214010
CREATED:20181130T144314Z
LAST-MODIFIED:20181130T144640Z
UID:23127-1543658400-1543687200@www.beaucaire.fr
SUMMARY:Téléthon :  vente de livres et documents à la bibliothèque
DESCRIPTION:À l’occasion du Téléthon\, la Bibliothèque Municipale en partenariat avec l’association l’Escolo de Tradicioun de Bèu-Caire organise\, ce samedi 1er décembre de 10h à 18h\, une vente de livres et documents.\nRenseignements et informations auprès des bibliothécaires. \nNous vous attendons nombreux ! \n> 1 rue Roger Pascal (entrée du public Cours Gambetta)\nRenseignements et inscriptions : 04.66.59.26.98
URL:https://www.beaucaire.fr/evenement/telethon-vente-de-livres-documents-a-bibliotheque/
LOCATION:Bibliothèque Municipale\, 1 rue Roger Pascal\, Beaucaire\, 30300\, France
CATEGORIES:Événements
ATTACH;FMTTYPE=image/jpeg:https://www.beaucaire.fr/wp-content/uploads/2018/11/DSC_0159-845x321-1.jpg
END:VEVENT
BEGIN:VEVENT
DTSTART;TZID=Europe/Paris:20181201T100000
DTEND;TZID=Europe/Paris:20181202T180000
DTSTAMP:20260423T214010
CREATED:20181126T141150Z
LAST-MODIFIED:20181126T143716Z
UID:23050-1543658400-1543773600@www.beaucaire.fr
SUMMARY:Marché de Noël du Mas des Tourelles
DESCRIPTION:Le Mas des Tourelles organise son Marché de Noël artisanal et gourmand les 1er et 2 décembre. \nPetits délices pour les gourmands (foies gras et canards frais\, charcuteries de pays\, fromages fermiers\, chocolats fins\, confiseries\, bières artisanales\, paniers garnis\, tapenades\, confitures\, miels\, vins du domaine et vins vinifiés d’après des recettes romaines\, nectars et jus de fruits) mais aussi créations originales\, objets pratiques\, jeux et décorations (bijoux\, décos\, sacs\, arts de la table\, plantes\, savons\, bois flottés\, céramiques\, lavandes\, bouffadous et autres idées cadeaux originales) seront au rendez-vous. \n> Marché de Noël du Mas des Tourelles\nLes 1er et 2 décembre de 10h à 18h\n4294 route de Saint-Gilles\, 30300 Beaucaire\nwww.tourelles.com
URL:https://www.beaucaire.fr/evenement/mas-tourelles-organise-marche-de-noel-artisanal-gourmand-1er-2-decembre/
LOCATION:Le Mas des Tourelles\, 4294 route de Saint Gilles (D38)\, Beaucaire\, 30300\, France
CATEGORIES:Événements
ATTACH;FMTTYPE=image/jpeg:https://www.beaucaire.fr/wp-content/uploads/2018/11/flyer-marché-de-noel-2018_vf-HD-1-1.jpg
END:VEVENT
BEGIN:VEVENT
DTSTART;TZID=Europe/Paris:20181204T190000
DTEND;TZID=Europe/Paris:20181204T210000
DTSTAMP:20260423T214010
CREATED:20181109T145017Z
LAST-MODIFIED:20181120T093727Z
UID:22749-1543950000-1543957200@www.beaucaire.fr
SUMMARY:Vernissage de l'exposition de la crèche Provençale de Noël
DESCRIPTION:Mardi 4 décembre à 19h00\, la Mairie de Beaucaire vous invite au vernissage de l’exposition de la crèche Provençale de Noël dans la cour de l’Hôtel de Ville\, place Georges Clemenceau.\nUn apéritif sera servi à l’issue du vernissage. \nVenez nombreux !
URL:https://www.beaucaire.fr/evenement/vernissage-de-lexposition-de-creche-provencale-de-noel/
LOCATION:Hôtel de Ville\, place Georges Clemenceau\, Beaucaire\, 30300\, France
CATEGORIES:Événements
ATTACH;FMTTYPE=image/jpeg:https://www.beaucaire.fr/wp-content/uploads/2018/11/DSC_0375.jpg
END:VEVENT
BEGIN:VEVENT
DTSTART;TZID=Europe/Paris:20181205T080000
DTEND;TZID=Europe/Paris:20181205T120000
DTSTAMP:20260423T214010
CREATED:20180807T091206Z
LAST-MODIFIED:20180830T134443Z
UID:20326-1543996800-1544011200@www.beaucaire.fr
SUMMARY:Brocante en régie municipale
DESCRIPTION:La Mairie de Beaucaire vous propose une Brocante en régie municipale\, tous les mercredis matin de 7h à 12h au Pré\, allée Fanfonne Guillierme.
URL:https://www.beaucaire.fr/evenement/brocante-regie-municipal-2018-12-05/
LOCATION:au Pré\, Allée Fanfonne Guillierme\, Beaucaire
CATEGORIES:Événements
ATTACH;FMTTYPE=image/png:https://www.beaucaire.fr/wp-content/uploads/2018/08/Carré-web.png
END:VEVENT
BEGIN:VEVENT
DTSTART;TZID=Europe/Paris:20181205T100000
DTEND;TZID=Europe/Paris:20181205T180000
DTSTAMP:20260423T214010
CREATED:20181130T141718Z
LAST-MODIFIED:20181130T141719Z
UID:23114-1544004000-1544032800@www.beaucaire.fr
SUMMARY:Lectures et ateliers pour enfants à la bibliothèque
DESCRIPTION:Retrouvez le programme complet des animations du mercredi 5 décembre à la Bibliothèque Municipale :\n\n10h : Les Ateliers Créatifs\nA la Bibliothèque\, on ne vient pas que pour lire ! Nous vous proposons des rendez-vous réguliers sous forme d’ateliers de bricolage : pliages papier\, fabrication de doudous\, crochet… et d’autres !\nCes ateliers sont gratuits et accessibles à toutes et tous. Selon les cas\, nous pourrons vous demander quelques fois de ramener votre propre matériel.\nNous essaierons en fonction du succès de ces ateliers la mise en place d’expositions. \n11h : Lecture Kamishibaï \n14h30 : Ateliers scientifiques en collaboration avec l’Association Les Petits Débrouillards « Fabrique ton robot gribouille » \n17h : Cercle de lecture\nComme d’habitude nous nous retrouverons autour d’un café ou d’un thé pour présenter nos livres préférés.\nRomans\, polars\, documentaires\, Beaux Livres\, ou Bandes dessinés seront nos invités. \n> 1 rue Roger Pascal (entrée du public Cours Gambetta)\n Renseignements et inscriptions : 04.66.59.26.98
URL:https://www.beaucaire.fr/evenement/lectures-ateliers-enfants-a-bibliotheque/
LOCATION:Bibliothèque Municipale\, 1 rue Roger Pascal\, Beaucaire\, 30300\, France
CATEGORIES:Événements
ATTACH;FMTTYPE=image/jpeg:https://www.beaucaire.fr/wp-content/uploads/2018/11/DSC_0159-845x321-1.jpg
END:VEVENT
BEGIN:VEVENT
DTSTART;TZID=Europe/Paris:20181207T180000
DTEND;TZID=Europe/Paris:20181209T190000
DTSTAMP:20260423T214010
CREATED:20181123T084954Z
LAST-MODIFIED:20181126T105006Z
UID:22953-1544205600-1544382000@www.beaucaire.fr
SUMMARY:Marché de Noël 2018
DESCRIPTION:Venez profiter de la magie de Noël à Beaucaire !\nLe Marché de Noël de Beaucaire aura lieu les vendredi 7\, samedi 8 et dimanche 9 décembre 2018 sur le cours Gambetta et la place Georges Clemenceau (entrée gratuite). \nAu programme : plus de 60 exposants\, de nombreux spectacles gratuits pou les enfants\, deux grandes transhumances avec plus de 1 000 animaux qui traverseront Beaucaire en musique\, la maison du Père Noël (avec photo offerte par la Mairie)\, une grande ferme aux animaux et de nombreuses surprises ! \n> Inauguration du marché de Noël avec dégustation gratuite de vin chaud et d’oreillettes le vendredi 7 décembre 2018 à 18h à l’angle de la rue de l’Hôtel de Ville et du cours Gambetta.\n>> En vous garant sur le parking des Arènes\, vous pouvez profiter de la navette gratuite de 10h à 19h ! \nRetrouvez le programme complet des animations du marché de Noël 2018 en cliquant ici
URL:https://www.beaucaire.fr/evenement/marche-de-noel-2018/
LOCATION:Place Georges Clemenceau\, Place Georges Clemenceau\, Beaucaire\, 30300\, France
CATEGORIES:Événements
ATTACH;FMTTYPE=image/jpeg:https://www.beaucaire.fr/wp-content/uploads/2018/11/A5-marché-de-noel-2018.jpg
END:VEVENT
BEGIN:VEVENT
DTSTART;TZID=Europe/Paris:20181212T093000
DTEND;TZID=Europe/Paris:20181212T170000
DTSTAMP:20260423T214010
CREATED:20181130T141848Z
LAST-MODIFIED:20181130T141858Z
UID:23115-1544607000-1544634000@www.beaucaire.fr
SUMMARY:Lectures et ateliers pour enfants à la bibliothèque
DESCRIPTION:Retrouvez le programme complet des animations du mercredi 12 décembre à la Bibliothèque Municipale : \n9h30 : Les BB lecteurs\nDu nourrisson jusqu’à l’enfant de 3 ans\nLire des histoires aux tout-petits\, c’est le principe des séances de bébés lecteurs qui ont lieu en bibliothèque. En partenariat avec Elsa Gamon coordonnatrice du réseau d’assistantes maternelles\, nous initions nous aussi les jeunes enfants à la lecture.\nTous les bébés et les jeunes enfants aiment les livres. Les premiers mois et les premières années de la vie d’un enfant se caractérisent par un goût pour l’exploration et une curiosité insatiable.\nLes sons\, les voix\, les couleurs\, les odeurs\, la musique… tout captive nos petits aventuriers et c’est aussi le pouvoir des livres. Le but est donc de donner aux petits\, dès leur plus jeune âge\, le goût de l’histoire racontée et de l’écoute musicale. En même temps\, elle sensibilise les adultes accompagnateurs au plaisir de la lecture avec le tout-petit.\nNous accueillons de très jeunes usagers\, du nourrisson jusqu’à l’enfant de 3 ans\, dans le cadre de cet atelier bébés lecteurs. Chaque atelier est décliné selon un thème choisi à l’avance\, nous proposons des animations autour de la lecture d’albums de littérature jeunesse. Nos albums sont exposés\, dans la pièce où se déroule l’animation.\nL’atelier dure entre 20 et 30 minutes\, selon l’attention des enfants. Les personnes qui accompagnent sont les assistantes maternelles. Nous commençons à y inclure des parents\, grands-parents\, chacun étant bien sûr invité à prolonger\, à son domicile\, ces moments de lecture plaisir.\n10h : Les Ateliers Créatifs\nA la Bibliothèque\, on ne vient pas que pour lire ! Nous vous proposons des rendez-vous réguliers sous forme d’ateliers de bricolage : pliages papier\, fabrication de doudous\, crochet… et d’autres !\nCes ateliers sont gratuits et accessibles à toutes et tous. Selon les cas\, nous pourrons vous demander quelques fois de ramener votre propre matériel.\nNous essaierons en fonction du succès de ces ateliers la mise en place d’expositions. \n11h : Lecture Kamishibaï \n16h : L’heure du conte\nPour toutes celles et ceux qui ont envie d’entendre « Il était une fois ». \n> 1 rue Roger Pascal (entrée du public Cours Gambetta)\n Renseignements et inscriptions : 04.66.59.26.98
URL:https://www.beaucaire.fr/evenement/lectures-ateliers-enfants-a-bibliotheque-2/
LOCATION:Bibliothèque Municipale\, 1 rue Roger Pascal\, Beaucaire\, 30300\, France
CATEGORIES:Événements
ATTACH;FMTTYPE=image/jpeg:https://www.beaucaire.fr/wp-content/uploads/2018/11/DSC_0159-845x321-1.jpg
END:VEVENT
BEGIN:VEVENT
DTSTART;TZID=Europe/Paris:20181214T190000
DTEND;TZID=Europe/Paris:20181214T210000
DTSTAMP:20260423T214010
CREATED:20181122T162515Z
LAST-MODIFIED:20181122T162515Z
UID:22947-1544814000-1544821200@www.beaucaire.fr
SUMMARY:Soirée d'accueil des nouveaux habitants
DESCRIPTION:Vous venez d’arriver sur #Beaucaire ? Remplissez sans plus tarder le formulaire pour pouvoir recevoir votre invitation personnelle à la soirée d’accueil des nouveaux habitants : http://www.beaucaire.fr/notre-ville/presentation/formulaire-nouveaux-arrivants/
URL:https://www.beaucaire.fr/evenement/soiree-daccueil-nouveaux-habitants/
LOCATION:Hôtel de Ville\, place Georges Clemenceau\, Beaucaire\, 30300\, France
CATEGORIES:Événements
ATTACH;FMTTYPE=image/jpeg:https://www.beaucaire.fr/wp-content/uploads/2018/11/visuel-bienvenue-beaucaire-2018.jpg
END:VEVENT
BEGIN:VEVENT
DTSTART;TZID=Europe/Paris:20181215T110000
DTEND;TZID=Europe/Paris:20181215T120000
DTSTAMP:20260423T214010
CREATED:20181130T142016Z
LAST-MODIFIED:20181130T142030Z
UID:23119-1544871600-1544875200@www.beaucaire.fr
SUMMARY:Conte de Noël à la bibliothèque
DESCRIPTION:Retrouvez le programme complet des animations du samedi 15 décembre à la Bibliothèque Municipale : \n11h : L’heure du conte\nPour toutes celles et ceux qui ont envie d’entendre « Il était une fois »\, la Bibliothèque Municipale\, en collaboration avec le Conservatoire\, vous propose de venir découvrir les plus beaux contes de Noël. \n> 1 rue Roger Pascal (entrée du public Cours Gambetta)\n Renseignements et inscriptions : 04.66.59.26.98
URL:https://www.beaucaire.fr/evenement/conte-de-noel-a-bibliotheque/
LOCATION:Bibliothèque Municipale\, 1 rue Roger Pascal\, Beaucaire\, 30300\, France
CATEGORIES:Événements
ATTACH;FMTTYPE=image/jpeg:https://www.beaucaire.fr/wp-content/uploads/2018/11/DSC_0159-845x321-1.jpg
END:VEVENT
BEGIN:VEVENT
DTSTART;TZID=Europe/Paris:20181216T143000
DTEND;TZID=Europe/Paris:20181216T180000
DTSTAMP:20260423T214010
CREATED:20181120T144659Z
LAST-MODIFIED:20181120T150631Z
UID:22913-1544970600-1544983200@www.beaucaire.fr
SUMMARY:Super Loto du CCAS de la Mairie de Beaucaire
DESCRIPTION:Le dimanche 16 décembre 2018 à 14h30\, le CCAS de la Mairie de Beaucaire organise son Super Loto au Casino Municipal. Venez nombreux pour essayer de gagner un des nombreux lots mis en jeu ! \nTarifs :\n– 1 carton : 2€\n– 6 cartons : 10€\n– 12 cartons : 18€ \n– Tombola 2€ (1 permis bateau offert par Navi Permis Beaucaire à gagner !)
URL:https://www.beaucaire.fr/evenement/super-loto-ccas-de-mairie-de-beaucaire/
LOCATION:Casino Municipal\, 1\, allée du Casino\, Beaucaire\, 30300\, France
CATEGORIES:Événements
ATTACH;FMTTYPE=image/jpeg:https://www.beaucaire.fr/wp-content/uploads/2018/11/Super-loto-2018.jpg
END:VEVENT
BEGIN:VEVENT
DTSTART;TZID=Europe/Paris:20181219T100000
DTEND;TZID=Europe/Paris:20181219T170000
DTSTAMP:20260423T214010
CREATED:20181130T142202Z
LAST-MODIFIED:20181130T142202Z
UID:23116-1545213600-1545238800@www.beaucaire.fr
SUMMARY:Lectures et ateliers pour enfants à la bibliothèque
DESCRIPTION:Retrouvez le programme complet des animations du mercredi 5 décembre à la Bibliothèque Municipale :\n\n10h : Les Ateliers Créatifs\nA la Bibliothèque\, on ne vient pas que pour lire ! Nous vous proposons des rendez-vous réguliers sous forme d’ateliers de bricolage : pliages papier\, fabrication de doudous\, crochet… et d’autres !\nCes ateliers sont gratuits et accessibles à toutes et tous. Selon les cas\, nous pourrons vous demander quelques fois de ramener votre propre matériel.\nNous essaierons en fonction du succès de ces ateliers la mise en place d’expositions. \n11h : Lecture Kamishibaï \n14h30 : Ateliers scientifiques en collaboration avec l’Association Les Petits Débrouillards. \n> 1 rue Roger Pascal (entrée du public Cours Gambetta)\n Renseignements et inscriptions : 04.66.59.26.98
URL:https://www.beaucaire.fr/evenement/lectures-ateliers-enfants-a-bibliotheque-3/
LOCATION:Bibliothèque Municipale\, 1 rue Roger Pascal\, Beaucaire\, 30300\, France
CATEGORIES:Événements
ATTACH;FMTTYPE=image/jpeg:https://www.beaucaire.fr/wp-content/uploads/2018/11/DSC_0159-845x321-1.jpg
END:VEVENT
BEGIN:VEVENT
DTSTART;TZID=Europe/Paris:20181221T140000
DTEND;TZID=Europe/Paris:20181221T170000
DTSTAMP:20260423T214010
CREATED:20181130T142310Z
LAST-MODIFIED:20181130T142310Z
UID:23117-1545400800-1545411600@www.beaucaire.fr
SUMMARY:Atelier café tricot à la bibliothèque
DESCRIPTION:Retrouvez le programme complet des animations du vendredi 21 décembre à la Bibliothèque Municipale : \n14h : Café Tricot\nLa Bibliothèque n’est plus un lieu sacré où le silence et les livres règnent : c’est un vrai lieu de vie.\nLe tricot gagne en popularité actuellement et dans ce contexte les ateliers biblio-tricot fleuris-sent un peu partout dans l’hexagone. Nous nous lançons donc nous aussi dans l’aventure.\nDans une ambiance décontractée\,nous offrirons les boissons chaudes\, conseils\, et la bonne humeur.\nNous sortirons des étagères nos ouvrages et nous nous lancerons dans la conception d’objets divers et variés.\nCet atelier est ouvert à tous\, débutants ou non de tous âges : chacun devrait y trouver son compte.\nC’est gratuit !\nOn peut y rester dix minutes\, une heure ou plus. Vous pouvez apporter votre matériel\, ou les bibliothécaires vous prêteront le leur.\nSi le cœur vous en dit\, venez nous rejoindre !\nEt si l’idée de tricoter vous défrise\, dégainez quand même vos pelotes et faites-en don à la Bi-bliothèque !\nNous déciderons ensemble de ce que nous ferons de nos créations (Assos préma\, Téléthon…) \n> 1 rue Roger Pascal (entrée du public Cours Gambetta)\n Renseignements et inscriptions : 04.66.59.26.98
URL:https://www.beaucaire.fr/evenement/atelier-cafe-tricot-a-bibliotheque/
LOCATION:Bibliothèque Municipale\, 1 rue Roger Pascal\, Beaucaire\, 30300\, France
CATEGORIES:Événements
ATTACH;FMTTYPE=image/jpeg:https://www.beaucaire.fr/wp-content/uploads/2018/11/DSC_0159-845x321-1.jpg
END:VEVENT
BEGIN:VEVENT
DTSTART;TZID=Europe/Paris:20181222T150000
DTEND;TZID=Europe/Paris:20181222T170000
DTSTAMP:20260423T214010
CREATED:20181130T142421Z
LAST-MODIFIED:20181130T142421Z
UID:23118-1545490800-1545498000@www.beaucaire.fr
SUMMARY:Après-midi ciné goûter à la bibliothèque
DESCRIPTION:Retrouvez le programme complet des animations du samedi 22 décembre à la Bibliothèque Municipale :\n\n15h : Ciné Goûter\nLe ciné goûter\, une première à la bibliothèque !\nLa bibliothèque propose d’emprunter des DVD ; d’où l’envie\, pour la structure communale de faire découvrir quelques films de ce fond\, et d’en valoriser certains\, souvent méconnus.\nDécouvrez une sélection de courts-métrages d’animation jeunesse poétiques\, émouvants et drôlement bien faits\, aussi bien pour les plus jeunes que pour les plus grands !\nGoûter partagé pour plus de convivialité !\n– 15h : accueil\, goûter\n– 15h30 – 17h : projection \n> 1 rue Roger Pascal (entrée du public Cours Gambetta)\n Renseignements et inscriptions : 04.66.59.26.98
URL:https://www.beaucaire.fr/evenement/apres-midi-cine-gouter-a-bibliotheque/
LOCATION:Bibliothèque Municipale\, 1 rue Roger Pascal\, Beaucaire\, 30300\, France
CATEGORIES:Événements
ATTACH;FMTTYPE=image/jpeg:https://www.beaucaire.fr/wp-content/uploads/2018/11/DSC_0159-845x321-1.jpg
END:VEVENT
END:VCALENDAR