BEGIN:VCALENDAR
VERSION:2.0
PRODID:-//Le site officiel de la Ville de Beaucaire - ECPv6.7.0//NONSGML v1.0//EN
CALSCALE:GREGORIAN
METHOD:PUBLISH
X-ORIGINAL-URL:https://www.beaucaire.fr
X-WR-CALDESC:Évènements pour Le site officiel de la Ville de Beaucaire
REFRESH-INTERVAL;VALUE=DURATION:PT1H
X-Robots-Tag:noindex
X-PUBLISHED-TTL:PT1H
BEGIN:VTIMEZONE
TZID:Europe/Paris
BEGIN:DAYLIGHT
TZOFFSETFROM:+0100
TZOFFSETTO:+0200
TZNAME:CEST
DTSTART:20190331T010000
END:DAYLIGHT
BEGIN:STANDARD
TZOFFSETFROM:+0200
TZOFFSETTO:+0100
TZNAME:CET
DTSTART:20191027T010000
END:STANDARD
END:VTIMEZONE
BEGIN:VEVENT
DTSTART;VALUE=DATE:20190131
DTEND;VALUE=DATE:20190201
DTSTAMP:20260423T201702
CREATED:20190130T154137Z
LAST-MODIFIED:20190902T132953Z
UID:24569-1548892800-1548892800@www.beaucaire.fr
SUMMARY:Tournée du Maire - Puech Condamine
DESCRIPTION:Démocratie participative : Le Maire et l’équipe municipale vous donnent rendez-vous à travers 8 réunions publiques.\nQuatrième réunion : Jeudi 31 janvier 2019 à 19h00\nPuech – Condamine – Les Étoiles | nio \n> Les autres rendez-vous : \n\nJeudi 7 février 2019 à 19h00\nSizen – Marguilliers – Redoute | Casino Municipal \nMardi 12 février 2019 à 19h00\nGarrigues Planes | École Garrigues Planes \nMercredi 20 février 2019 à 19h00\nCentre-ville | Hôtel de Ville \nJeudi 28 février 2019 à 19h00\nUgernum – Gaudon | Salle polyvalente de la Moulinelle
URL:https://www.beaucaire.fr/evenement/tournee-du-maire-puech-condamine/
LOCATION:Centre aéré primaire\, Chemin des Romains\, beaucaire\, 30300\, France
CATEGORIES:Événements,Visites de quartier
ATTACH;FMTTYPE=image/jpeg:https://www.beaucaire.fr/wp-content/uploads/2019/01/31-janvier-puech-condamine-les-étoiles.jpg
END:VEVENT
END:VCALENDAR