BEGIN:VCALENDAR
VERSION:2.0
PRODID:-//Le site officiel de la Ville de Beaucaire - ECPv6.7.0//NONSGML v1.0//EN
CALSCALE:GREGORIAN
METHOD:PUBLISH
X-ORIGINAL-URL:https://www.beaucaire.fr
X-WR-CALDESC:Évènements pour Le site officiel de la Ville de Beaucaire
REFRESH-INTERVAL;VALUE=DURATION:PT1H
X-Robots-Tag:noindex
X-PUBLISHED-TTL:PT1H
BEGIN:VTIMEZONE
TZID:Europe/Paris
BEGIN:DAYLIGHT
TZOFFSETFROM:+0100
TZOFFSETTO:+0200
TZNAME:CEST
DTSTART:20190331T010000
END:DAYLIGHT
BEGIN:STANDARD
TZOFFSETFROM:+0200
TZOFFSETTO:+0100
TZNAME:CET
DTSTART:20191027T010000
END:STANDARD
END:VTIMEZONE
BEGIN:VEVENT
DTSTART;TZID=Europe/Paris:20190212T190000
DTEND;TZID=Europe/Paris:20190212T213000
DTSTAMP:20260423T184805
CREATED:20190211T112609Z
LAST-MODIFIED:20190211T112609Z
UID:24989-1549998000-1550007000@www.beaucaire.fr
SUMMARY:Tournée du Maire - Garrigues Planes
DESCRIPTION:Démocratie participative : Le Maire et l’équipe municipale vous donnent rendez-vous à travers 8 réunions publiques.\nSixième réunion : Mardi 12 février 2019 à 19h00\nGarrigues Planes \n> Les autres rendez-vous : \n\n  \nMercredi 20 février 2019 à 19h00\nCentre-ville | Hôtel de Ville \nJeudi 28 février 2019 à 19h00\nUgernum – Gaudon | Salle polyvalente de la Moulinelle
URL:https://www.beaucaire.fr/evenement/tournee-du-maire-garrigues-planes/
LOCATION:Ecole de Garrigues Planes\, Quartier Garrigues Planes\, Beaucaire\, 30300\, France Métropolitaine
CATEGORIES:Événements
ATTACH;FMTTYPE=image/jpeg:https://www.beaucaire.fr/wp-content/uploads/2019/02/12-fevrier-garrigues-planes.jpg
END:VEVENT
BEGIN:VEVENT
DTSTART;TZID=Europe/Paris:20190213T100000
DTEND;TZID=Europe/Paris:20190213T170000
DTSTAMP:20260423T184805
CREATED:20190206T063023Z
LAST-MODIFIED:20190131T160305Z
UID:24576-1550052000-1550077200@www.beaucaire.fr
SUMMARY:Bibliothèque Municipale : Programme des animations du mercredi 13 février
DESCRIPTION:Retrouvez le programme complet des animations du mercredi 13 février à la Bibliothèque Municipale : \n10h : Ateliers Créatifs\nÀ la Bibliothèque\, on ne vient pas que pour lire !\nNous vous proposons des rendez-vous réguliers sous forme d’ateliers de bricolage : pliages papier\, fabrication de doudous\, crochet… et d’autres !\nCes ateliers sont gratuits et accessibles à toutes et tous. Selon les cas\, nous pourrons vous demander quelques fois de ramener votre propre matériel.\nDates : Tous les mercredis matin de 10 h à 11 h hors vacances scolaire\nNous essaierons en fonction du succès de ces ateliers la mise en place d’expositions. \n11h : Lecture Kamishibaï \n16h : Lecture Conte \nL’heure du conte ! Pour toutes celles et ceux qui ont envie d’entendre « Il était une fois » \n> 1 rue Roger Pascal (entrée du public Cours Gambetta)\n Renseignements et inscriptions : 04.66.59.26.98
URL:https://www.beaucaire.fr/evenement/bibliotheque-municipale-programme-des-animations-du-mercredi-13-fevrier/
LOCATION:Bibliothèque Municipale\, 1 rue Roger Pascal\, Beaucaire\, 30300\, France
CATEGORIES:Événements
ATTACH;FMTTYPE=image/jpeg:https://www.beaucaire.fr/wp-content/uploads/2019/01/DSC_0159-845x321.jpg
END:VEVENT
BEGIN:VEVENT
DTSTART;TZID=Europe/Paris:20190216T150000
DTEND;TZID=Europe/Paris:20190216T170000
DTSTAMP:20260423T184805
CREATED:20190208T063032Z
LAST-MODIFIED:20190211T124944Z
UID:24578-1550329200-1550336400@www.beaucaire.fr
SUMMARY:Bibliothèque Municipale : Programme des animations du samedi 16 février
DESCRIPTION:Retrouvez le programme complet des animations du samedi 16 février à la Bibliothèque Municipale :\n \nCiné Goûter \nLa bibliothèque propose d’emprunter des DVD ; d’où l’envie\, pour la structure communale de faire découvrir quelques films de ce fond\, et d’en valoriser certains\, souvent méconnus.\nDécouvrez une sélection de courts-métrages d’animation jeunesse poétiques\, émouvants et drôlement bien faits\, aussi bien pour les plus jeunes que pour les plus grands !\nGoûter partagé pour plus de convivialité ! \n15h : accueil\, goûter \n15h30 – 17h : projection \n> 1 rue Roger Pascal (entrée du public Cours Gambetta)\n Renseignements et inscriptions : 04.66.59.26.98
URL:https://www.beaucaire.fr/evenement/apres-midi-cine-gouter-a-la-bibliotheque/
LOCATION:Bibliothèque Municipale\, 1 rue Roger Pascal\, Beaucaire\, 30300\, France
CATEGORIES:Événements
ATTACH;FMTTYPE=image/jpeg:https://www.beaucaire.fr/wp-content/uploads/2019/01/DSC_0159-845x321.jpg
END:VEVENT
BEGIN:VEVENT
DTSTART;TZID=Europe/Paris:20190216T163000
DTEND;TZID=Europe/Paris:20190216T190000
DTSTAMP:20260423T184805
CREATED:20190118T101952Z
LAST-MODIFIED:20190211T124402Z
UID:24185-1550334600-1550343600@www.beaucaire.fr
SUMMARY:Spectacle de Chippendales
DESCRIPTION:Pour la Saint-Valentin… la Mairie de Beaucaire vous propose un spectacle de Chippendales le samedi 16 février à 16h30 au Casino Municipal.\nBeaucairoises ou pas\, célibataires ou pas\, vous êtes toutes les bienvenues. Une séance de dédicaces est prévue après le spectacle.\nEntrée : 2€\, au profit de l’association VMEH (Visite aux Malades dans les Établissements Hospitaliers)
URL:https://www.beaucaire.fr/evenement/les-chippendales-vous-attendent-au-casino-municipal/
LOCATION:Casino Municipal\, 1\, allée du Casino\, Beaucaire\, 30300\, France
CATEGORIES:Événements,Spectacles
ATTACH;FMTTYPE=image/jpeg:https://www.beaucaire.fr/wp-content/uploads/2019/01/Flyers-chippendales-V2.jpg
END:VEVENT
BEGIN:VEVENT
DTSTART;TZID=Europe/Paris:20190218T190000
DTEND;TZID=Europe/Paris:20190218T213000
DTSTAMP:20260423T184805
CREATED:20190212T132212Z
LAST-MODIFIED:20190830T164009Z
UID:25042-1550516400-1550525400@www.beaucaire.fr
SUMMARY:Le grand débat national de Beaucaire
DESCRIPTION:La Mairie de Beaucaire organise une réunion\, ouverte à tous\, dans le cadre du grand débat national\, le lundi 18 février à 19h00 (Casino Municipal\, rue du champ de foire).\nTous les sujets pourront être abordés. Contrairement à ce qui peut se passer ailleurs ou contrairement aux réunions organisées en présence du président de la République\, aucun filtre ne sera effectué.\nÀ Beaucaire\, la parole est libre. Chacun peut s’exprimer.\nC’est pourquoi la Mairie de Beaucaire déplore à nouveau qu’aucun représentant du Gouvernement ne se soit manifesté pour venir écouter les habitants et répondre à leurs interrogations légitimes. Elle condamne notamment le refus lâche et déplorable de la députée LREM de notre circonscription Françoise Dumas de participer à cette réunion alors que 5 dates lui avaient été proposées en amont.
URL:https://www.beaucaire.fr/evenement/le-grand-debat-national-de-beaucaire/
LOCATION:Casino Municipal\, 1\, allée du Casino\, Beaucaire\, 30300\, France
CATEGORIES:Événements
ATTACH;FMTTYPE=image/jpeg:https://www.beaucaire.fr/wp-content/uploads/2019/02/Slide-web-Grand-débat-national-beaucaire-2019-2.jpg
END:VEVENT
BEGIN:VEVENT
DTSTART;TZID=Europe/Paris:20190220T093000
DTEND;TZID=Europe/Paris:20190220T170000
DTSTAMP:20260423T184805
CREATED:20190213T063008Z
LAST-MODIFIED:20190131T161126Z
UID:24580-1550655000-1550682000@www.beaucaire.fr
SUMMARY:Bibliothèque Municipale : Programme des animations du mercredi 20 février
DESCRIPTION:Retrouvez le programme complet des animations du mercredi 20 février à la Bibliothèque Municipale : \n9h30 : BB Lecteurs \nEn collaboration avec le RAM\nDu nourrisson jusqu’à l’enfant de 3 ans\nLire des histoires aux tout-petits\, c’est le principe des séances de bébés lecteurs qui ont lieu en bibliothèque. En partenariat avec Elsa Gamon coordonnatrice du réseau d’assistantes maternelles\, nous initions nous aussi les jeunes enfants à la lecture. Tous les bébés et les jeunes enfants aiment les livres. Les premiers mois et les premières années de la vie d’un enfant se caractérisent par un goût pour l’exploration et une curiosité insatiable. Les sons\, les voix\, les couleurs\, les odeurs\, la musique… tout captive nos petits aventuriers et c’est aussi le pouvoir des livres. Le but est donc de donner aux petits\, dès leur plus jeune âge\, le goût de l’histoire racontée et de l’écoute musicale. En même temps\, elle sensibilise les adultes accompagnateurs au plaisir de la lecture avec le tout-petit. Nous accueillons de très jeunes usagers\, du nourrisson jusqu’à l’enfant de 3 ans\, dans le cadre de cet atelier bébés lecteurs. Chaque atelier est décliné selon un thème choisi à l’avance\, nous proposons des animations autour de la lecture d’albums de littérature jeunesse. Nos albums sont exposés\, dans la pièce où se déroule l’animation. L’atelier dure entre 20 et 30 minutes\, selon l’attention des enfants. Les personnes qui accompagnent sont les assistantes maternelles. Nous commençons à y inclure des parents\, grands-parents\, chacun étant bien sûr invité à prolonger\, à son domicile\, ces moments de lecture plaisir. \n10h : Ateliers Créatifs \nÀ la Bibliothèque\, on ne vient pas que pour lire !\nNous vous proposons des rendez-vous réguliers sous forme d’ateliers de bricolage : pliages papier\, fabrication de doudous\, crochet… et d’autres !\nCes ateliers sont gratuits et accessibles à toutes et tous. Selon les cas\, nous pourrons vous demander quelques fois de ramener votre propre matériel.\nDates : Tous les mercredis matin de 10 h à 11 h hors vacances scolaire\nNous essaierons en fonction du succès de ces ateliers la mise en place d’expositions. \n11h : Lecture Kamishibaï \n16h : Lecture Conte \nL’heure du conte ! Pour toutes celles et ceux qui ont envie d’entendre “Il était une fois” \n> 1 rue Roger Pascal (entrée du public Cours Gambetta)\n Renseignements et inscriptions : 04.66.59.26.98
URL:https://www.beaucaire.fr/evenement/bibliotheque-municipale-programme-des-animations-du-mercredi-20-fevrier/
LOCATION:Bibliothèque Municipale\, 1 rue Roger Pascal\, Beaucaire\, 30300\, France
CATEGORIES:Événements
ATTACH;FMTTYPE=image/jpeg:https://www.beaucaire.fr/wp-content/uploads/2019/01/DSC_0159-845x321.jpg
END:VEVENT
BEGIN:VEVENT
DTSTART;TZID=Europe/Paris:20190220T190000
DTEND;TZID=Europe/Paris:20190220T213000
DTSTAMP:20260423T184805
CREATED:20190211T112946Z
LAST-MODIFIED:20190211T112946Z
UID:24992-1550689200-1550698200@www.beaucaire.fr
SUMMARY:Tournée du maire : Centre-ville
DESCRIPTION:Démocratie participative : Le Maire et l’équipe municipale vous donnent rendez-vous à travers 8 réunions publiques.\nSeptième réunion : Mercredi 20 février 2019 à 19h00\nCentre-ville \n> Les autres rendez-vous : \n\nJeudi 28 février 2019 à 19h00\nUgernum – Gaudon | Salle polyvalente de la Moulinelle
URL:https://www.beaucaire.fr/evenement/tournee-du-maire-centre-ville/
LOCATION:Hôtel de Ville\, place Georges Clemenceau\, Beaucaire\, 30300\, France
CATEGORIES:Événements
ATTACH;FMTTYPE=image/jpeg:https://www.beaucaire.fr/wp-content/uploads/2019/02/20-février-centre-ville.jpg
END:VEVENT
BEGIN:VEVENT
DTSTART;TZID=Europe/Paris:20190222T140000
DTEND;TZID=Europe/Paris:20190222T170000
DTSTAMP:20260423T184805
CREATED:20190215T063012Z
LAST-MODIFIED:20190131T161207Z
UID:24582-1550844000-1550854800@www.beaucaire.fr
SUMMARY:Atelier Café Tricot à la bibliothèque
DESCRIPTION:Retrouvez le programme complet des animations du vendredi 22 février à la Bibliothèque Municipale : \n14h : Atelier Café Tricot \nLa Bibliothèque n’est plus un lieu sacré où le silence et les livres règnent : c’est un vrai lieu de vie.\nLe tricot gagne en popularité actuellement et dans ce contexte les ateliers biblio-tricot fleurissent un peu partout dans l’hexagone. Nous nous lançons donc nous aussi dans l’aventure.\nDans une ambiance décontractée\, nous offrirons les boissons chaudes\, conseils\, et la bonne humeur.\nNous sortirons des étagères nos ouvrages et nous nous lancerons dans la conception d’objets divers et variés.\nCet atelier est ouvert à tous\, débutants ou non de tous âges : chacun devrait y trouver son compte.\nC’est gratuit !\nOn peut y rester dix minutes\, une heure ou plus. Vous pouvez apporter votre matériel\, ou les bibliothécaires vous prêteront le leur.\nSi le cœur vous en dit\, venez nous rejoindre !\nEt si l’idée de tricoter vous défrise\, dégainez quand même vos pelotes et faites-en don à la Bibliothèque !\nNous déciderons ensemble de ce que nous ferons de nos créations (Assos préma\, Téléthon…) \n> 1 rue Roger Pascal (entrée du public Cours Gambetta)\n Renseignements et inscriptions : 04.66.59.26.98
URL:https://www.beaucaire.fr/evenement/atelier-cafe-tricot-a-la-bibliotheque/
LOCATION:Bibliothèque Municipale\, 1 rue Roger Pascal\, Beaucaire\, 30300\, France
CATEGORIES:Événements
ATTACH;FMTTYPE=image/jpeg:https://www.beaucaire.fr/wp-content/uploads/2019/01/DSC_0159-845x321.jpg
END:VEVENT
BEGIN:VEVENT
DTSTART;TZID=Europe/Paris:20190228T190000
DTEND;TZID=Europe/Paris:20190228T213000
DTSTAMP:20260423T184805
CREATED:20190211T113238Z
LAST-MODIFIED:20190218T082113Z
UID:24996-1551380400-1551389400@www.beaucaire.fr
SUMMARY:Tournée du Maire - Ugernum Gaudon
DESCRIPTION:Démocratie participative : Le Maire et l’équipe municipale vous donnent rendez-vous à travers 8 réunions publiques. \n  \n\n 
URL:https://www.beaucaire.fr/evenement/tournee-du-maire-ugernum-gaudon/
LOCATION:Salle polyvalente de la Moulinelle\, Rue du 5 juillet 1962\, 30300\, France
CATEGORIES:Événements
ATTACH;FMTTYPE=image/jpeg:https://www.beaucaire.fr/wp-content/uploads/2019/02/28-Février-Salle-polyvalente-de-la-Moulinelle.jpg
END:VEVENT
END:VCALENDAR