BEGIN:VCALENDAR
VERSION:2.0
PRODID:-//Le site officiel de la Ville de Beaucaire - ECPv6.7.0//NONSGML v1.0//EN
CALSCALE:GREGORIAN
METHOD:PUBLISH
X-ORIGINAL-URL:https://www.beaucaire.fr
X-WR-CALDESC:Évènements pour Le site officiel de la Ville de Beaucaire
REFRESH-INTERVAL;VALUE=DURATION:PT1H
X-Robots-Tag:noindex
X-PUBLISHED-TTL:PT1H
BEGIN:VTIMEZONE
TZID:Europe/Paris
BEGIN:DAYLIGHT
TZOFFSETFROM:+0100
TZOFFSETTO:+0200
TZNAME:CEST
DTSTART:20190331T010000
END:DAYLIGHT
BEGIN:STANDARD
TZOFFSETFROM:+0200
TZOFFSETTO:+0100
TZNAME:CET
DTSTART:20191027T010000
END:STANDARD
END:VTIMEZONE
BEGIN:VEVENT
DTSTART;TZID=Europe/Paris:20190313T093000
DTEND;TZID=Europe/Paris:20190313T180000
DTSTAMP:20260423T172104
CREATED:20190308T101136Z
LAST-MODIFIED:20190308T101729Z
UID:25700-1552469400-1552500000@www.beaucaire.fr
SUMMARY:Bibliothèque Municipale : Programme des animations du mercredi 13 mars
DESCRIPTION:Retrouvez le programme complet des animations du mercredi 13 mars à la Bibliothèque Municipale : \n9h45 : BB Lecteurs \nEn collaboration avec le RAM\nDu nourrisson jusqu’à l’enfant de 3 ans\nLire des histoires aux tout-petits\, c’est le principe des séances de bébés lecteurs qui ont lieu en bibliothèque. En partenariat avec Elsa Gamon coordonnatrice du réseau d’assistantes maternelles\, nous initions nous aussi les jeunes enfants à la lecture. Tous les bébés et les jeunes enfants aiment les livres. Les premiers mois et les premières années de la vie d’un enfant se caractérisent par un goût pour l’exploration et une curiosité insatiable. Les sons\, les voix\, les couleurs\, les odeurs\, la musique… tout captive nos petits aventuriers et c’est aussi le pouvoir des livres. Le but est donc de donner aux petits\, dès leur plus jeune âge\, le goût de l’histoire racontée et de l’écoute musicale. En même temps\, elle sensibilise les adultes accompagnateurs au plaisir de la lecture avec le tout-petit. Nous accueillons de très jeunes usagers\, du nourrisson jusqu’à l’enfant de 3 ans\, dans le cadre de cet atelier bébés lecteurs. Chaque atelier est décliné selon un thème choisi à l’avance\, nous proposons des animations autour de la lecture d’albums de littérature jeunesse. Nos albums sont exposés\, dans la pièce où se déroule l’animation. L’atelier dure entre 20 et 30 minutes\, selon l’attention des enfants. Les personnes qui accompagnent sont les assistantes maternelles. Nous commençons à y inclure des parents\, grands-parents\, chacun étant bien sûr invité à prolonger\, à son domicile\, ces moments de lecture plaisir. \n10h : Ateliers Créatifs \nÀ la Bibliothèque\, on ne vient pas que pour lire !\nNous vous proposons des rendez-vous réguliers sous forme d’ateliers de bricolage : pliages papier\, fabrication de doudous\, crochet… et d’autres !\nCes ateliers sont gratuits et accessibles à toutes et tous. Selon les cas\, nous pourrons vous demander quelques fois de ramener votre propre matériel.\nDates : Tous les mercredis matin de 10 h à 11 h hors vacances scolaire\nNous essaierons en fonction du succès de ces ateliers la mise en place d’expositions. \n11h : Lecture Kamishibaï \n14h30 : Conte science en partage « Changement climatique » \n17h : Cercle de Lecture \n> 1 rue Roger Pascal (entrée du public Cours Gambetta)\n Renseignements et inscriptions : 04.66.59.26.98
URL:https://www.beaucaire.fr/evenement/bibliotheque-municipale-programme-des-animations-du-mercredi-13-mars/
LOCATION:Bibliothèque Municipale\, 1 rue Roger Pascal\, Beaucaire\, 30300\, France
CATEGORIES:Événements
ATTACH;FMTTYPE=image/jpeg:https://www.beaucaire.fr/wp-content/uploads/2019/01/DSC_0159-845x321.jpg
END:VEVENT
BEGIN:VEVENT
DTSTART;TZID=Europe/Paris:20190320T100000
DTEND;TZID=Europe/Paris:20190320T170000
DTSTAMP:20260423T172104
CREATED:20190308T102158Z
LAST-MODIFIED:20190311T152453Z
UID:25708-1553076000-1553101200@www.beaucaire.fr
SUMMARY:Bibliothèque Municipale : Programme des animations du mercredi 20 mars
DESCRIPTION:Retrouvez le programme complet des animations du mercredi 20 mars à la Bibliothèque Municipale : \n  \n10h : Ateliers Créatifs \nÀ la Bibliothèque\, on ne vient pas que pour lire !\nNous vous proposons des rendez-vous réguliers sous forme d’ateliers de bricolage : pliages papier\, fabrication de doudous\, crochet… et d’autres !\nCes ateliers sont gratuits et accessibles à toutes et tous. Selon les cas\, nous pourrons vous demander quelques fois de ramener votre propre matériel.\nDates : Tous les mercredis matin de 10 h à 11 h hors vacances scolaire\nNous essaierons en fonction du succès de ces ateliers la mise en place d’expositions. \n11h : Lecture Kamishibaï \n16h : Lecture Conte \nL’heure du conte ! Pour toutes celles et ceux qui ont envie d’entendre “Il était une fois” \n> 1 rue Roger Pascal (entrée du public Cours Gambetta)\n Renseignements et inscriptions : 04.66.59.26.98
URL:https://www.beaucaire.fr/evenement/bibliotheque-municipale-programme-des-animations-du-mercredi-20-mars/
LOCATION:Bibliothèque Municipale\, 1 rue Roger Pascal\, Beaucaire\, 30300\, France
CATEGORIES:Événements
ATTACH;FMTTYPE=image/jpeg:https://www.beaucaire.fr/wp-content/uploads/2018/11/DSC_0159-845x321-1.jpg
END:VEVENT
BEGIN:VEVENT
DTSTART;TZID=Europe/Paris:20190327T100000
DTEND;TZID=Europe/Paris:20190327T170000
DTSTAMP:20260423T172104
CREATED:20190308T102702Z
LAST-MODIFIED:20190325T141338Z
UID:25709-1553680800-1553706000@www.beaucaire.fr
SUMMARY:Bibliothèque Municipale : Programme des animations du mercredi 27 mars
DESCRIPTION:Retrouvez le programme complet des animations du mercredi 27 mars à la Bibliothèque Municipale : \n  \n10h : Ateliers Créatifs \nÀ la Bibliothèque\, on ne vient pas que pour lire !\nNous vous proposons des rendez-vous réguliers sous forme d’ateliers de bricolage : pliages papier\, fabrication de doudous\, crochet… et d’autres !\nCes ateliers sont gratuits et accessibles à toutes et tous. Selon les cas\, nous pourrons vous demander quelques fois de ramener votre propre matériel.\nDates : Tous les mercredis matin de 10 h à 11 h hors vacances scolaire\nNous essaierons en fonction du succès de ces ateliers la mise en place d’expositions. \n11h : Lecture Kamishibaï \n16h : Lecture Conte \nL’heure du conte ! Pour toutes celles et ceux qui ont envie d’entendre “Il était une fois” \n> 1 rue Roger Pascal (entrée du public Cours Gambetta)\n Renseignements et inscriptions : 04.66.59.26.98
URL:https://www.beaucaire.fr/evenement/bibliotheque-municipale-programme-des-animations-du-mercredi-27-mars/
LOCATION:Bibliothèque Municipale\, 1 rue Roger Pascal\, Beaucaire\, 30300\, France
CATEGORIES:Événements
ATTACH;FMTTYPE=image/jpeg:https://www.beaucaire.fr/wp-content/uploads/2019/01/DSC_0159-845x321.jpg
END:VEVENT
BEGIN:VEVENT
DTSTART;TZID=Europe/Paris:20190329T140000
DTEND;TZID=Europe/Paris:20190329T153000
DTSTAMP:20260423T172104
CREATED:20190308T103247Z
LAST-MODIFIED:20190308T103247Z
UID:25712-1553868000-1553873400@www.beaucaire.fr
SUMMARY:Atelier Café Tricot à la bibliothèque
DESCRIPTION:Retrouvez le programme complet des animations du vendredi 29 mars à la Bibliothèque Municipale : \n14h : Atelier Café Tricot \nLa Bibliothèque n’est plus un lieu sacré où le silence et les livres règnent : c’est un vrai lieu de vie.\nLe tricot gagne en popularité actuellement et dans ce contexte les ateliers biblio-tricot fleurissent un peu partout dans l’hexagone. Nous nous lançons donc nous aussi dans l’aventure.\nDans une ambiance décontractée\, nous offrirons les boissons chaudes\, conseils\, et la bonne humeur.\nNous sortirons des étagères nos ouvrages et nous nous lancerons dans la conception d’objets divers et variés.\nCet atelier est ouvert à tous\, débutants ou non de tous âges : chacun devrait y trouver son compte.\nC’est gratuit !\nOn peut y rester dix minutes\, une heure ou plus. Vous pouvez apporter votre matériel\, ou les bibliothécaires vous prêteront le leur.\nSi le cœur vous en dit\, venez nous rejoindre !\nEt si l’idée de tricoter vous défrise\, dégainez quand même vos pelotes et faites-en don à la Bibliothèque !\nNous déciderons ensemble de ce que nous ferons de nos créations (Assos préma\, Téléthon…) \n> 1 rue Roger Pascal (entrée du public Cours Gambetta)\n Renseignements et inscriptions : 04.66.59.26.98
URL:https://www.beaucaire.fr/evenement/atelier-cafe-tricot-a-la-bibliotheque-2/
LOCATION:Bibliothèque Municipale\, 1 rue Roger Pascal\, Beaucaire\, 30300\, France
CATEGORIES:Événements
ATTACH;FMTTYPE=image/jpeg:https://www.beaucaire.fr/wp-content/uploads/2018/11/DSC_0159-845x321-1.jpg
END:VEVENT
BEGIN:VEVENT
DTSTART;TZID=Europe/Paris:20190330T100000
DTEND;TZID=Europe/Paris:20190330T180000
DTSTAMP:20260423T172104
CREATED:20190222T091900Z
LAST-MODIFIED:20190222T091900Z
UID:25288-1553940000-1553968800@www.beaucaire.fr
SUMMARY:Journée des enfants
DESCRIPTION:Après le succès de 2018\, la Mairie de Beaucaire organise de nouveau cette année la journée des enfants le samedi 30 mars 2019. \nAvec un pass’ d’une valeur de 5 euros\, chaque enfant aura accès aux manèges et à toutes les activités proposées pour le bonheur de vos enfants. Nouveauté cette année\, les chaises volantes ! \nLe prix de la carte d’accès aux jeux est de 5 euros. Ce billet devra être présenté et sera composté à chaque attraction. Cette carte ne sera ni reprise\, ni échangée. Aucun remboursement se sera effectué\, sauf en cas d’annulation de la manifestation.\nCette carte est strictement personnelle. Elle est uniquement valable pour “la journée des enfants” le samedi 30 mars 2019\, place Georges Clemenceau\, 30300 Beaucaire.\nCelle-ci donne accès à 2 tours de châteaux gonflables\, 1 pêche aux canards\, 1 atelier enfants\, 2 tour de mini scooter\, 2 tours de manège labyrinthe\, 2 tours de petit train\, 2 tours de manège enfant\, 2 tours de chaises volantes.\nLes enfants doivent impérativement être accompagnés d’un adulte.\nPour des raisons de sécurité\, il est formellement interdit d’introduire dans le site où se déroule la manifestation : des armes\, substances explosives\, inflammables ou volatiles\, objets tranchants ou contondants et d’une manière générale\, tout objet susceptible de servir de projectile ou dangereux.\nCette carte doit être conservée pendant toute la durée des 14 attractions proposées pour cette journée des enfants.\nL’organisateur de la manifestation décline toute responsabilité en cas de perte\, vol ou utilisation illicite de ce billet. \nPour plus d’informations : 04.66.59.71.05
URL:https://www.beaucaire.fr/evenement/journee-des-enfants/
LOCATION:Place Georges Clemenceau\, Place Georges Clemenceau\, Beaucaire\, 30300\, France
CATEGORIES:Événements
ATTACH;FMTTYPE=image/jpeg:https://www.beaucaire.fr/wp-content/uploads/2019/02/JOURNEE-DES-ENFANTS-2019-.jpg
END:VEVENT
BEGIN:VEVENT
DTSTART;TZID=Europe/Paris:20190330T150000
DTEND;TZID=Europe/Paris:20190330T170000
DTSTAMP:20260423T172104
CREATED:20190308T103951Z
LAST-MODIFIED:20190308T103951Z
UID:25715-1553958000-1553965200@www.beaucaire.fr
SUMMARY:Après-midi ciné goûter à la bibliothèque
DESCRIPTION:Retrouvez le programme complet des animations du samedi 30 mars à la Bibliothèque Municipale :\n\n15h : Ciné Goûter\nLe ciné goûter\, une première à la bibliothèque !\nLa bibliothèque propose d’emprunter des DVD ; d’où l’envie\, pour la structure communale de faire découvrir quelques films de ce fond\, et d’en valoriser certains\, souvent méconnus.\nDécouvrez une sélection de courts-métrages d’animation jeunesse poétiques\, émouvants et drôlement bien faits\, aussi bien pour les plus jeunes que pour les plus grands !\nGoûter partagé pour plus de convivialité !\n– 15h : accueil\, goûter\n– 15h30 – 17h : projection \n> 1 rue Roger Pascal (entrée du public Cours Gambetta)\n Renseignements et inscriptions : 04.66.59.26.98
URL:https://www.beaucaire.fr/evenement/apres-midi-cine-gouter-a-la-bibliotheque-2/
LOCATION:Bibliothèque Municipale\, 1 rue Roger Pascal\, Beaucaire\, 30300\, France
CATEGORIES:Événements
ATTACH;FMTTYPE=image/jpeg:https://www.beaucaire.fr/wp-content/uploads/2018/11/DSC_0159-845x321-1.jpg
END:VEVENT
BEGIN:VEVENT
DTSTART;TZID=Europe/Paris:20190331T150000
DTEND;TZID=Europe/Paris:20190331T170000
DTSTAMP:20260423T172104
CREATED:20190308T084310Z
LAST-MODIFIED:20190326T105014Z
UID:25687-1554044400-1554051600@www.beaucaire.fr
SUMMARY:Course Camarguaise : 1ère journée du Muguet d'Or 2019 !
DESCRIPTION:Dimanche 31 mars à 15h00 : 1ère journée du Muguet d’Or 2019 !\nLa Mairie de Beaucaire et Daniel Siméon vous ont préparé une très belle première journée.\nAu programme : Un Concours de 7 manades (précédé d’une Capelado)\, avec les cocardiers : \n• VOLTAIRE de Baumelles\n• St ÉLOI de Lagalère\n• ÉLIAS de Blatière\n• TRANCARDEL de Bon\n• SULTAN de Vellas\n• TYRION de Lautier\n• GAOU de Ricard \net les meilleurs raseteurs du moment !\n___________________________\nBilletterie en Mairie de Beaucaire ou aux Arènes le jour de la course :\n• Tarif normal : 11€\n• Tarif réduit : 6€ pour les jeunes de 12 à 16 ans ainsi que pour les retraités Beaucairois (à partir de 65 ans sous présentation d’une carte d’identité et d’un justificatif de domicile).\n• Gratuit pour les moins de 12 ans et les personnes handicapées sur présentation de la carte d’invalidité. \n\n \nRetrouvez le programme complet de la saison 2019 des courses camarguaises en cliquant ici
URL:https://www.beaucaire.fr/evenement/course-camarguaise-1ere-journee-du-muguet-dor-2019/
LOCATION:Arènes de Beaucaire\, Champ de foire\, Beaucaire\, 30300\, France Métropolitaine
CATEGORIES:Courses camarguaises,Événements
ATTACH;FMTTYPE=image/jpeg:https://www.beaucaire.fr/wp-content/uploads/2019/03/SITE-journée-1-ok.jpg
END:VEVENT
END:VCALENDAR