BEGIN:VCALENDAR
VERSION:2.0
PRODID:-//Le site officiel de la Ville de Beaucaire - ECPv6.7.0//NONSGML v1.0//EN
CALSCALE:GREGORIAN
METHOD:PUBLISH
X-ORIGINAL-URL:https://www.beaucaire.fr
X-WR-CALDESC:Évènements pour Le site officiel de la Ville de Beaucaire
REFRESH-INTERVAL;VALUE=DURATION:PT1H
X-Robots-Tag:noindex
X-PUBLISHED-TTL:PT1H
BEGIN:VTIMEZONE
TZID:Europe/Paris
BEGIN:DAYLIGHT
TZOFFSETFROM:+0100
TZOFFSETTO:+0200
TZNAME:CEST
DTSTART:20190331T010000
END:DAYLIGHT
BEGIN:STANDARD
TZOFFSETFROM:+0200
TZOFFSETTO:+0100
TZNAME:CET
DTSTART:20191027T010000
END:STANDARD
END:VTIMEZONE
BEGIN:VEVENT
DTSTART;TZID=Europe/Paris:20190501T090000
DTEND;TZID=Europe/Paris:20190501T235900
DTSTAMP:20260423T144818
CREATED:20190222T093506Z
LAST-MODIFIED:20190429T074806Z
UID:25297-1556701200-1556755140@www.beaucaire.fr
SUMMARY:American Bike (6ème édition)
DESCRIPTION:Rendez-vous le 1er mai à partir de 9h\, boulevard Maréchal Foch\, pour une 6ème édition de notre grand rassemblement festif de motos et bolides américains. \nAu programme : animations\, cascadeur à moto\, concours de tatouages\, concerts de rock\, danse country\, bénédiction des motos\, animations pour les enfants… sans oublier nos superbes Pin’Up !\nNouveauté 2019 : Show bike spectaculaire “La sphère de la mort”. \nEntrée libre et gratuite\nUn événement organisé et financé par la Mairie de Beaucaire\, en partenariat avec les Gladiators Ugernum et l’UCIA Beaucaire à Cœur (Association des commerçants). \nPour consulter le programme complet : cliquez ici \n_______________________________________________________________________________________________________ \nLe stationnement des véhicules et des cycles à l’exception des véhicules de secours\, de police\, de service\, des participants et des exposants sera interdit : \n\nDu mardi 30 avril 2019\, 20h00 au mercredi 1er mai 2019\, 24h00 :\n•sur le Boulevard Maréchal Foch\n•sur le parking situé entre la Brasserie Les Fontêtes et le Magasin U EXPRESS\n•dans la rue de la Justice section comprise entre la ruelle de la Justice et le boulevard Maréchal Foch\n•dans la rue de la Solidarité\n•dans la rue de l’Indépendance section comprise entre le n°8 et le boulevard Maréchal Foch\n•dans l’impasse des Fontêtes\n•sur la place Jean Jaurès y compris sur toutes les places de parking devant et en face de la boutique Ongl’in\n•sur le boulevard Maréchal Joffre section comprise entre le boulevard Maréchal Foch et la rue Jean-Jacques Rousseau\n•sur quatre places de stationnement du grand parking des Fontêtes afin d’y matérialiser des places pour les personnes handicapées \nDu mardi 30 avril 2019\, 8h00 au jeudi 2 mai 2019\, 12h00 :\n•sur le boulevard Maréchal Joffre section comprise entre la rue de la Gaieté et la rue Jean-Jacques Rousseau \nDu mardi 30 avril 2019\, 6h00 au mercredi 1er mai 2019\, 24h00 :\n•sur le petit parking des Fontêtes en zone bleue (les quatre places pour personnes handicapées seront matérialisées sur le grand parking des Fontêtes) \n  \n\n \n \n  \n 
URL:https://www.beaucaire.fr/evenement/beaucairoises-beaucairois-amis-bikers-et-visiteurs-american-bike-revient-cette-annee/
LOCATION:Boulevard Maréchal Foch\, Boulevard Maréchal Foch\, Beaucaire\, 30300\, France Métropolitaine
CATEGORIES:Événements
ATTACH;FMTTYPE=image/jpeg:https://www.beaucaire.fr/wp-content/uploads/2019/02/Affiche-American-Bike-V2-1.jpg
END:VEVENT
BEGIN:VEVENT
DTSTART;TZID=Europe/Paris:20190512T153000
DTEND;TZID=Europe/Paris:20190512T173000
DTSTAMP:20260423T144818
CREATED:20190308T090717Z
LAST-MODIFIED:20190511T151759Z
UID:25692-1557675000-1557682200@www.beaucaire.fr
SUMMARY:Course Camarguaise : 2ème journée du Muguet d'Or 2019 !
DESCRIPTION:Dimanche 12 mai à 15h30 : 2ème journée du Muguet d’Or 2019 ! \nLa Mairie de Beaucaire et Daniel Siméon vous ont préparé une très belle deuxième journée avec au programme \n• Les 75 ans de la manade Laurent \n• Les 35 ans de la Statue Goya \n– 15h30 : Capelado  \n– 16h00 : Super concours de manades \nCupidon & Malraux de la manade Paulin\nLebrau & Colbert de la manade Laurent\nCaruso\, Scipion & Rigau de la manade Saumade \n\net toujours avec les meilleurs raseteurs du moment ! \n___________________________\nBilletterie en Mairie de Beaucaire ou aux Arènes le jour de la course :\n• Tarif normal : 11€\n• Tarif réduit : 6€ pour les jeunes de 12 à 16 ans ainsi que pour les retraités Beaucairois (à partir de 65 ans sous présentation d’une carte d’identité et d’un justificatif de domicile).\n• Gratuit pour les moins de 12 ans et les personnes handicapées sur présentation de la carte d’invalidité. \n\n  \n\n \nRetrouvez le programme complet de la saison 2019 des courses camarguaises en cliquant ici
URL:https://www.beaucaire.fr/evenement/course-camarguaise-2eme-journee-du-muguet-dor-2019/
LOCATION:Arènes de Beaucaire\, Champ de foire\, Beaucaire\, 30300\, France Métropolitaine
CATEGORIES:Courses camarguaises,Événements
ATTACH;FMTTYPE=image/jpeg:https://www.beaucaire.fr/wp-content/uploads/2019/03/Programme-J2MO-Facebook-v3.jpg
END:VEVENT
BEGIN:VEVENT
DTSTART;TZID=Europe/Paris:20190525T110000
DTEND;TZID=Europe/Paris:20190525T123000
DTSTAMP:20260423T144818
CREATED:20190517T174716Z
LAST-MODIFIED:20190517T174929Z
UID:27439-1558782000-1558787400@www.beaucaire.fr
SUMMARY:Présentation du magazine des Estivales 2019
DESCRIPTION:Julien SANCHEZ\nMaire de Beaucaire et conseiller régional d’Occitanie\nMireille FOUGASSE\nAdjointe au Maire déléguée à la culture et aux festivités\net l’ensemble du conseil municipal ont le plaisir de vous inviter à\nla présentation du magazine des Estivales 2019\,\nle samedi 25 mai à 11h.\nCour de l’Hôtel de Ville\nPlace Georges Clemenceau\, Beaucaire\nÀ la suite de la présentation du magazine\, un apéritif sera servi à l’issue de la présentation.
URL:https://www.beaucaire.fr/evenement/presentation-du-magazine-des-estivales-2019-2/
LOCATION:Hôtel de Ville\, place Georges Clemenceau\, Beaucaire\, 30300\, France
CATEGORIES:Événements
ATTACH;FMTTYPE=image/png:https://www.beaucaire.fr/wp-content/uploads/2019/05/v2.carre-web-1200x630.png
END:VEVENT
BEGIN:VEVENT
DTSTART;TZID=Europe/Paris:20190531T190000
DTEND;TZID=Europe/Paris:20190601T190000
DTSTAMP:20260423T144818
CREATED:20190525T151649Z
LAST-MODIFIED:20190525T151649Z
UID:27610-1559329200-1559415600@www.beaucaire.fr
SUMMARY:Bandido de L'Ascension
DESCRIPTION:À l’occasion de la Foire de l’Ascension\, venez participer aux bandido de l’Ascension avec la Manade l’Amista\nParcours fermé\, départ Boulevard Maréchal Foch\n Organisé par la Mairie de Beaucaire\n Informations : 04 66 59 10 06 \n 
URL:https://www.beaucaire.fr/evenement/bandido-de-lascension/
LOCATION:Boulevard Maréchal Foch\, Boulevard Maréchal Foch\, Beaucaire\, 30300\, France Métropolitaine
CATEGORIES:Événements,Manifestations taurines
ATTACH;FMTTYPE=image/png:https://www.beaucaire.fr/wp-content/uploads/2019/05/carre-web-bandido-de-lascension.png
END:VEVENT
END:VCALENDAR