BEGIN:VCALENDAR
VERSION:2.0
PRODID:-//Le site officiel de la Ville de Beaucaire - ECPv6.7.0//NONSGML v1.0//EN
CALSCALE:GREGORIAN
METHOD:PUBLISH
X-ORIGINAL-URL:https://www.beaucaire.fr
X-WR-CALDESC:Évènements pour Le site officiel de la Ville de Beaucaire
REFRESH-INTERVAL;VALUE=DURATION:PT1H
X-Robots-Tag:noindex
X-PUBLISHED-TTL:PT1H
BEGIN:VTIMEZONE
TZID:Europe/Paris
BEGIN:DAYLIGHT
TZOFFSETFROM:+0100
TZOFFSETTO:+0200
TZNAME:CEST
DTSTART:20190331T010000
END:DAYLIGHT
BEGIN:STANDARD
TZOFFSETFROM:+0200
TZOFFSETTO:+0100
TZNAME:CET
DTSTART:20191027T010000
END:STANDARD
END:VTIMEZONE
BEGIN:VEVENT
DTSTART;TZID=Europe/Paris:20190907T100000
DTEND;TZID=Europe/Paris:20190907T180000
DTSTAMP:20260423T095358
CREATED:20190711T131523Z
LAST-MODIFIED:20190902T133038Z
UID:29544-1567850400-1567879200@www.beaucaire.fr
SUMMARY:Fête des associations
DESCRIPTION:Le samedi 7 septembre à partir de 10h à la Base Nautique Adrien Hardy\, venez à la rencontre des associations qui présentent leurs activités aux Beaucairois.\nLa journée est festive\, en musique\, et de nombreuses activités sont proposées.\nBeaucaire est une ville avec un tissu associatif important. Plus de 250 associations existent et s’impliquent dans la vie locale. \nOrganisé par le CCAS de la Ville de Beaucaire\nInformations : 04 66 59 36 35 \n> Base Nautique Adrien Hardy 20 allée du Drac\, Champ de Foire
URL:https://www.beaucaire.fr/evenement/fete-des-associations-4/
LOCATION:Base nautique municipale\, Champ de foire\, Beaucaire\, 30300\, France Métropolitaine
CATEGORIES:Événements
ATTACH;FMTTYPE=image/png:https://www.beaucaire.fr/wp-content/uploads/2019/07/Carré_Web_Fête_des_Associations.png
END:VEVENT
BEGIN:VEVENT
DTSTART;TZID=Europe/Paris:20190918T140000
DTEND;TZID=Europe/Paris:20190918T160000
DTSTAMP:20260423T095358
CREATED:20190711T135514Z
LAST-MODIFIED:20190830T164033Z
UID:29553-1568815200-1568822400@www.beaucaire.fr
SUMMARY:Portes-ouvertes de l’école de voile et multisport
DESCRIPTION:Mercredi 18 septembre de 14h à 16h\, l’école de voile et multisports ouvre ses portes. \nSéance gratuite de découverte de l’activité voile (ou multisport selon la météo) \nOrganisé par la Mairie de Beaucaire\nInformations au 04 66 59 45 42 ou au 06 11 36 53 51 – base.nautique@beaucaire.fr \n\n> Base Nautique Adrien Hardy 20 allée du Drac\, Champ de Foire
URL:https://www.beaucaire.fr/evenement/portes-ouvertes-de-lecole-de-voile-et-multisport/
LOCATION:Base nautique municipale\, Champ de foire\, Beaucaire\, 30300\, France Métropolitaine
CATEGORIES:Événements
ATTACH;FMTTYPE=image/jpeg:https://www.beaucaire.fr/wp-content/uploads/2019/07/PORTES-OUVERTES-ECOLE-DE-VOILE-BASE-NAUTIQUE-2.jpg
END:VEVENT
BEGIN:VEVENT
DTSTART;TZID=Europe/Paris:20190921T100000
DTEND;TZID=Europe/Paris:20190922T200000
DTSTAMP:20260423T095358
CREATED:20190918T120512Z
LAST-MODIFIED:20190920T124917Z
UID:35143-1569060000-1569182400@www.beaucaire.fr
SUMMARY:Journées nationales du Patrimoine
DESCRIPTION:Vendredi 20 septembre à 16h00\nUne visite\, un artiste\n« Le cabinet des curiosités selon Hubert Passe ». Visite guidée de l’exposition « Le Musée sort de sa réserve : objets insolites\, objets du quotidien » suivie de la rencontre avec l’artiste Hubert Passe et la découverte de son atelier.\nExposition visible jusqu’au 30 avril 2020\n>  Accueil du Musée Auguste Jacquet\, Château de Beaucaire\, Place Raimond VII\n\n  \n\nVendredi 20 septembre 2019 à 18h00\nVernissage de l’exposition : aspects insolites de Saint-Roman\nExposition proposée par l’Association Renaissance du Vieux Beaucaire.\n> 6 rue des Bijoutiers\n\n  \nSamedi et dimanche – de 10h00 à 18h00\nJeux en bois – Réalisés par les élèves de la section menuiserie du lycée Paul Langevin de Beaucaire\n> Musée Auguste Jacquet\, Château de Beaucaire\, Place Raimond VII\n  \n\nSamedi 21 septembre à 16h30\nSylvain Demarthe\, Docteur en histoire de l’art\, spécialiste de l’architecture romane\, gothique et cistercienne vous propose une visite commentée de l’exposition « Saint-Roman de l’Aiguille »\nExposition visible jusqu’au 30 avril 2020\n\n> Maison du Tourisme et du Patrimoine\, 8 rue Victor Hugo\n  \nDimanche 22 septembre – De 10h00 à 18h00\nJournée historique médiévale : à l’assaut de la forteresse\nAvec la SARL ACTA\, la forteresse médiévale de Beaucaire s’anime et vous propose de nombreuses activités pour découvrir la vie quotidienne au XIIIe siècle\n> Partie haute de la forteresse\, Château de Beaucaire\, Place Raimond VII\n  \nDimanche 22 septembre à 10h00\nVisite guidée : les incontournables de Beaucaire\nLe temps d’une visite\, laissez-vous conter l’histoire des plus beaux monuments de Beaucaire : mes hôtels particuliers et les belles demeures\, la collégiale Notre-Dame des Pommiers\, l’église Saint-Paul\, l’Hôtel de Ville… et bien d’autres surprises !\n> Maison du Tourisme et du Patrimoine\, 8 rue Victor Hugo\n  \n\nDimanche 22 septembre à 14h30\nVisite guidé théâtralisée et costumée : le Beaucaire d’autrefois\nAvec la participation des associations Dubois et ses frisons\, Escolo de Tradicioun de Bèu-Caire\, Flour d’Inmourtalo\, La Country Tarasconnaise\, La Princesse Barouline et son orgue de Barbarie\, Le Quai des Arts\, Soie et Velours d’Argence et ZumaÏ… Le service culture et patrimoine de la Communauté de communes Beaucaire Terre d’Argence vous propose une balade pour découvrir l’histoire de la ville de Beaucaire\, de la fin du XIXe siècle au début du siècle suivant.\n> Place Raimond VII\n\n  \n\nSamedi 21 et dimanche 22 septembre – De 10h00 à 12h00 et de 14h00 à 18h00\nExposition : aspects insolites de Saint-Roman\nExposition proposée par l’Association Renaissance du Vieux Beaucaire.\nVernissage de l’exposition le vendredi 20 septembre 2019 à 18h00\n> 6 rue des Bijoutiers\n\n  \nOUVERTURE DES MONUMENTS – ACCÈS LIBRE ET GRATUIT\n\n\nHôtel de Ville – Samedi 21 et dimanche 22 septembre de 10h00 à 12h00 et de 14h00 à 18h00 – Ouverture proposée par l’association Renaissance du Vieux Beaucaire > Place Georges Clemenceau\nEglise Saint-Paul – Samedi 21 et dimanche 22 septembre de 10h00 à 12h00 et de 14h00 à 17h00 – Ouverture proposée par la Confrérie Sainte Marie-Madeleine > Impasse Saint-Paul\, rue de l’Hôtel de Ville\nCollégiale Notre-Dame des Pommiers – Samedi 21 septembre de 10h00 à 12h00 et de 14h00 à 17h00 et dimanche 22 septembre de 14h00 à 17h00 – Ouverture proposée par la Confrérie Sainte Marie-Madeleine > Place Olivier Lombard\, rue Ledru Rollin\nLe Temple protestant – Samedi 21 et dimanche 22 septembre de 14h00 à 18h00 > Rue Rabaud-Saint-Etienne\nLe Site de la Forteresse – Samedi 21 et dimanche 22 septembre de 09h30 à 18h00 > Château de Beaucaire\, Place Raimond VII\nLe Musée d’Histoire et d’Archéologie Auguste Jacquet – Samedi 21 septembre de 09h30 à 12h00 et de 14h00 à 18h00 et dimanche 22 septembre de 09h30 à 18h00 > Château de Beaucaire\, Place Raimond VII\nLa Maison du Tourisme et du Patrimoine – Samedi 21 septembre et dimanche 22 septembre de 09h30 à 12h30 et de 14h00 à 18h00 > 8 rue Victor Hugo
URL:https://www.beaucaire.fr/evenement/journee-du-patrimoine/
LOCATION:Beaucaire\, Beaucaire\, 30300\, France Métropolitaine
CATEGORIES:Événements
ATTACH;FMTTYPE=image/jpeg:https://www.beaucaire.fr/wp-content/uploads/2019/09/CHATEAU-VUES-AVRIL-2014-6.jpg
END:VEVENT
BEGIN:VEVENT
DTSTART;TZID=Europe/Paris:20190927T183000
DTEND;TZID=Europe/Paris:20190927T210000
DTSTAMP:20260423T095358
CREATED:20190711T143703Z
LAST-MODIFIED:20190919T121210Z
UID:29563-1569609000-1569618000@www.beaucaire.fr
SUMMARY:Remise des prix du concours photo organisé dans le cadre des Fêtes de la Madeleine
DESCRIPTION:Julien Sanchez\, Maire de Beaucaire\, Mireille Fougasse\, adjointe au Maire déléguée à la culture et l’ensemble du conseil municipal vous convient à la remise des prix du concours photo organisé dans le cadre des Fêtes de la Madeleine le vendredi 27 septembre à 18 h 30 à la salle d’exposition\, 27 bis quai Général de Gaulle. \nPour l’occasion\, l’association Photo Instant vous fera découvrir sa toute nouvelle exposition ! \nUn apéritif sera servi à l’issue de la remise des prix. \nOrganisé par la Mairie de Beaucaire\nInformations au 04 66 59 10 06 \n\n> Salle d’exposition\, 27 bis quai Général de Gaulle
URL:https://www.beaucaire.fr/evenement/remise-des-prix-du-concours-photo-organise-dans-le-cadre-des-estivales/
LOCATION:Salle des expositions\, 27 bis quai du général de Gaulle\, Beaucaire\, 30300\, France Métropolitaine
CATEGORIES:Événements,Remise des prix
ATTACH;FMTTYPE=image/png:https://www.beaucaire.fr/wp-content/uploads/2019/07/carré-web-CONCOURS-PHOTOS-Remise-des-prix.png
END:VEVENT
BEGIN:VEVENT
DTSTART;TZID=Europe/Paris:20190928T140000
DTEND;TZID=Europe/Paris:20190928T213000
DTSTAMP:20260423T095358
CREATED:20190711T140647Z
LAST-MODIFIED:20190830T164028Z
UID:29557-1569679200-1569706200@www.beaucaire.fr
SUMMARY:La Gambade de Saint-Roman
DESCRIPTION:Chaque année depuis maintenant 15 ans\, l’Association “Courir à Beaucaire” organise cet événement sportif auquel de plus en plus de gardois prennent part. La Gambade de Saint-Roman\, course populaire renommée\, est organisée en partenariat avec la Mairie de Beaucaire\, qui met à contribution ses services techniques\, le service des sports et la police municipale pour le bon déroulement de cette manifestation à succès.  \nCourse pédestre : \n– 10km pour les marcheurs. Départ à 14h : tous types de marche\, non chronométré \n– 12.8 Km. Départ à 16h : peu de bitume et un sentier 90 % nature qui vous mènera au massif de Saint-Roman\, d’où vous pourrez découvrir une très belle vue sur le géant de Provence. 2 ravitaillements. Récompenses scratch et 3 premiers de chaque catégorie. Une bouteille d’huile d’olive sera offerte aux 300 premiers inscrits. \n– 5.8 Km. Départ à 16h15 : 100 % plat\, alliant route et nature avec un passage sur la Voie Verte. Un ravitaillement. Récompenses scratch et premier de chaque catégorie. \nTarifs : de 8 à 11€ selon la compétition. \nOrganisé par l’association Courir à Beaucaire en partenariat avec la Mairie de Beaucaire.Informations au 06 19 71 25 80 ou au 06 80 33 95 54 – cab@cabeaucaire.fr\nInscriptions sur endurancechrono.com\nDéparts du Casino Municipal\, 1 allée du Casino \n \n  \n 
URL:https://www.beaucaire.fr/evenement/la-gambade-de-saint-roman/
LOCATION:Casino Municipal\, 1\, allée du Casino\, Beaucaire\, 30300\, France
CATEGORIES:Événements,Sports
ATTACH;FMTTYPE=image/jpeg:https://www.beaucaire.fr/wp-content/uploads/2019/07/gambade-de-saint-roman-beaucaire-14.jpg
END:VEVENT
END:VCALENDAR