BEGIN:VCALENDAR
VERSION:2.0
PRODID:-//Le site officiel de la Ville de Beaucaire - ECPv6.7.0//NONSGML v1.0//EN
CALSCALE:GREGORIAN
METHOD:PUBLISH
X-ORIGINAL-URL:https://www.beaucaire.fr
X-WR-CALDESC:Évènements pour Le site officiel de la Ville de Beaucaire
REFRESH-INTERVAL;VALUE=DURATION:PT1H
X-Robots-Tag:noindex
X-PUBLISHED-TTL:PT1H
BEGIN:VTIMEZONE
TZID:Europe/Paris
BEGIN:DAYLIGHT
TZOFFSETFROM:+0100
TZOFFSETTO:+0200
TZNAME:CEST
DTSTART:20210328T010000
END:DAYLIGHT
BEGIN:STANDARD
TZOFFSETFROM:+0200
TZOFFSETTO:+0100
TZNAME:CET
DTSTART:20211031T010000
END:STANDARD
END:VTIMEZONE
BEGIN:VEVENT
DTSTART;TZID=Europe/Paris:20210918T080000
DTEND;TZID=Europe/Paris:20210919T170000
DTSTAMP:20260419T211547
CREATED:20210907T140350Z
LAST-MODIFIED:20210907T140350Z
UID:51324-1631952000-1632070800@www.beaucaire.fr
SUMMARY:Journées Européennes du Patrimoine
DESCRIPTION:La Ville de Beaucaire s’associe à l’association Renaissance du Vieux Beaucaire\npour fêter cette année les 20 ans de la labellisation de Beaucaire « Ville d’art et\nd’Histoire » ainsi que les 20 ans de l’approbation du plan de sauvegarde et de mise\nen valeur du Site Patrimonial remarquable. A cette occasion une exposition photos\,\ndans la cour de l’Hôtel de Ville\, vous permettra de découvrir des détails de la\nriche architecture beaucairoise. Rendez-vous également tout le week-end dans les\nlocaux de l’association Renaissance du Vieux Beaucaire pour la suite de la découverte\n(6 rue des Bijoutiers\, Beaucaire). La bibliothèque municipale vous propose\négalement une exposition sur le sujet ainsi qu’une sélection d’ouvrages sur l’histoire\net le patrimoine de la ville.\nPlus d’informations au 04 66 59 26 98.
URL:https://www.beaucaire.fr/evenement/journees-europeennes-du-patrimoine/
LOCATION:Beaucaire\, Beaucaire\, 30300\, France Métropolitaine
CATEGORIES:Événements,Traditions
ATTACH;FMTTYPE=image/jpeg:https://www.beaucaire.fr/wp-content/uploads/Panorama-sans-titre1-1-1-scaled.jpg
END:VEVENT
BEGIN:VEVENT
DTSTART;TZID=Europe/Paris:20210926T090000
DTEND;TZID=Europe/Paris:20210926T120000
DTSTAMP:20260419T211547
CREATED:20210907T142752Z
LAST-MODIFIED:20210907T142752Z
UID:51336-1632646800-1632657600@www.beaucaire.fr
SUMMARY:La Gambade de Saint-Roman
DESCRIPTION:Chaque année depuis maintenant plus de 15 ans\, l’Association “Courir à Beaucaire” organise cet événement sportif auquel de plus en plus de gardois prennent part. La Gambade de Saint-Roman\, course populaire renommée\, est organisée en partenariat avec la Mairie de Beaucaire\, qui met à contribution ses services techniques\, le service des sports et la police municipale pour le bon déroulement de cette manifestation à succès. \nAnimations enfants dès 9h. \n– 10 km marche nordique chronométrée. Départ à 10h.\n– 12.8 Km. Départ à 10h : peu de bitume et un sentier 90 %nature qui vous mènera au massif de Saint-Roman\, d’où vous pourrez découvrir une très belle vue sur le géant de Provence. 2 ravitaillements. Récompenses scratch et 3 premiers de chaque catégorie jusqu’à sénior. Une bouteille d’huile d’olive sera offerte aux 300 premiers inscrits.\n– 5.8 Km. Départ à 10h15 : 100 % plat\, alliant route et nature avec un passage sur la Voie Verte. Un ravitaillement. Récompenses scratch et premier de chaque catégorie. \nOrganisée par l’association Courir à Beaucaire en partenariat avec la Mairie de Beaucaire. \nInformations au 06 19 71 25 80 ou au 06 08 48 53 27.\ncab@cabeaucaire.fr \nInscriptions sur endurancechrono.com
URL:https://www.beaucaire.fr/evenement/la-gambade-de-saint-roman-2/
LOCATION:Casino Municipal\, 1\, allée du Casino\, Beaucaire\, 30300\, France
CATEGORIES:Événements,Sports
ATTACH;FMTTYPE=image/jpeg:https://www.beaucaire.fr/wp-content/uploads/2019/10/Gambade-de-Saint-Roman-2019-Beaucaire-47.jpg
END:VEVENT
BEGIN:VEVENT
DTSTART;TZID=Europe/Paris:20210930T100000
DTEND;TZID=Europe/Paris:20211002T170000
DTSTAMP:20260419T211547
CREATED:20210929T130648Z
LAST-MODIFIED:20210929T130648Z
UID:52193-1632996000-1633194000@www.beaucaire.fr
SUMMARY:Grande braderie de livres
DESCRIPTION:La Mairie de Beaucaire vous invite à participer à la cinquième grande braderie de livres de la bibliothèque municipale les 30 septembre\, 1 et 2 octobre 2021 (10h-17h). \nRomans\, albums jeunesse\, bandes dessinées\, magazines… genres et thèmes variés de livres venant du fond de la Bibliothèque municipale seront mis en vente. De quoi remplir sa bibliothèque personnelle et faire le plein de livres pour la rentrée. Une opération qui permet à la bibliothèque d’actualiser ses collections\, de favoriser l’accès à la lecture et de donner une seconde vie aux ouvrages. \nBibliothèque municipale\nAngle rue Roger Pascal / Cours Gambetta \nEntrée soumise au Pass sanitaire\nPlus d’infos : 04.66.59.26.98
URL:https://www.beaucaire.fr/evenement/grande-braderie-de-livres-4/
LOCATION:Bibliothèque Municipale\, 1 rue Roger Pascal\, Beaucaire\, 30300\, France
CATEGORIES:Culture,Événements
ATTACH;FMTTYPE=image/png:https://www.beaucaire.fr/wp-content/uploads/braderie-de-livres-2021.png
END:VEVENT
END:VCALENDAR