BEGIN:VCALENDAR
VERSION:2.0
PRODID:-//Le site officiel de la Ville de Beaucaire - ECPv6.7.0//NONSGML v1.0//EN
CALSCALE:GREGORIAN
METHOD:PUBLISH
X-ORIGINAL-URL:https://www.beaucaire.fr
X-WR-CALDESC:Évènements pour Le site officiel de la Ville de Beaucaire
REFRESH-INTERVAL;VALUE=DURATION:PT1H
X-Robots-Tag:noindex
X-PUBLISHED-TTL:PT1H
BEGIN:VTIMEZONE
TZID:UTC
BEGIN:STANDARD
TZOFFSETFROM:+0000
TZOFFSETTO:+0000
TZNAME:UTC
DTSTART:20160101T000000
END:STANDARD
END:VTIMEZONE
BEGIN:VEVENT
DTSTART;TZID=UTC:20160827T100000
DTEND;TZID=UTC:20160828T030000
DTSTAMP:20260425T191405
CREATED:20160801T091037Z
LAST-MODIFIED:20160803T101217Z
UID:3441-1472292000-1472353200@www.beaucaire.fr
SUMMARY:Fête votive de Garrigues Planes
DESCRIPTION:Chaque année\, le quartier Garrigues Planes fait sa fête votive… et c’est un événement incontournable à Beaucaire ! \n11h00\nAbrivado avec la Manade l’Amista \n13h00\nApéritif \n18h00\nBandido \nDès 20h00\nSoirée festive \n  \nMISE EN GARDE\nLes taureaux\, les vaches et les petits veaux demeurent des animaux sauvages et dangereux.\nCliquez ici pour consulter les règles de sécurité à respecter lors des manifestations taurines.
URL:https://www.beaucaire.fr/evenement/fete-votive-de-garrigues-planes/
LOCATION:Ecole de Garrigues Planes\, Quartier Garrigues Planes\, Beaucaire\, 30300\, France Métropolitaine
CATEGORIES:Événements
ATTACH;FMTTYPE=image/jpeg:https://www.beaucaire.fr/wp-content/uploads/2016/08/DSC_0437.jpg
END:VEVENT
END:VCALENDAR