BEGIN:VCALENDAR
VERSION:2.0
PRODID:-//Le site officiel de la Ville de Beaucaire - ECPv6.7.0//NONSGML v1.0//EN
CALSCALE:GREGORIAN
METHOD:PUBLISH
X-ORIGINAL-URL:https://www.beaucaire.fr
X-WR-CALDESC:Évènements pour Le site officiel de la Ville de Beaucaire
REFRESH-INTERVAL;VALUE=DURATION:PT1H
X-Robots-Tag:noindex
X-PUBLISHED-TTL:PT1H
BEGIN:VTIMEZONE
TZID:UTC
BEGIN:STANDARD
TZOFFSETFROM:+0000
TZOFFSETTO:+0000
TZNAME:UTC
DTSTART:20160101T000000
END:STANDARD
END:VTIMEZONE
BEGIN:VEVENT
DTSTART;TZID=UTC:20160928T140000
DTEND;TZID=UTC:20160928T190000
DTSTAMP:20260425T173213
CREATED:20160927T132734Z
LAST-MODIFIED:20160927T133118Z
UID:5034-1475071200-1475089200@www.beaucaire.fr
SUMMARY:Les après-midis dansants
DESCRIPTION:La Ville de Beaucaire et son CCAS proposent des après-midis dansants gratuits.\nProchain rendez-vous : ce mercredi 28 septembre à 14h00 ! \nRendez-vous suivant : mercredi 16 novembre à 14h00 !\n\n\nGoûter et animations offert par le C.C.A.S. et la Ville de Beaucaire.
URL:https://www.beaucaire.fr/evenement/apres-midi-dansants/
LOCATION:Casino Municipal\, 1\, allée du Casino\, Beaucaire\, 30300\, France
CATEGORIES:Événements
ATTACH;FMTTYPE=image/png:https://www.beaucaire.fr/wp-content/uploads/2016/09/apremdansant.png
END:VEVENT
END:VCALENDAR