BEGIN:VCALENDAR
VERSION:2.0
PRODID:-//Le site officiel de la Ville de Beaucaire - ECPv6.7.0//NONSGML v1.0//EN
CALSCALE:GREGORIAN
METHOD:PUBLISH
X-ORIGINAL-URL:https://www.beaucaire.fr
X-WR-CALDESC:Évènements pour Le site officiel de la Ville de Beaucaire
REFRESH-INTERVAL;VALUE=DURATION:PT1H
X-Robots-Tag:noindex
X-PUBLISHED-TTL:PT1H
BEGIN:VTIMEZONE
TZID:UTC
BEGIN:STANDARD
TZOFFSETFROM:+0000
TZOFFSETTO:+0000
TZNAME:UTC
DTSTART:20160101T000000
END:STANDARD
END:VTIMEZONE
BEGIN:VEVENT
DTSTART;VALUE=DATE:20161209
DTEND;VALUE=DATE:20161212
DTSTAMP:20260425T133748
CREATED:20161017T061051Z
LAST-MODIFIED:20161115T053544Z
UID:5641-1481241600-1481500799@www.beaucaire.fr
SUMMARY:Marché de Noël
DESCRIPTION:Les 9\,10 et 11 décembre 2016\, la Ville de Beaucaire organise son Marché de Noël.\nAu programme : marché de Noël\, fête foraine\, animations et spectacles pour les enfants\, grande ferme aux animaux et beaucoup de surprises…\n\nConsultez ici le programme complet
URL:https://www.beaucaire.fr/evenement/marche-de-noel/
LOCATION:Place Georges Clemenceau\, Place Georges Clemenceau\, Beaucaire\, 30300\, France
CATEGORIES:Événements
ATTACH;FMTTYPE=image/png:https://www.beaucaire.fr/wp-content/uploads/2016/10/marché-de-noel-1.png
END:VEVENT
END:VCALENDAR