BEGIN:VCALENDAR
VERSION:2.0
PRODID:-//Le site officiel de la Ville de Beaucaire - ECPv6.7.0//NONSGML v1.0//EN
CALSCALE:GREGORIAN
METHOD:PUBLISH
X-ORIGINAL-URL:https://www.beaucaire.fr
X-WR-CALDESC:Évènements pour Le site officiel de la Ville de Beaucaire
REFRESH-INTERVAL;VALUE=DURATION:PT1H
X-Robots-Tag:noindex
X-PUBLISHED-TTL:PT1H
BEGIN:VTIMEZONE
TZID:UTC
BEGIN:STANDARD
TZOFFSETFROM:+0000
TZOFFSETTO:+0000
TZNAME:UTC
DTSTART:20160101T000000
END:STANDARD
END:VTIMEZONE
BEGIN:VEVENT
DTSTART;TZID=UTC:20161219T190000
DTEND;TZID=UTC:20161219T200000
DTSTAMP:20260425T132322
CREATED:20161206T071127Z
LAST-MODIFIED:20161213T161044Z
UID:6728-1482174000-1482177600@www.beaucaire.fr
SUMMARY:Remise des prix du Concours de Noël
DESCRIPTION:Lundi 19 décembre à 19h00\, le Maire de Beaucaire et les membres du conseil municipal vous convient à la remise des prix du Concours de Noël 2016 qui se déroulera au conservatoire municipal. \nCe concours met à contribution les Beaucairois à la décoration de leur ville et à la magie de Noël dans 4 catégories : crèches intérieures\, illuminations des bateaux\, illuminations des maisons (façade\, balcon\, jardin) et décoration des vitrines de commerces.\nChaque année\, les gagnants ne manquent pas d’imagination pour embellir notre ville\, enchanter le cœur et émerveiller le regard de nos concitoyens lors des fêtes de Noël. \nLes lauréats sont récompensés en chèques Fédébon\, à utiliser chez les commerçants Beaucairois\, afin d’encourager le commerce local. \n  \n> Conservatoire municipal \nPlace Georges Clemenceau \n30300 Beaucaire
URL:https://www.beaucaire.fr/evenement/remise-prix-concours-de-noel/
LOCATION:Conservatoire\, Place Georges Clemenceau\, Beaucaire\, 30300\, France
CATEGORIES:Événements
ATTACH;FMTTYPE=image/png:https://www.beaucaire.fr/wp-content/uploads/2016/12/concours-noel.png
END:VEVENT
END:VCALENDAR