BEGIN:VCALENDAR
VERSION:2.0
PRODID:-//Le site officiel de la Ville de Beaucaire - ECPv6.7.0//NONSGML v1.0//EN
CALSCALE:GREGORIAN
METHOD:PUBLISH
X-ORIGINAL-URL:https://www.beaucaire.fr
X-WR-CALDESC:Évènements pour Le site officiel de la Ville de Beaucaire
REFRESH-INTERVAL;VALUE=DURATION:PT1H
X-Robots-Tag:noindex
X-PUBLISHED-TTL:PT1H
BEGIN:VTIMEZONE
TZID:Europe/Paris
BEGIN:DAYLIGHT
TZOFFSETFROM:+0100
TZOFFSETTO:+0200
TZNAME:CEST
DTSTART:20170326T010000
END:DAYLIGHT
BEGIN:STANDARD
TZOFFSETFROM:+0200
TZOFFSETTO:+0100
TZNAME:CET
DTSTART:20171029T010000
END:STANDARD
END:VTIMEZONE
BEGIN:VEVENT
DTSTART;TZID=Europe/Paris:20170603T153000
DTEND;TZID=Europe/Paris:20170604T230000
DTSTAMP:20260425T051843
CREATED:20170411T135209Z
LAST-MODIFIED:20170531T092125Z
UID:9223-1496503800-1496617200@www.beaucaire.fr
SUMMARY:Chante à Beaucaire
DESCRIPTION:Les 3 et 4 juin 2017\, la Mairie de Beaucaire organise « Chante à Beaucaire »\, un weekend dédié au chant. \nLe samedi sera consacré à un grand concours\, inspiré de célèbres télé crochets\, en présence d’Eve Angeli. Le dimanche\, quant à lui\, sera consacré à un jeu musical\, sur le thème de Claude François\, destiné aux plus jeunes\, et inspiré de la célèbre école des fans. \nAvec cette nouveauté\, la Mairie de Beaucaire souhaite proposer un weekend festif et musical\, et révéler de nouveaux talents. \nLe concours de chant du samedi :\nOuvert à tous à partir de 12 ans\, amateurs ou confirmés\, sont invités à s’inscrire jusqu’au 15 avril afin de participer à la présélection qui permettra de participer au concours du 3 juin prochain.\nAprès une sélection de 30 à 40 candidats et le vote du public en ligne et chez les commerçants Beaucairois\, les prétendants au titre de chanteur de l’année interpréteront leur morceau devant notre jury et le public.\nLe grand vainqueur de cette première édition repartira avec un prix mais également avec une Première partie d’un show lors des estivales de Beaucaire 2017\, ainsi que l’envoi de son enregistrement à Bruno Berbères\, directeur du casting de l’émission « The Voice et The Voice Kids ». \nInformations et inscriptions : reglement concours de chant BEAUCAIRE \nChanteurs en herbe :\nOuvert aux moins de 8 ans\, ce mini-concours de chant de type « école des fans » proposera une journée en hommage à Claude François avec un grand show du sosie officiel du chanteur légendaire et ses meilleurs morceaux interprétés par la toute jeune génération. \nPlus d’informations au 04.66.59.71.05 \n  \nHoraires : \n> Samedi 3 juin (place de la République)\n15h30 : Demie-finale\n21h00 : GRANDE FINALE avec Eve Angeli\nPour la grande finale\, pensez à réserver votre table chez les restaurateurs de la place de la République ! \n> Dimanche 4 juin (place de la République)\n17h00 : Chanteurs en herbe
URL:https://www.beaucaire.fr/evenement/chante-a-beaucaire/
LOCATION:Place de la République\, Place de la République\, Beaucaire\, 30300
CATEGORIES:Culture,Événements
ATTACH;FMTTYPE=image/jpeg:https://www.beaucaire.fr/wp-content/uploads/2017/04/chante-a-beaucaire.jpg
END:VEVENT
END:VCALENDAR