BEGIN:VCALENDAR
VERSION:2.0
PRODID:-//Le site officiel de la Ville de Beaucaire - ECPv6.7.0//NONSGML v1.0//EN
CALSCALE:GREGORIAN
METHOD:PUBLISH
X-ORIGINAL-URL:https://www.beaucaire.fr
X-WR-CALDESC:Évènements pour Le site officiel de la Ville de Beaucaire
REFRESH-INTERVAL;VALUE=DURATION:PT1H
X-Robots-Tag:noindex
X-PUBLISHED-TTL:PT1H
BEGIN:VTIMEZONE
TZID:Europe/Paris
BEGIN:DAYLIGHT
TZOFFSETFROM:+0100
TZOFFSETTO:+0200
TZNAME:CEST
DTSTART:20170326T010000
END:DAYLIGHT
BEGIN:STANDARD
TZOFFSETFROM:+0200
TZOFFSETTO:+0100
TZNAME:CET
DTSTART:20171029T010000
END:STANDARD
END:VTIMEZONE
BEGIN:VEVENT
DTSTART;TZID=Europe/Paris:20170617T200000
DTEND;TZID=Europe/Paris:20170617T230000
DTSTAMP:20260425T051844
CREATED:20170103T135236Z
LAST-MODIFIED:20170124T124355Z
UID:7464-1497729600-1497740400@www.beaucaire.fr
SUMMARY:Les soirées dansantes
DESCRIPTION:Avec le succès des après-midis dansantes\, la Ville de Beaucaire et son CCAS vous proposent en cette année 2017\, en plus des après-midis dansantes\, des soirées dansantes gratuites. \nAnimations offertes par le C.C.A.S. et la Ville de Beaucaire.
URL:https://www.beaucaire.fr/evenement/les-soirees-dansantes/
LOCATION:Casino Municipal\, 1\, allée du Casino\, Beaucaire\, 30300\, France
CATEGORIES:Événements
ATTACH;FMTTYPE=image/jpeg:https://www.beaucaire.fr/wp-content/uploads/2017/01/aprem-dansants-1.jpg
END:VEVENT
END:VCALENDAR