BEGIN:VCALENDAR
VERSION:2.0
PRODID:-//Le site officiel de la Ville de Beaucaire - ECPv6.7.0//NONSGML v1.0//EN
CALSCALE:GREGORIAN
METHOD:PUBLISH
X-ORIGINAL-URL:https://www.beaucaire.fr
X-WR-CALDESC:Évènements pour Le site officiel de la Ville de Beaucaire
REFRESH-INTERVAL;VALUE=DURATION:PT1H
X-Robots-Tag:noindex
X-PUBLISHED-TTL:PT1H
BEGIN:VTIMEZONE
TZID:Europe/Paris
BEGIN:DAYLIGHT
TZOFFSETFROM:+0100
TZOFFSETTO:+0200
TZNAME:CEST
DTSTART:20170326T010000
END:DAYLIGHT
BEGIN:STANDARD
TZOFFSETFROM:+0200
TZOFFSETTO:+0100
TZNAME:CET
DTSTART:20171029T010000
END:STANDARD
END:VTIMEZONE
BEGIN:VEVENT
DTSTART;VALUE=DATE:20170630
DTEND;VALUE=DATE:20170703
DTSTAMP:20260425T040144
CREATED:20170105T104127Z
LAST-MODIFIED:20170105T104127Z
UID:7472-1498780800-1499039999@www.beaucaire.fr
SUMMARY:Les Rencontres Équestres
DESCRIPTION:Les Rencontres Équestres se tiennent du vendredi 30 juin au dimanche 2 juillet 2017. Comme chaque année\, c’est lors du premier week-end de juillet\, sur le champ de foire\, aux abords du Rhône\, à l’ombre des très nombreux platanes\, que ce déroule cet événement majeur.\nCette grande manifestation\, qui rayonne bien au-delà de nos frontières\, rassemble plus de 500 chevaux (venus d’Espagne\, du Portugal\, de France et de Belgique…)\, ce qui en fait l’un des plus grands rassemblement de chevaux d’Europe. \nPendant 3 jours\, du vendredi au dimanche\, les Rencontres Équestres de Beaucaire accueillent de prestigieuses compétitions : championnat de France « modèle et allure »\, concours d’équitation western « barrel racing »\, master du cheval ibérique (dressage)\, concours de jeunes talents\,… \nAu-delà de ces compétitions\, le public peut participer à de nombreuses initiations\, flâner entre les boxes\, profiter des promenades gratuites en calèche\, découvrir un marché paysan Sud de France et assister aux représentations et au grand spectacle nocturne équestre du samedi soir (particulièrement beau) tout en dînant sur place pendant ce temps. \nDepuis 2015\, à la demande du Maire\, les enfants ne sont pas en reste avec un espace qui leur est dédié. Et\, bonne nouvelle\, tout est entièrement gratuit !
URL:https://www.beaucaire.fr/evenement/les-rencontres-equestres/
LOCATION:Champ de foire\, Champ de foire\, Beaucaire\, 30300\, France
CATEGORIES:Événements
ATTACH;FMTTYPE=image/png:https://www.beaucaire.fr/wp-content/uploads/2017/01/rencontresequestres.png
END:VEVENT
END:VCALENDAR