BEGIN:VCALENDAR
VERSION:2.0
PRODID:-//Le site officiel de la Ville de Beaucaire - ECPv6.7.0//NONSGML v1.0//EN
CALSCALE:GREGORIAN
METHOD:PUBLISH
X-ORIGINAL-URL:https://www.beaucaire.fr
X-WR-CALDESC:Évènements pour Le site officiel de la Ville de Beaucaire
REFRESH-INTERVAL;VALUE=DURATION:PT1H
X-Robots-Tag:noindex
X-PUBLISHED-TTL:PT1H
BEGIN:VTIMEZONE
TZID:Europe/Paris
BEGIN:DAYLIGHT
TZOFFSETFROM:+0100
TZOFFSETTO:+0200
TZNAME:CEST
DTSTART:20170326T010000
END:DAYLIGHT
BEGIN:STANDARD
TZOFFSETFROM:+0200
TZOFFSETTO:+0100
TZNAME:CET
DTSTART:20171029T010000
END:STANDARD
END:VTIMEZONE
BEGIN:VEVENT
DTSTART;TZID=Europe/Paris:20170713T183000
DTEND;TZID=Europe/Paris:20170713T203000
DTSTAMP:20260425T040305
CREATED:20170712T131655Z
LAST-MODIFIED:20170712T131655Z
UID:10376-1499970600-1499977800@www.beaucaire.fr
SUMMARY:Remise de prix du concours de fleurissement
DESCRIPTION:Julien Sanchez\, Maire de Beaucaire et M. Yvan Corbière\, adjoint à l’environnement et aux espaces verts\, ainsi que l’ensemble du Conseil Municipal\, vous convient à la remise des prix du concours de fleurissement de la ville. \n> Rendez-vous à 18h30\, Cour de l’Hôtel de Ville\, Place Georges Clemenceau
URL:https://www.beaucaire.fr/evenement/remise-de-prix-concours-de-fleurissement/
LOCATION:Hôtel de Ville\, place Georges Clemenceau\, Beaucaire\, 30300\, France
CATEGORIES:Événements
ATTACH;FMTTYPE=image/png:https://www.beaucaire.fr/wp-content/uploads/2017/07/invitation-concours-de-fleurissement-02-1.png
END:VEVENT
END:VCALENDAR