BEGIN:VCALENDAR
VERSION:2.0
PRODID:-//Le site officiel de la Ville de Beaucaire - ECPv6.7.0//NONSGML v1.0//EN
CALSCALE:GREGORIAN
METHOD:PUBLISH
X-ORIGINAL-URL:https://www.beaucaire.fr
X-WR-CALDESC:Évènements pour Le site officiel de la Ville de Beaucaire
REFRESH-INTERVAL;VALUE=DURATION:PT1H
X-Robots-Tag:noindex
X-PUBLISHED-TTL:PT1H
BEGIN:VTIMEZONE
TZID:Europe/Paris
BEGIN:DAYLIGHT
TZOFFSETFROM:+0100
TZOFFSETTO:+0200
TZNAME:CEST
DTSTART:20170326T010000
END:DAYLIGHT
BEGIN:STANDARD
TZOFFSETFROM:+0200
TZOFFSETTO:+0100
TZNAME:CET
DTSTART:20171029T010000
END:STANDARD
END:VTIMEZONE
BEGIN:VEVENT
DTSTART;VALUE=DATE:20170714
DTEND;VALUE=DATE:20170715
DTSTAMP:20260425T040228
CREATED:20170710T163831Z
LAST-MODIFIED:20170712T101621Z
UID:10313-1499990400-1500076799@www.beaucaire.fr
SUMMARY:Fête Nationale du 14 Juillet
DESCRIPTION:« Chaque 14 juillet aura lieu une vraie fête nationale digne de ce nom à Beaucaire  » : C’était un de engagements de campagne du Maire élu en 2014.\n Promesse tenue ! depuis 2015\, une vrai fête Nationale digne de ce nom à été mise en place dans notre ville. \nProgramme du 14 juillet 2017 \n17h30 – Défilé des 100 chevaux\nA travers la ville (Quai de Gaulle\, bd Foch) \n19h00 – Cérémonie de remise des médailles de la ville\nPlace Georges Clemenceau (suivie d’un apéritif) \n21h30 – Election de Miss Beaucaire 2017\nPlace Georges Clemenceau \n23h30 – Bal populaire du 14 juillet\nPlace Georges Clemenceau \n100 chevaux - Carré web-04-04 Carré Web Cérémonie remise médaille-01-06-09-09-09 Carré web miss-02 carré web - bal 14 juillet-01-01
URL:https://www.beaucaire.fr/evenement/fete-nationale-14-juillet/
CATEGORIES:Événements
ATTACH;FMTTYPE=image/png:https://www.beaucaire.fr/wp-content/uploads/2017/07/Bannière-04.png
END:VEVENT
BEGIN:VEVENT
DTSTART;TZID=Europe/Paris:20170714T173000
DTEND;TZID=Europe/Paris:20170714T173000
DTSTAMP:20260425T040228
CREATED:20170710T153748Z
LAST-MODIFIED:20170712T065513Z
UID:10265-1500053400-1500053400@www.beaucaire.fr
SUMMARY:Défilé des 100 chevaux
DESCRIPTION:NOUVEAU / ÉVÉNEMENT \nCette année pour la première fois\, retrouvez un grand défilé de 100 chevaux. Ne manquez pas cet événement organisé par la Mairie de Beaucaire le vendredi 14 juillet 2017 à 17h30. Départ et arrivée prévus aux abords de la Base Nautique (Allée du Drac) : \n– Départ : Le Bois de Cèdres ( Terrain jouxtant le base Nautique Municipale Adrien Hardy )\n– Allée du Drac\n– Pont de Beaucaire\n– Quai du Général De Gaulle\n– Boulevard Maréchal Foch\n– Place Jean Jaurès\n– 2 fois aller/retour\n– 4  passages en tout sur le quai Général de Gaulle\n– Pont de Beaucaire\n– Allée du Drac\n– Arrivée : Le Bois de Cèdres ( Terrain jouxtant le base Nautique Municipale Adrien Hardy ) \n  \n 
URL:https://www.beaucaire.fr/evenement/defile-100-chevaux/
LOCATION:Quai du Général de Gaulle\,  Quai du Général de Gaulle\, Beaucaire\, 30300\, France Métropolitaine
CATEGORIES:Événements
ATTACH;FMTTYPE=image/png:https://www.beaucaire.fr/wp-content/uploads/2017/07/100-chevaux.png
END:VEVENT
BEGIN:VEVENT
DTSTART;TZID=Europe/Paris:20170714T213000
DTEND;TZID=Europe/Paris:20170714T213000
DTSTAMP:20260425T040228
CREATED:20170712T124958Z
LAST-MODIFIED:20170712T135201Z
UID:10383-1500067800-1500067800@www.beaucaire.fr
SUMMARY:Election de Miss Beaucaire
DESCRIPTION:Les Vendredis de Beaucaire continuent ! \nDès 19h\, vendredi 14 juillet\, retrouvez un marché artisanal nocturne sur la canal\, quai du Général de Gaulle\, ainsi que l’élection de Miss Beaucaire 2017 (dès 21h30)\, place Georges Clemenceau en présence de Camille Cerf\, Miss France 2015. \n> Un événement gratuit\, proposé par la Mairie de Beaucaire.
URL:https://www.beaucaire.fr/evenement/election-de-miss-beaucaire/
LOCATION:Place Georges Clemenceau\, Place Georges Clemenceau\, Beaucaire\, 30300\, France
CATEGORIES:Événements
ATTACH;FMTTYPE=image/png:https://www.beaucaire.fr/wp-content/uploads/2017/07/bannières-MISS-BEAUCAIRE-07-07.png
END:VEVENT
BEGIN:VEVENT
DTSTART;TZID=Europe/Paris:20170714T233000
DTEND;TZID=Europe/Paris:20170714T233000
DTSTAMP:20260425T040228
CREATED:20170712T120745Z
LAST-MODIFIED:20170712T134554Z
UID:10385-1500075000-1500075000@www.beaucaire.fr
SUMMARY:Bal populaire du 14 juillet
DESCRIPTION:Ce vendredi 14 juillet\, à l’occasion de la fête Nationale française\, la Mairie de Beaucaire vous propose\, après l’élection de Miss Beaucaire (aux alentours de 23h30)\, un bal populaire\, place Georges Clemenceau. \nProgramme complet du 14 juillet : \n>17h30 – Défilé des 100 chevaux – A travers la ville (Quai de Gaulle\, bd Foch)\n>19h00 – Cérémonie de remise des médailles de la ville – Place Georges Clemenceau (suivie d’un apéritif)\n>21h30 – Election de Miss Beaucaire 2017 – Place Georges Clemenceau\n> 23h30 – Bal populaire du 14 juillet – Place Georges Clemenceau
URL:https://www.beaucaire.fr/evenement/bal-populaire/
LOCATION:Place Georges Clemenceau\, Place Georges Clemenceau\, Beaucaire\, 30300\, France
CATEGORIES:Événements
ATTACH;FMTTYPE=image/png:https://www.beaucaire.fr/wp-content/uploads/2017/07/bannière-BAL-DU-14-JUILLET-08-08.png
END:VEVENT
END:VCALENDAR