BEGIN:VCALENDAR
VERSION:2.0
PRODID:-//Le site officiel de la Ville de Beaucaire - ECPv6.7.0//NONSGML v1.0//EN
CALSCALE:GREGORIAN
METHOD:PUBLISH
X-ORIGINAL-URL:https://www.beaucaire.fr
X-WR-CALDESC:Évènements pour Le site officiel de la Ville de Beaucaire
REFRESH-INTERVAL;VALUE=DURATION:PT1H
X-Robots-Tag:noindex
X-PUBLISHED-TTL:PT1H
BEGIN:VTIMEZONE
TZID:Europe/Paris
BEGIN:DAYLIGHT
TZOFFSETFROM:+0100
TZOFFSETTO:+0200
TZNAME:CEST
DTSTART:20170326T010000
END:DAYLIGHT
BEGIN:STANDARD
TZOFFSETFROM:+0200
TZOFFSETTO:+0100
TZNAME:CET
DTSTART:20171029T010000
END:STANDARD
END:VTIMEZONE
BEGIN:VEVENT
DTSTART;TZID=Europe/Paris:20170719T080000
DTEND;TZID=Europe/Paris:20170719T080000
DTSTAMP:20260425T040226
CREATED:20170719T145407Z
LAST-MODIFIED:20170719T145407Z
UID:10803-1500451200-1500451200@www.beaucaire.fr
SUMMARY:Abrivado de Saint-Roman
DESCRIPTION:Précédée de la bénédiction des chevaux\nManifestation taurine de rue\, Manade l’Amista \n• Départ : Abbaye de Saint-Roman\n• Chemin de la Tapie\n• Route Départementale 999\n• Route de Nîmes\n• Avenue de Farciennes\n• Boulevard Maréchal Joffre\n• Rue des Anciens Combattants d’Afrique du Nord\n• Avenue des Arènes\n• Allée François Canto\n• Arènes Paul Laurent \nGratuit\nOrganisé par la Mairie de Beaucaire
URL:https://www.beaucaire.fr/evenement/abrivado-de-saint-roman-2/
LOCATION:Abbaye de Saint Roman\, Chemin de l'Abbaye de Saint Roman\, Beaucaire\, 30300\, France Métropolitaine
CATEGORIES:Événements
ATTACH;FMTTYPE=image/png:https://www.beaucaire.fr/wp-content/uploads/2017/07/Bannières-abrivado-03.png
END:VEVENT
END:VCALENDAR