BEGIN:VCALENDAR
VERSION:2.0
PRODID:-//Le site officiel de la Ville de Beaucaire - ECPv6.7.0//NONSGML v1.0//EN
CALSCALE:GREGORIAN
METHOD:PUBLISH
X-ORIGINAL-URL:https://www.beaucaire.fr
X-WR-CALDESC:Évènements pour Le site officiel de la Ville de Beaucaire
REFRESH-INTERVAL;VALUE=DURATION:PT1H
X-Robots-Tag:noindex
X-PUBLISHED-TTL:PT1H
BEGIN:VTIMEZONE
TZID:Europe/Paris
BEGIN:DAYLIGHT
TZOFFSETFROM:+0100
TZOFFSETTO:+0200
TZNAME:CEST
DTSTART:20170326T010000
END:DAYLIGHT
BEGIN:STANDARD
TZOFFSETFROM:+0200
TZOFFSETTO:+0100
TZNAME:CET
DTSTART:20171029T010000
END:STANDARD
END:VTIMEZONE
BEGIN:VEVENT
DTSTART;TZID=Europe/Paris:20170721T080000
DTEND;TZID=Europe/Paris:20170731T170000
DTSTAMP:20260425T040307
CREATED:20170718T070031Z
LAST-MODIFIED:20170721T125228Z
UID:10703-1500624000-1501520400@www.beaucaire.fr
SUMMARY:Concours de photographies des Fêtes de la Madeleine
DESCRIPTION:Depuis 2016\, à l’initiative du Maire\, la Ville de Beaucaire organise\, pendant la durée de ses Estivales (du 21 juillet au 31 juillet)\, un concours de photographies.\n12 prix sont à gagner (3 par catégorie): \n– Catégorie « Les traditions » \n– Catégorie « Beaucaire festive »\n– Catégorie « Vues de Beaucaire l’été »\n– Catégorie « Selfie insolite » \nPour participer envoyez vos photos à concoursphoto@beaucaire.fr \nPour chaque thème :\n– 1er Prix de la ville de Beaucaire : 200€\n– 2ème Prix de la ville de Beaucaire : 150€\n– 3ème Prix de la ville de Beaucaire : 100€ \nBonne chance à tous ! \nRèglement du concours : \nArticle 1 : à l’occasion des Estivales 2017\, sous l’égide du Pôle SPORTS et FESTIVITÉS\, le service de la culture de la ville de Beaucaire organise un concours de photographies du vendredi 21 au lundi 31 juillet 2017 inclus.\nLa remise des prix aura lieu le vendredi 22 septembre 2017 à 19h00 à la salle d’expositions\, 27 bis quai du Général de Gaulle à Beaucaire et sera suivie d’un verre de l’amitié. \nArticle 2 : Ce concours est ouvert aux photographes professionnels et amateurs quel que soit le matériel utilisé. Quatre thèmes sont proposés :\nT1 : Les traditions\nT2 : Beaucaire festive\nT3 : Vues de Beaucaire l’été\nT4 : Selfie insolite \nArticle 3 : Aucun droit d’inscription ne sera demandé aux participants. \nArticle 4 : Les photographies devront être prises exclusivement pendant la période des estivales et envoyées au format numérique à l’adresse mail suivante : concoursphoto@beaucaire.fr avant le lundi 7 août 2017 à 17h00. \nArticle 5 : Tout plagiat de photographie existante est interdit. L’auteur de l’envoi doit être l’auteur de la photographie et s’engage à ne pas avoir cédé le droit d’exploiter les photos à titre exclusif à des tiers. \nArticle 6 : Les participants devront impérativement renommer leur photo selon le modèle ci-dessous : \nTx_NOM_PRENOM_Numéro de la photo.jpeg\n(Tx = thème choisi : T1\, T2\, T3\, T4 – voir Article 2) \nArticle 7 : Les participants devront renseigner les informations suivantes dans le courrier électronique servant à l’envoi de leur photographie :\nNom / Prénom / Adresse postale / Numéro de téléphone / Précisez votre qualité\, « amateur » ou « professionnel » / Thème(s) choisi(s) \nArticle 8 : Chaque participant pourra sélectionner un\, deux\, trois ou quatre des thèmes proposés. Cinq photographies maximum seront envoyées par thème. \nArticle 9 : Les récompenses décernées à l’issue du concours seront attribuées par un jury. Leurs décisions seront sans appel. \nArticle 10 : Le concours sera doté de trois récompenses pour chaque thème. Les prix offerts par la Mairie de Beaucaire seront remis en bons d’achat FEDEBONS utilisables dans les commerces Beaucairois qui participent à l’opération : \nPour chaque thème :\n– 1er Prix de la ville de Beaucaire : 200€\n– 2ème Prix de la ville de Beaucaire : 150€\n– 3ème Prix de la ville de Beaucaire : 100€ \nArticle 11 : L’organisateur se réserve le droit de refuser toute photo qui ne se voudrait pas conforme au présent règlement et au respect des bonnes mœurs. Les photographies ne doivent pas présenter de caractère obscène\, violent\, dangereux\, raciste\, contraire à l’ordre public\, susceptible de nuire à l’épanouissement des mineurs ou de porter atteinte à la dignité des personnes\, ni faire l’apologie des crimes contre l’humanité. \nArticle 12 : L’organisateur aura la possibilité d’utiliser sur tout support de communication l’ensemble des photographies de ce concours (site web\, réseaux sociaux\, dépliants\, newsletter…). Il ne sera pas responsable en cas de perte ou de non réception d’un envoi suite à des dysfonctionnements (pannes de réseau internet\, difficultés de connexion\, coupure d’électricité…) survenant pendant le déroulement de l’opération. \nArticle 13 : Le participant s’engage et garantit à la Ville de Beaucaire que la photographie qu’il envoie est disponible en vertu d’accords passés avec des tiers représentés sur la photographie (personne ou objet) pouvant être grevés de droits de propriété intellectuelle et/ou industrielle ou d’autres droits privatifs. \nL’envoi de votre photographie à l’adresse mail concoursphoto@beaucaire.fr certifie l’approbation du présent règlement dans sa totalité. \nRENSEIGNEMENTS : Service de la culture – 24 cours Gambetta – 1er étage – 30300 BEAUCAIRE – 04 66 59 71 35.
URL:https://www.beaucaire.fr/evenement/concours-de-photographies-fetes-de-madeleine/
CATEGORIES:Concours,Événements
ATTACH;FMTTYPE=image/png:https://www.beaucaire.fr/wp-content/uploads/2017/07/Bannière-concours-photo-01.png
END:VEVENT
BEGIN:VEVENT
DTSTART;TZID=Europe/Paris:20170721T170000
DTEND;TZID=Europe/Paris:20170801T170000
DTSTAMP:20260425T040307
CREATED:20170718T063515Z
LAST-MODIFIED:20170719T144518Z
UID:10700-1500656400-1501606800@www.beaucaire.fr
SUMMARY:Fête Foraine
DESCRIPTION:
URL:https://www.beaucaire.fr/evenement/fete-foraine/
LOCATION:Champ de foire\, Champ de foire\, Beaucaire\, 30300\, France
CATEGORIES:Événements
ATTACH;FMTTYPE=image/jpeg:https://www.beaucaire.fr/wp-content/uploads/2017/07/fete-foraine.jpg
END:VEVENT
BEGIN:VEVENT
DTSTART;TZID=Europe/Paris:20170726T190000
DTEND;TZID=Europe/Paris:20170726T190000
DTSTAMP:20260425T040307
CREATED:20170719T145036Z
LAST-MODIFIED:20170719T145036Z
UID:10798-1501095600-1501095600@www.beaucaire.fr
SUMMARY:Abrivado du Canal
DESCRIPTION:Manifestation taurine de rue. \n• Départ : Boulevard Maréchal Foch (au niveau de place Jean Jaurès)\n• Rond-point des Fontêtes\n• Pont de Fourques\n• Rond-point de Montelupo\n• Quai de la Paix\n• Anse du Canal\n• Quai du Général De Gaulle\n• Rond point des Fontêtes\n – une autre fois dans le même sens et 1 fois en sens inverse\n• Arrivée : Boulevard Maréchal Foch \nGratuit\nOrganisé par la Mairie de Beaucaire
URL:https://www.beaucaire.fr/evenement/abrivado-du-canal-2/
LOCATION:Boulevard Maréchal Foch\, Boulevard Maréchal Foch\, Beaucaire\, 30300\, France Métropolitaine
CATEGORIES:Événements
ATTACH;FMTTYPE=image/png:https://www.beaucaire.fr/wp-content/uploads/2017/07/Bannières-abrivado-02.png
END:VEVENT
END:VCALENDAR