BEGIN:VCALENDAR
VERSION:2.0
PRODID:-//Le site officiel de la Ville de Beaucaire - ECPv6.7.0//NONSGML v1.0//EN
CALSCALE:GREGORIAN
METHOD:PUBLISH
X-ORIGINAL-URL:https://www.beaucaire.fr
X-WR-CALDESC:Évènements pour Le site officiel de la Ville de Beaucaire
REFRESH-INTERVAL;VALUE=DURATION:PT1H
X-Robots-Tag:noindex
X-PUBLISHED-TTL:PT1H
BEGIN:VTIMEZONE
TZID:Europe/Paris
BEGIN:DAYLIGHT
TZOFFSETFROM:+0100
TZOFFSETTO:+0200
TZNAME:CEST
DTSTART:20170326T010000
END:DAYLIGHT
BEGIN:STANDARD
TZOFFSETFROM:+0200
TZOFFSETTO:+0100
TZNAME:CET
DTSTART:20171029T010000
END:STANDARD
END:VTIMEZONE
BEGIN:VEVENT
DTSTART;TZID=Europe/Paris:20170902T080000
DTEND;TZID=Europe/Paris:20170902T230000
DTSTAMP:20260425T000515
CREATED:20170810T091857Z
LAST-MODIFIED:20170902T082347Z
UID:12117-1504339200-1504393200@www.beaucaire.fr
SUMMARY:Beaucaire à l'Italienne
DESCRIPTION:Beaucaire à l’Italienne est de retour ! \nAprès le grand succès de l’année dernière\, venez nous retrouver pour une nouvelle journée dédiée à  l’Italie.\nTout au long de la journée\, de nombreuses animations vous seront proposées : défilé des véhicules Italiens ( Fiat 500\, Vespa\, Ferrari…)\, présence des «Masqués Vénitiens »\, des  » Lanceurs de drapeaux »\, exposants\, espace enfant…\nLe soir venez danser au rythme de l’Italie\, avec un concert gratuit proposé par la Ville\, possibilité de se restaurer sur place. ( Réservation de votre soirée auprès des restaurateurs de la place ) \n. Renseignements : 04 66 59 71 05
URL:https://www.beaucaire.fr/evenement/beaucaire-a-litalienne-2/
LOCATION:Place Georges Clemenceau\, Place Georges Clemenceau\, Beaucaire\, 30300\, France
CATEGORIES:Événements
ATTACH;FMTTYPE=image/png:https://www.beaucaire.fr/wp-content/uploads/2017/08/Beaucaire-à-litalienne-bannière-01.png
END:VEVENT
BEGIN:VEVENT
DTSTART;TZID=Europe/Paris:20170902T160000
DTEND;TZID=Europe/Paris:20170902T210000
DTSTAMP:20260425T000515
CREATED:20170829T110030Z
LAST-MODIFIED:20170829T110955Z
UID:12346-1504368000-1504386000@www.beaucaire.fr
SUMMARY:Vendanges de la Belle Pierre
DESCRIPTION:Samedi 2 septembre\, des vendanges à l’ancienne pour la prochaine Cuvée Marie-Madeleine seront organisées par la Belle Pierre\, la cave coopérative de Beaucaire\, avec la participation de la mairie. Un apéritif musical avec la Peña de St Etienne du Grès s’en suivra ces vendanges. Les participants sont invités à apporter leur sécateur s’ils en possèdent un. En cas de mauvais temps\, la récolte sera reportée au 9 septembre. Rendez-vous à tous à 16h\, entrée gratuite !
URL:https://www.beaucaire.fr/evenement/vendanges-de-belle-pierre/
LOCATION:La Belle Pierre\, 590 route de Fourques\, Beaucaire\, Languedoc-Roussillon\, 30300\, France
CATEGORIES:Événements
ATTACH;FMTTYPE=image/jpeg:https://www.beaucaire.fr/wp-content/uploads/2017/08/La-Belle-Pierre-vendanges-Beaucaire-1.jpg
END:VEVENT
END:VCALENDAR