BEGIN:VCALENDAR
VERSION:2.0
PRODID:-//Le site officiel de la Ville de Beaucaire - ECPv6.7.0//NONSGML v1.0//EN
CALSCALE:GREGORIAN
METHOD:PUBLISH
X-ORIGINAL-URL:https://www.beaucaire.fr
X-WR-CALDESC:Évènements pour Le site officiel de la Ville de Beaucaire
REFRESH-INTERVAL;VALUE=DURATION:PT1H
X-Robots-Tag:noindex
X-PUBLISHED-TTL:PT1H
BEGIN:VTIMEZONE
TZID:Europe/Paris
BEGIN:DAYLIGHT
TZOFFSETFROM:+0100
TZOFFSETTO:+0200
TZNAME:CEST
DTSTART:20170326T010000
END:DAYLIGHT
BEGIN:STANDARD
TZOFFSETFROM:+0200
TZOFFSETTO:+0100
TZNAME:CET
DTSTART:20171029T010000
END:STANDARD
END:VTIMEZONE
BEGIN:VEVENT
DTSTART;TZID=Europe/Paris:20170916T170000
DTEND;TZID=Europe/Paris:20170916T170000
DTSTAMP:20260425T000558
CREATED:20170913T170318Z
LAST-MODIFIED:20170914T114015Z
UID:12775-1505581200-1505581200@www.beaucaire.fr
SUMMARY:Marché des troubadours
DESCRIPTION:Le marché des troubadours aura lieu le samedi 16 septembre 2017 de 17h à minuit. Au programme : soirée musicale et dégustation de produits régionaux\, du terroir\, guinguette\, restauration sur place et ateliers pour les enfants. \nVous pouvez vous garer au parkling des arènes\, une navette gratuite en calèche vous amènera ensuite jusqu’à la place de la République. \nCet événement est organisé par l’UCIA (Union des Commerçants)\, en partenariat avec la mairie de Beaucaire\, la CCI Gard et la CCBTA.
URL:https://www.beaucaire.fr/evenement/marche-des-troubadours/
LOCATION:Place de la République\, Place de la République\, Beaucaire\, 30300
CATEGORIES:Événements
ATTACH;FMTTYPE=image/jpeg:https://www.beaucaire.fr/wp-content/uploads/2017/09/marché-des-troubadours.jpg
END:VEVENT
BEGIN:VEVENT
DTSTART;TZID=Europe/Paris:20170916T200000
DTEND;TZID=Europe/Paris:20170917T020000
DTSTAMP:20260425T000558
CREATED:20170103T135450Z
LAST-MODIFIED:20170619T125149Z
UID:7466-1505592000-1505613600@www.beaucaire.fr
SUMMARY:Les soirées dansantes
DESCRIPTION:Avec le succès des après-midis dansantes\, la Ville de Beaucaire et son CCAS vous proposent en cette année 2017\, en plus des après-midis dansantes\, des soirées dansantes gratuites. \nAnimations offertes par le C.C.A.S. et la Ville de Beaucaire.
URL:https://www.beaucaire.fr/evenement/les-soirees-dansantes-2/
LOCATION:Casino Municipal\, 1\, allée du Casino\, Beaucaire\, 30300\, France
CATEGORIES:Événements
ATTACH;FMTTYPE=image/jpeg:https://www.beaucaire.fr/wp-content/uploads/2017/01/aprem-dansants-1.jpg
END:VEVENT
END:VCALENDAR