BEGIN:VCALENDAR
VERSION:2.0
PRODID:-//Le site officiel de la Ville de Beaucaire - ECPv6.7.0//NONSGML v1.0//EN
CALSCALE:GREGORIAN
METHOD:PUBLISH
X-ORIGINAL-URL:https://www.beaucaire.fr
X-WR-CALDESC:Évènements pour Le site officiel de la Ville de Beaucaire
REFRESH-INTERVAL;VALUE=DURATION:PT1H
X-Robots-Tag:noindex
X-PUBLISHED-TTL:PT1H
BEGIN:VTIMEZONE
TZID:Europe/Paris
BEGIN:DAYLIGHT
TZOFFSETFROM:+0100
TZOFFSETTO:+0200
TZNAME:CEST
DTSTART:20170326T010000
END:DAYLIGHT
BEGIN:STANDARD
TZOFFSETFROM:+0200
TZOFFSETTO:+0100
TZNAME:CET
DTSTART:20171029T010000
END:STANDARD
END:VTIMEZONE
BEGIN:VEVENT
DTSTART;TZID=Europe/Paris:20170928T183000
DTEND;TZID=Europe/Paris:20170928T200000
DTSTAMP:20260424T221810
CREATED:20170925T152923Z
LAST-MODIFIED:20170925T170239Z
UID:13023-1506623400-1506628800@www.beaucaire.fr
SUMMARY:Vernissage "Milady's Art"
DESCRIPTION:Le vernissage de l’exposition « Milady’s Art »\, d’une artiste Beaucairoise\, aura lieu ce jeudi 28 septembre 2017 à 18h30.\n\n\nCet événement\, organisé conjointement par l’artiste et la Mairie de Beaucaire se tiendra à la Salle d’exposition\, 27 bis quai Général de Gaulle. Venez nombreux partager ce moment lors duquel l’artiste dessinera sur place.\n\n\n \n\n\nL’exposition sera par ailleurs ouverte du 30 septembre au 15 octobre 2017\, du mercredi au dimanche :\n\n\n– mercredi : 14h30 à 18h30\n\n\n– jeudi : 9h à 14h\n\n\n– samedi : 9h30 à 18h\n\n\n– dimanche : 9h30 à 12h30\n\n\n \n\n\n> Entrée libre et gratuite
URL:https://www.beaucaire.fr/evenement/vernissage-miladys-art/
LOCATION:Salle des expositions\, 27 bis quai du général de Gaulle\, Beaucaire\, 30300\, France Métropolitaine
CATEGORIES:Culture,Événements,Nos expositions
ATTACH;FMTTYPE=image/jpeg:https://www.beaucaire.fr/wp-content/uploads/2017/09/Miladys-Art.jpg
END:VEVENT
END:VCALENDAR