BEGIN:VCALENDAR
VERSION:2.0
PRODID:-//Le site officiel de la Ville de Beaucaire - ECPv6.7.0//NONSGML v1.0//EN
CALSCALE:GREGORIAN
METHOD:PUBLISH
X-ORIGINAL-URL:https://www.beaucaire.fr
X-WR-CALDESC:Évènements pour Le site officiel de la Ville de Beaucaire
REFRESH-INTERVAL;VALUE=DURATION:PT1H
X-Robots-Tag:noindex
X-PUBLISHED-TTL:PT1H
BEGIN:VTIMEZONE
TZID:Europe/Paris
BEGIN:DAYLIGHT
TZOFFSETFROM:+0100
TZOFFSETTO:+0200
TZNAME:CEST
DTSTART:20170326T010000
END:DAYLIGHT
BEGIN:STANDARD
TZOFFSETFROM:+0200
TZOFFSETTO:+0100
TZNAME:CET
DTSTART:20171029T010000
END:STANDARD
END:VTIMEZONE
BEGIN:VEVENT
DTSTART;TZID=Europe/Paris:20170930T140000
DTEND;TZID=Europe/Paris:20170930T170000
DTSTAMP:20260424T221810
CREATED:20170925T124549Z
LAST-MODIFIED:20170925T165217Z
UID:13008-1506780000-1506790800@www.beaucaire.fr
SUMMARY:La Gambade de Saint-Roman
DESCRIPTION:Chaque année depuis maintenant 14 ans\, l’Association “Courir à Beaucaire” organise cet événement sportif auquel de plus en plus de gardois prennent part. La Gambade de Saint-Roman\, course populaire renommée\, est organisée en partenariat avec la Mairie de Beaucaire\, qui met à contribution ses services techniques\, le service des sports et la police municipale pour le bon déroulement de cette manifestation à succès. \nPlus de 400 coureurs sont attendus pour participer aux deux courses chronométrés (12\,8 km à 16h30 et 5\,8 km à 16h45) et à la marche de 10 km dont le début est fixé à 14h. \n  \nLimite d’inscription le vendredi 25 septembre\, possibilité de s’inscrire sur place le jour de la course.\n1.Télécharger le bulletin d’inscription 5.8 Km.\n2.Télécharger le bulletin d’inscription 12.8 km.\n3.Remplissez le bulletin d’inscription\n4.Joindre un certificat médical*\n5.Joindre le chèque d’inscription 8 € 5.8 km et 10 € 12.8 km**\n6.Envoyer par courrier ou vous pouvez vous pré-inscrire en renvoyant votre bulletin d’inscription et certificat médical a l’adresse mail suivante : germain.alain295@orange.fr\nMr Germain Alain – Gambade de St Roman -1 H Impasse des Abeilles\n30300 Beaucaire \nPour tout renseignements \, n’hésitez pas à nous contacter: 06.10.76.90.57 – 06.19.71.25.80 \n*Certificat « bon pour la pratique de la course à pied en compétition » \n**Le chèque doit être mis à l’ordre de COURIR A BEAUCAIRE \n  \n  \n 
URL:https://www.beaucaire.fr/evenement/gambade-de-saint-roman/
LOCATION:Casino Municipal\, 1\, allée du Casino\, Beaucaire\, 30300\, France
CATEGORIES:Événements,Sports
ATTACH;FMTTYPE=image/jpeg:https://www.beaucaire.fr/wp-content/uploads/2017/09/gamabade-saint-roman-e1506345158401.jpg
END:VEVENT
END:VCALENDAR