BEGIN:VCALENDAR
VERSION:2.0
PRODID:-//Le site officiel de la Ville de Beaucaire - ECPv6.7.0//NONSGML v1.0//EN
CALSCALE:GREGORIAN
METHOD:PUBLISH
X-ORIGINAL-URL:https://www.beaucaire.fr
X-WR-CALDESC:Évènements pour Le site officiel de la Ville de Beaucaire
REFRESH-INTERVAL;VALUE=DURATION:PT1H
X-Robots-Tag:noindex
X-PUBLISHED-TTL:PT1H
BEGIN:VTIMEZONE
TZID:Europe/Paris
BEGIN:DAYLIGHT
TZOFFSETFROM:+0100
TZOFFSETTO:+0200
TZNAME:CEST
DTSTART:20170326T010000
END:DAYLIGHT
BEGIN:STANDARD
TZOFFSETFROM:+0200
TZOFFSETTO:+0100
TZNAME:CET
DTSTART:20171029T010000
END:STANDARD
END:VTIMEZONE
BEGIN:VEVENT
DTSTART;TZID=Europe/Paris:20171111T110000
DTEND;TZID=Europe/Paris:20171111T120000
DTSTAMP:20260424T204949
CREATED:20171024T080627Z
LAST-MODIFIED:20171109T125515Z
UID:13737-1510398000-1510401600@www.beaucaire.fr
SUMMARY:Cérémonie commémorative du 11 novembre
DESCRIPTION:La cérémonie commémorative du 11 novembre se déroulera le samedi 11 novembre 2017 à 11h00. \n> Monuments aux Morts\nCimetière de la route de Saint-Gilles\, Beaucaire
URL:https://www.beaucaire.fr/evenement/ceremonie-commemorative-11-novembre-2/
LOCATION:Cimetière de la route de Saint-Gilles\, Route de Saint-Gilles\, Beaucaire\, 30300\, France Métropolitaine
CATEGORIES:Événements
ATTACH;FMTTYPE=image/png:https://www.beaucaire.fr/wp-content/uploads/2017/10/HARKIS.png
END:VEVENT
END:VCALENDAR