BEGIN:VCALENDAR
VERSION:2.0
PRODID:-//Le site officiel de la Ville de Beaucaire - ECPv6.7.0//NONSGML v1.0//EN
CALSCALE:GREGORIAN
METHOD:PUBLISH
X-ORIGINAL-URL:https://www.beaucaire.fr
X-WR-CALDESC:Évènements pour Le site officiel de la Ville de Beaucaire
REFRESH-INTERVAL;VALUE=DURATION:PT1H
X-Robots-Tag:noindex
X-PUBLISHED-TTL:PT1H
BEGIN:VTIMEZONE
TZID:Europe/Paris
BEGIN:DAYLIGHT
TZOFFSETFROM:+0100
TZOFFSETTO:+0200
TZNAME:CEST
DTSTART:20170326T010000
END:DAYLIGHT
BEGIN:STANDARD
TZOFFSETFROM:+0200
TZOFFSETTO:+0100
TZNAME:CET
DTSTART:20171029T010000
END:STANDARD
END:VTIMEZONE
BEGIN:VEVENT
DTSTART;TZID=Europe/Paris:20171118T170000
DTEND;TZID=Europe/Paris:20171118T190000
DTSTAMP:20260424T204949
CREATED:20171107T144826Z
LAST-MODIFIED:20171107T152310Z
UID:13950-1511024400-1511031600@www.beaucaire.fr
SUMMARY:Super loto
DESCRIPTION:L’association « Les amis de Marcel » organise un super loto le samedi 18 novembre à 17h au Casino Municipal de Beaucaire. \nPremier prix :\n– un bon pour un séjour en agence \nDeuxième prix :\n– Un scooter 50cc \nEgalement en cadeaux : un kart hoverboard\, un vélo électrique\, un aspirateur dyson\, deux repas gastronomique et un accès à l’auberge de Cassagne (5 étoiles)\, une corbeille garnie et coffret de vin\, et un lot du boucher. \nUne buvette est également prévue\, pour tout renseignement supplémentaire\, contactez le 06.24.61.66.65.
URL:https://www.beaucaire.fr/evenement/super-loto/
LOCATION:Casino Municipal\, 1\, allée du Casino\, Beaucaire\, 30300\, France
CATEGORIES:Événements
ATTACH;FMTTYPE=image/jpeg:https://www.beaucaire.fr/wp-content/uploads/2017/11/loto.jpg
END:VEVENT
END:VCALENDAR