BEGIN:VCALENDAR
VERSION:2.0
PRODID:-//Le site officiel de la Ville de Beaucaire - ECPv6.7.0//NONSGML v1.0//EN
CALSCALE:GREGORIAN
METHOD:PUBLISH
X-ORIGINAL-URL:https://www.beaucaire.fr
X-WR-CALDESC:Évènements pour Le site officiel de la Ville de Beaucaire
REFRESH-INTERVAL;VALUE=DURATION:PT1H
X-Robots-Tag:noindex
X-PUBLISHED-TTL:PT1H
BEGIN:VTIMEZONE
TZID:Europe/Paris
BEGIN:DAYLIGHT
TZOFFSETFROM:+0100
TZOFFSETTO:+0200
TZNAME:CEST
DTSTART:20170326T010000
END:DAYLIGHT
BEGIN:STANDARD
TZOFFSETFROM:+0200
TZOFFSETTO:+0100
TZNAME:CET
DTSTART:20171029T010000
END:STANDARD
END:VTIMEZONE
BEGIN:VEVENT
DTSTART;TZID=Europe/Paris:20171208T180000
DTEND;TZID=Europe/Paris:20171210T200000
DTSTAMP:20260424T191930
CREATED:20171109T135455Z
LAST-MODIFIED:20171206T131039Z
UID:13965-1512756000-1512936000@www.beaucaire.fr
SUMMARY:Marché de Noël
DESCRIPTION:Venez profiter de la magie de Noël à Beaucaire ! \nLe Marché de Noël de Beaucaire aura lieu ce vendredi\, samedi et dimanche (8\,9 et 10 décembre) sur le cours Gambetta et la Place Georges Clemenceau (entrée gratuite). \nL’inauguration du marché de Noël avec un vin chaud offert aura lieu vendredi 8 décembre à 18h à l’entrée de la rue de l’Hôtel de Ville. Durant ces 3 jours\, plus de 60 exposants seront présents et nombreux spectacles seront proposés aux enfants. A ne pas rater : la grande transhumance avec plus de 1 000 animaux qui traverseront Beaucaire en musique. \n\n> En vous garant sur le parking des Arènes\, vous pouvez profiter de la navette gratuite de 10h à 19h. \n\nDécouvrez le programme du marché de Noël en intégralité ci-dessous.
URL:https://www.beaucaire.fr/evenement/marche-de-noel-2/
LOCATION:Place Georges Clemenceau\, Place Georges Clemenceau\, Beaucaire\, 30300\, France
CATEGORIES:Événements
ATTACH;FMTTYPE=image/jpeg:https://www.beaucaire.fr/wp-content/uploads/2017/11/banderole-Marché-de-Noël-2017.jpg
END:VEVENT
END:VCALENDAR