BEGIN:VCALENDAR
VERSION:2.0
PRODID:-//Le site officiel de la Ville de Beaucaire - ECPv6.7.0//NONSGML v1.0//EN
CALSCALE:GREGORIAN
METHOD:PUBLISH
X-ORIGINAL-URL:https://www.beaucaire.fr
X-WR-CALDESC:Évènements pour Le site officiel de la Ville de Beaucaire
REFRESH-INTERVAL;VALUE=DURATION:PT1H
X-Robots-Tag:noindex
X-PUBLISHED-TTL:PT1H
BEGIN:VTIMEZONE
TZID:Europe/Paris
BEGIN:DAYLIGHT
TZOFFSETFROM:+0100
TZOFFSETTO:+0200
TZNAME:CEST
DTSTART:20170326T010000
END:DAYLIGHT
BEGIN:STANDARD
TZOFFSETFROM:+0200
TZOFFSETTO:+0100
TZNAME:CET
DTSTART:20171029T010000
END:STANDARD
END:VTIMEZONE
BEGIN:VEVENT
DTSTART;TZID=Europe/Paris:20171216T160000
DTEND;TZID=Europe/Paris:20171216T180000
DTSTAMP:20260424T191929
CREATED:20171129T160110Z
LAST-MODIFIED:20190830T163941Z
UID:14278-1513440000-1513447200@www.beaucaire.fr
SUMMARY:Spectacle / Lecture pour enfants : "Clovis le roi du tournevis"
DESCRIPTION:Clovis est un petit bonhomme tout rond\, qui porte un chapeau melon et un pantalon trop long.\nEn magicien du tournevis\, il invente pour les enfants des machines extraordinaires ! \nSpectacle / Lecture suivi d’un échange avec les enfants \nDémonstration musicale + Dédicace du l’album \nDurée du spectacle : environ 35 min
URL:https://www.beaucaire.fr/evenement/spectacle-lecture-enfants-clovis-roi-tournevis/
LOCATION:Bibliothèque Municipale\, 1 rue Roger Pascal\, Beaucaire\, 30300\, France
CATEGORIES:Événements,Spectacles
ATTACH;FMTTYPE=image/jpeg:https://www.beaucaire.fr/wp-content/uploads/2017/11/spectacle-bibiothèque-Clovis-le-roi-du-tournevis.jpg
END:VEVENT
END:VCALENDAR