BEGIN:VCALENDAR
VERSION:2.0
PRODID:-//Le site officiel de la Ville de Beaucaire - ECPv6.7.0//NONSGML v1.0//EN
CALSCALE:GREGORIAN
METHOD:PUBLISH
X-ORIGINAL-URL:https://www.beaucaire.fr
X-WR-CALDESC:Évènements pour Le site officiel de la Ville de Beaucaire
REFRESH-INTERVAL;VALUE=DURATION:PT1H
X-Robots-Tag:noindex
X-PUBLISHED-TTL:PT1H
BEGIN:VTIMEZONE
TZID:Europe/Paris
BEGIN:DAYLIGHT
TZOFFSETFROM:+0100
TZOFFSETTO:+0200
TZNAME:CEST
DTSTART:20180325T010000
END:DAYLIGHT
BEGIN:STANDARD
TZOFFSETFROM:+0200
TZOFFSETTO:+0100
TZNAME:CET
DTSTART:20181028T010000
END:STANDARD
END:VTIMEZONE
BEGIN:VEVENT
DTSTART;TZID=Europe/Paris:20180218T163000
DTEND;TZID=Europe/Paris:20180218T190000
DTSTAMP:20260424T160828
CREATED:20180206T145548Z
LAST-MODIFIED:20180209T133703Z
UID:15364-1518971400-1518980400@www.beaucaire.fr
SUMMARY:Les Chippendales vous attendent au Casino Municipal !
DESCRIPTION:Pour la Saint-Valentin Mesdames…\nLa Mairie de Beaucaire vous propose un spectacle de Chippendales le dimanche 18 février à 16 h 30 au Casino Municipal.\nBeaucairoises ou pas\, célibataires ou pas\, vous êtes toutes les bienvenues. Une séance de dédicaces est prévue après le spectacle.\nEntrée : 2€\, recette reversée à l’association VMEH (visiteurs des hôpitaux)
URL:https://www.beaucaire.fr/evenement/chippendales-attendent-casino-municipal/
LOCATION:Casino Municipal\, 1\, allée du Casino\, Beaucaire\, 30300\, France
CATEGORIES:Événements,Spectacles
ATTACH;FMTTYPE=image/png:https://www.beaucaire.fr/wp-content/uploads/2018/02/carré-web-chippendales.png
END:VEVENT
END:VCALENDAR