BEGIN:VCALENDAR
VERSION:2.0
PRODID:-//Le site officiel de la Ville de Beaucaire - ECPv6.7.0//NONSGML v1.0//EN
CALSCALE:GREGORIAN
METHOD:PUBLISH
X-ORIGINAL-URL:https://www.beaucaire.fr
X-WR-CALDESC:Évènements pour Le site officiel de la Ville de Beaucaire
REFRESH-INTERVAL;VALUE=DURATION:PT1H
X-Robots-Tag:noindex
X-PUBLISHED-TTL:PT1H
BEGIN:VTIMEZONE
TZID:Europe/Paris
BEGIN:DAYLIGHT
TZOFFSETFROM:+0100
TZOFFSETTO:+0200
TZNAME:CEST
DTSTART:20180325T010000
END:DAYLIGHT
BEGIN:STANDARD
TZOFFSETFROM:+0200
TZOFFSETTO:+0100
TZNAME:CET
DTSTART:20181028T010000
END:STANDARD
END:VTIMEZONE
BEGIN:VEVENT
DTSTART;TZID=Europe/Paris:20180505T180000
DTEND;TZID=Europe/Paris:20180511T230000
DTSTAMP:20260424T110137
CREATED:20180503T142012Z
LAST-MODIFIED:20180522T121715Z
UID:16761-1525543200-1526079600@www.beaucaire.fr
SUMMARY:Inscription pour la Fête des voisins 2018
DESCRIPTION:Cette année\, la Fête des voisins aura lieu le vendredi 25 mai 2018.\nPour la quatrième année\, le Maire de Beaucaire fait adhérer la ville à l’association « Immeubles en fête« \, association organisatrice de l’événement. \nCe partenariat a pour but d’étendre la fête des voisins à tous les quartiers de la ville afin qu’un maximum de Beaucairois participent à cet événement festif et convivial\, comme ce fut le cas l’année dernière. \nLe Maire de Beaucaire tient à remercier celles et ceux qui participaient déjà la Fête des voisins depuis plusieurs années et invite les Beaucairois à s’inscrire à cette édition 2018. \nLes habitants et associations de la ville souhaitant participer doivent remplir un bulletin d’inscription disponible en cliquant ici mais également au service des festivités ainsi qu’à l’Office du Tourisme\, en Mairie\, Mairie Annexe et au Conservatoire.\nLa ville distribuera aux participants un kit de décoration et communication et mettra à disposition du matériel (tables\, chaises\, barrières\,…). \nDate limite des inscriptions : vendredi 11 mai à 12h00.\nInfos et renseignements : 04.66.59.71.31 \n  \n 
URL:https://www.beaucaire.fr/evenement/fete-des-voisins/
LOCATION:Beaucaire\, Beaucaire\, 30300\, France Métropolitaine
CATEGORIES:Événements
ATTACH;FMTTYPE=image/png:https://www.beaucaire.fr/wp-content/uploads/2018/05/carré-web-fête-des-voisins-2018-2_Plan-de-travail-1.png
END:VEVENT
END:VCALENDAR