BEGIN:VCALENDAR
VERSION:2.0
PRODID:-//Le site officiel de la Ville de Beaucaire - ECPv6.7.0//NONSGML v1.0//EN
CALSCALE:GREGORIAN
METHOD:PUBLISH
X-ORIGINAL-URL:https://www.beaucaire.fr
X-WR-CALDESC:Évènements pour Le site officiel de la Ville de Beaucaire
REFRESH-INTERVAL;VALUE=DURATION:PT1H
X-Robots-Tag:noindex
X-PUBLISHED-TTL:PT1H
BEGIN:VTIMEZONE
TZID:Europe/Paris
BEGIN:DAYLIGHT
TZOFFSETFROM:+0100
TZOFFSETTO:+0200
TZNAME:CEST
DTSTART:20180325T010000
END:DAYLIGHT
BEGIN:STANDARD
TZOFFSETFROM:+0200
TZOFFSETTO:+0100
TZNAME:CET
DTSTART:20181028T010000
END:STANDARD
END:VTIMEZONE
BEGIN:VEVENT
DTSTART;TZID=Europe/Paris:20180620T070000
DTEND;TZID=Europe/Paris:20180620T120000
DTSTAMP:20260424T091803
CREATED:20180516T075655Z
LAST-MODIFIED:20180807T091640Z
UID:20332-1529478000-1529496000@www.beaucaire.fr
SUMMARY:Brocante en régie municipale
DESCRIPTION:La Mairie de Beaucaire vous propose une Brocante en régie municipale\, tous les mercredis matin de 7h à 12h au Pré\, allée Fanfonne Guillierme. \nInformation importante : pas de brocante le mercredi 15 août pour cause de jour férié
URL:https://www.beaucaire.fr/evenement/brocante-regie-municipale-2018-06-20/
LOCATION:au Pré\, Allée Fanfonne Guillierme\, Beaucaire
CATEGORIES:Événements
ATTACH;FMTTYPE=image/png:https://www.beaucaire.fr/wp-content/uploads/2018/05/Carré-web-1.png
END:VEVENT
BEGIN:VEVENT
DTSTART;TZID=Europe/Paris:20180620T140000
DTEND;TZID=Europe/Paris:20180620T170000
DTSTAMP:20260424T091803
CREATED:20180523T083942Z
LAST-MODIFIED:20180605T131319Z
UID:17166-1529503200-1529514000@www.beaucaire.fr
SUMMARY:Après-midi dansant pour les séniors
DESCRIPTION:Cette année encore\, la Ville de Beaucaire et son CCAS proposent des après-midis dansants gratuits. \nLe goûter et les animations sont offerts par le C.C.A.S. et la Ville de Beaucaire. \nRetrouvez le programme complet des après-midis et soirées dansantes en cliquant ici
URL:https://www.beaucaire.fr/evenement/apres-midi-dansant-seniors-2/
LOCATION:Casino Municipal\, 1\, allée du Casino\, Beaucaire\, 30300\, France
CATEGORIES:Événements
ATTACH;FMTTYPE=image/jpeg:https://www.beaucaire.fr/wp-content/uploads/2018/05/carré-web-après-midi-dansants.jpg
END:VEVENT
END:VCALENDAR