BEGIN:VCALENDAR
VERSION:2.0
PRODID:-//Le site officiel de la Ville de Beaucaire - ECPv6.7.0//NONSGML v1.0//EN
CALSCALE:GREGORIAN
METHOD:PUBLISH
X-ORIGINAL-URL:https://www.beaucaire.fr
X-WR-CALDESC:Évènements pour Le site officiel de la Ville de Beaucaire
REFRESH-INTERVAL;VALUE=DURATION:PT1H
X-Robots-Tag:noindex
X-PUBLISHED-TTL:PT1H
BEGIN:VTIMEZONE
TZID:Europe/Paris
BEGIN:DAYLIGHT
TZOFFSETFROM:+0100
TZOFFSETTO:+0200
TZNAME:CEST
DTSTART:20180325T010000
END:DAYLIGHT
BEGIN:STANDARD
TZOFFSETFROM:+0200
TZOFFSETTO:+0100
TZNAME:CET
DTSTART:20181028T010000
END:STANDARD
END:VTIMEZONE
BEGIN:VEVENT
DTSTART;TZID=Europe/Paris:20180706T190000
DTEND;TZID=Europe/Paris:20180706T190000
DTSTAMP:20260424T073606
CREATED:20180614T140803Z
LAST-MODIFIED:20180709T074904Z
UID:17831-1530903600-1530903600@www.beaucaire.fr
SUMMARY:Les Vendredis de Beaucaire : Election de Miss Beaucaire 2018
DESCRIPTION:Les Vendredis de Beaucaire (anciennement Les Beaux Quais)\, animent le port de plaisance et le cœur de ville chaque vendredi de juillet et août. Les Beaucairois et les touristes viennent ainsi profiter\, dès 19h\, d’un marché artisanal et à thème de qualité le long du canal du Rhône à Sète. Les bars et restaurants de la ville organisent à cette occasion des animations musicales diverses et variées. L’ambiance y est décontractée\, il fait bon y flâner entre amis ou en famille. Les Vendredis de Beaucaire\, c’est aussi\, chaque vendredi de l’été dès 21h30\, un spectacle ou un concert gratuit sur la place Georges Clemenceau (devant la Mairie)\, offert par la Ville. \n– Dès 19h : Marché nocturne sur le thème de la beauté (Quai Général de Gaulle – Cours Gambetta)\n– Dès 21h : Election de Miss Beaucaire 2018 en présence de Maëva Coucke\, Miss France 2018 (Place Georges Clemenceau) \n> Un événement gratuit\, proposé par la Mairie de Beaucaire.
URL:https://www.beaucaire.fr/evenement/vendredis-de-beaucaire-election-de-miss-beaucaire-2018/
LOCATION:Place Georges Clemenceau\, Place Georges Clemenceau\, Beaucaire\, 30300\, France
CATEGORIES:Événements,Les Vendredis de Beaucaire
ATTACH;FMTTYPE=image/png:https://www.beaucaire.fr/wp-content/uploads/2018/06/carré-web-1-1.png
END:VEVENT
END:VCALENDAR