BEGIN:VCALENDAR
VERSION:2.0
PRODID:-//Le site officiel de la Ville de Beaucaire - ECPv6.7.0//NONSGML v1.0//EN
CALSCALE:GREGORIAN
METHOD:PUBLISH
X-ORIGINAL-URL:https://www.beaucaire.fr
X-WR-CALDESC:Évènements pour Le site officiel de la Ville de Beaucaire
REFRESH-INTERVAL;VALUE=DURATION:PT1H
X-Robots-Tag:noindex
X-PUBLISHED-TTL:PT1H
BEGIN:VTIMEZONE
TZID:Europe/Paris
BEGIN:DAYLIGHT
TZOFFSETFROM:+0100
TZOFFSETTO:+0200
TZNAME:CEST
DTSTART:20180325T010000
END:DAYLIGHT
BEGIN:STANDARD
TZOFFSETFROM:+0200
TZOFFSETTO:+0100
TZNAME:CET
DTSTART:20181028T010000
END:STANDARD
END:VTIMEZONE
BEGIN:VEVENT
DTSTART;TZID=Europe/Paris:20180713T090000
DTEND;TZID=Europe/Paris:20180715T180000
DTSTAMP:20260424T073650
CREATED:20180601T080257Z
LAST-MODIFIED:20180711T093452Z
UID:17278-1531472400-1531677600@www.beaucaire.fr
SUMMARY:Les Rencontres Équestres
DESCRIPTION:Les Rencontres Équestres se tiennent du vendredi 13 au dimanche 15 juillet 2018.\nComme chaque année\, c’est aux abords du Rhône\, à l’ombre des très nombreux platanes\, que se déroule cet événement majeur.\nCette grande manifestation\, qui rayonne bien au-delà de nos frontières\, rassemble plus de 500 chevaux (venus d’Espagne\, du Portugal\, de France et de Belgique…)\, ce qui en fait l’un des plus grands rassemblement de chevaux d’Europe. \nPendant 3 jours\, du vendredi au dimanche\, les Rencontres Équestres de Beaucaire accueillent de prestigieuses compétitions : championnat de France « modèle et allure »\, concours d’équitation western « barrel racing »\, master du cheval ibérique (dressage)\,… \nAu-delà de ces compétitions\, le public peut participer à de nombreuses initiations\, flâner entre les boxes\, assister aux représentations et au grand spectacle nocturne équestre du vendredi soir (particulièrement beau) tout en dînant sur place pendant ce temps. \nDepuis 2015\, à la demande du Maire\, les enfants ne sont pas en reste avec un espace qui leur est dédié (animations et initiation à la voltige). Et\, bonne nouvelle\, tout est entièrement gratuit ! \nAu programme :  \nVendredi 13 juillet (Vendredi de Beaucaire)\nà partir de 19h\nMarché nocturne sur le thème de l’équitation – Quai Général de Gaulle – Cours Gambetta \n21h30\nGrand spectacle équestre avec Jean-François Pignon – Place Georges Clemenceau\nGratuit \nSamedi 14 juillet\n21h\nSpectacle équestre offert par la Mairie de Beaucaire au Champ de Foire\nEntrée libre \nPour consulter le programme complet des rencontres équestres cliquez ici \nInformations au 04 66 59 10 06
URL:https://www.beaucaire.fr/evenement/les-rencontres-equestres-2/
LOCATION:Champ de foire\, Champ de foire\, Beaucaire\, 30300\, France
CATEGORIES:Événements,Spectacles
ATTACH;FMTTYPE=image/png:https://www.beaucaire.fr/wp-content/uploads/2018/06/bannière-facebook.png
END:VEVENT
END:VCALENDAR