BEGIN:VCALENDAR
VERSION:2.0
PRODID:-//Le site officiel de la Ville de Beaucaire - ECPv6.7.0//NONSGML v1.0//EN
CALSCALE:GREGORIAN
METHOD:PUBLISH
X-ORIGINAL-URL:https://www.beaucaire.fr
X-WR-CALDESC:Évènements pour Le site officiel de la Ville de Beaucaire
REFRESH-INTERVAL;VALUE=DURATION:PT1H
X-Robots-Tag:noindex
X-PUBLISHED-TTL:PT1H
BEGIN:VTIMEZONE
TZID:Europe/Paris
BEGIN:DAYLIGHT
TZOFFSETFROM:+0100
TZOFFSETTO:+0200
TZNAME:CEST
DTSTART:20180325T010000
END:DAYLIGHT
BEGIN:STANDARD
TZOFFSETFROM:+0200
TZOFFSETTO:+0100
TZNAME:CET
DTSTART:20181028T010000
END:STANDARD
END:VTIMEZONE
BEGIN:VEVENT
DTSTART;TZID=Europe/Paris:20180720T193000
DTEND;TZID=Europe/Paris:20180720T193000
DTSTAMP:20260424T073606
CREATED:20180605T141850Z
LAST-MODIFIED:20180614T135514Z
UID:17423-1532115000-1532115000@www.beaucaire.fr
SUMMARY:Les Vendredis de Beaucaire : Grand tournoi de joutes
DESCRIPTION:Les Vendredis de Beaucaire (anciennement Les Beaux Quais)\, animent le port de plaisance et le cœur de ville chaque vendredi de juillet et août. Les Beaucairois et les touristes viennent ainsi profiter\, dès 19h\, d’un marché artisanal et à thème de qualité le long du canal du Rhône à Sète. Les bars et restaurants de la ville organisent à cette occasion des animations musicales diverses et variées. L’ambiance y est décontractée\, il fait bon y flâner entre amis ou en famille. Les Vendredis de Beaucaire\, c’est aussi\, chaque vendredi de l’été dès 21h30\, un spectacle ou un concert gratuit sur la place Georges Clemenceau (devant la Mairie)\, offert par la Ville.  \nA l’initiative de Julien Sanchez\, Maire de Beaucaire\, et de Max Soulier\, son adjoint au tourisme et au port\, les joutes ont fait leur grand retour en 2016\, avec la Lance Sportive Sétoise à l’occasion d’un grand tournoi.\nVisiblement enthousiasmés\, les Beaucairois et visiteurs ont répondu nombreux à l’invitation\, autour d’un canal en fête.\nLe vendredi 20 juillet\, c’est un rendez-vous encore plus important qui vous est proposé dans le cadre des Vendredis de Beaucaire. \n– Dès 19h : Marché nocturne sur le thème de la mer (Port de plaisance)\n– 19h30 : Défilé des jouteurs (départ Quai de la Paix – Anse du canal – Quai Général de Gaulle)\n– 21h30 : Grand tournoi de joutes sur le canal de Beaucaire (participation possible du public) \n> Un événement gratuit\, proposé par la Mairie de Beaucaire.
URL:https://www.beaucaire.fr/evenement/grand-tournoi-de-joutes-4/
LOCATION:Quai du Général de Gaulle\,  Quai du Général de Gaulle\, Beaucaire\, 30300\, France Métropolitaine
CATEGORIES:Événements,Les Vendredis de Beaucaire
ATTACH;FMTTYPE=image/png:https://www.beaucaire.fr/wp-content/uploads/2018/06/carré-web-2.png
END:VEVENT
END:VCALENDAR