BEGIN:VCALENDAR
VERSION:2.0
PRODID:-//Le site officiel de la Ville de Beaucaire - ECPv6.7.0//NONSGML v1.0//EN
CALSCALE:GREGORIAN
METHOD:PUBLISH
X-ORIGINAL-URL:https://www.beaucaire.fr
X-WR-CALDESC:Évènements pour Le site officiel de la Ville de Beaucaire
REFRESH-INTERVAL;VALUE=DURATION:PT1H
X-Robots-Tag:noindex
X-PUBLISHED-TTL:PT1H
BEGIN:VTIMEZONE
TZID:Europe/Paris
BEGIN:DAYLIGHT
TZOFFSETFROM:+0100
TZOFFSETTO:+0200
TZNAME:CEST
DTSTART:20180325T010000
END:DAYLIGHT
BEGIN:STANDARD
TZOFFSETFROM:+0200
TZOFFSETTO:+0100
TZNAME:CET
DTSTART:20181028T010000
END:STANDARD
END:VTIMEZONE
BEGIN:VEVENT
DTSTART;TZID=Europe/Paris:20180721T160000
DTEND;TZID=Europe/Paris:20180730T010000
DTSTAMP:20260424T073613
CREATED:20180705T152600Z
LAST-MODIFIED:20180720T133452Z
UID:18282-1532188800-1532912400@www.beaucaire.fr
SUMMARY:Fête Foraine
DESCRIPTION:Du samedi 21 au lundi 30 juillet\, de 16h à 1h\, la fête foraine sera installée sur le Champ de Foire.\nTarif réduit le mercredi 25 juillet.
URL:https://www.beaucaire.fr/evenement/fete-foraine-2/
LOCATION:Champ de foire\, Champ de foire\, Beaucaire\, 30300\, France
CATEGORIES:Événements
ATTACH;FMTTYPE=image/png:https://www.beaucaire.fr/wp-content/uploads/2018/07/fête-foraine-2018_Plan-de-travail-1.png
END:VEVENT
BEGIN:VEVENT
DTSTART;TZID=Europe/Paris:20180728T180000
DTEND;TZID=Europe/Paris:20180728T180000
DTSTAMP:20260424T073613
CREATED:20180706T123111Z
LAST-MODIFIED:20180709T074619Z
UID:18313-1532800800-1532800800@www.beaucaire.fr
SUMMARY:Salon Taurin : Soirée années 90 avec Caroline Loeb
DESCRIPTION:Chaque année en juillet\, durant 5 jours\, le parking des Arènes est transformé en « Salon Taurin ». C’est la féria locale : bonne humeur\, décontraction\, danse dans la convivialité.\nTous les Beaucairois se retrouvent\, ainsi que de nombreux voisins et touristes. Chaque jour\, dès 18h\, des bodégas associatives vous accueillent pour commencer la soirée avec le sourire à l’heure de l’apéritif puis vous proposent de dîner au pied du Château de Beaucaire et devant la grande scène du Salon Taurin. Puis\, à 21h30\, la Ville de Beaucaire offre gratuitement un spectacle différent chaque soir ! \nQue ce soit sur le thème du disco ou en présence d’artistes de renommée comme Jean-Luc Lahaye : ambiance assurée avec une grande piste de danse faite pour vous ! D’autres bodégas vous proposent toute la nuit des plateaux exceptionnels de DJ ! Une fête foraine est présente à quelques mètres. Le Salon Taurin\, chaque année à Beaucaire\, c’est là que l’on peut s’amuser et décompresser entre amis\, quel que soit son âge\, et en toute sécurité. \nLe samedi 28 juillet à 21h30\, venez nombreux pour la soirée années 90 (avec Caroline Loeb) suivie de l’orchestre Douzet. \nLes bodégas du Salon Taurin : Pensez à réserver votre repas près des Arènes :\n• Gym Flip Beaucaire Tarascon (06 62 58 97 70)\n• Stade Beaucairois 30 (06 28 27 15 91 – 06 23 78 61 93 – 06 19 94 63 23)\n• Les Chevaliers (06 27 07 58 34)\n• Tennis Club Beaucairois (06 22 28 12 96)\n• Espoir Football Club Beaucairois (06 51 69 71 96)\n• Aficion Taurine Beaucairoise (06 48 85 91 07) Les autres Bodégas :\n• Espace le Chalet (Champ de Foire – 06 10 51 26 87)\n• Bodega l’Exception : DJ’s\, Show light\, perfomers (Espace Daudet – 06 52 83 44 49) \nOrganisé par la Mairie de Beaucaire\nInformations : 04 66 59 10 06\nParking des Arènes – Champ de Foire
URL:https://www.beaucaire.fr/evenement/salon-taurin-soiree-annees-90-caroline-loeb/
LOCATION:Champ de foire\, Champ de foire\, Beaucaire\, 30300\, France
CATEGORIES:Événements,Spectacles
ATTACH;FMTTYPE=image/png:https://www.beaucaire.fr/wp-content/uploads/2018/07/carré-web-3.png
END:VEVENT
BEGIN:VEVENT
DTSTART;TZID=Europe/Paris:20180728T180000
DTEND;TZID=Europe/Paris:20180728T200000
DTSTAMP:20260424T073613
CREATED:20180625T140107Z
LAST-MODIFIED:20180710T074524Z
UID:18168-1532800800-1532808000@www.beaucaire.fr
SUMMARY:Rodéo
DESCRIPTION:Le samedi 28 juillet à 18h aux Arènes Municipales Paul Laurent\, la Mairie de Beaucaire organise pour la première fois un rodéo avec la participation du taureau élu Champion d’Europe 2017 ! \nBilletterie en Mairie de Beaucaire ou aux Arènes le jour du rodéo :\nTarif plein : 10€\nTarif réduit : 6€ pour les jeunes de 12 à 16 ans et pour les retraités Beaucairois (à partir de 65 ans sur présentation d’une carte d’identité et d’un justificatif de domicile)\nGratuit pour les moins de 12 ans accompagnés d’un adulte et les personnes handicapées sur présentation de la carte d’invalidité. \nInformations :  04 66 59 10 06 \n> Arènes Municipales Paul Laurent \n Champ de Foire
URL:https://www.beaucaire.fr/evenement/rodeo/
LOCATION:Arènes de Beaucaire\, Champ de foire\, Beaucaire\, 30300\, France Métropolitaine
CATEGORIES:Courses camarguaises,Événements
ATTACH;FMTTYPE=image/png:https://www.beaucaire.fr/wp-content/uploads/2018/06/carré-web-3.png
END:VEVENT
END:VCALENDAR