BEGIN:VCALENDAR
VERSION:2.0
PRODID:-//Le site officiel de la Ville de Beaucaire - ECPv6.7.0//NONSGML v1.0//EN
CALSCALE:GREGORIAN
METHOD:PUBLISH
X-ORIGINAL-URL:https://www.beaucaire.fr
X-WR-CALDESC:Évènements pour Le site officiel de la Ville de Beaucaire
REFRESH-INTERVAL;VALUE=DURATION:PT1H
X-Robots-Tag:noindex
X-PUBLISHED-TTL:PT1H
BEGIN:VTIMEZONE
TZID:Europe/Paris
BEGIN:DAYLIGHT
TZOFFSETFROM:+0100
TZOFFSETTO:+0200
TZNAME:CEST
DTSTART:20180325T010000
END:DAYLIGHT
BEGIN:STANDARD
TZOFFSETFROM:+0200
TZOFFSETTO:+0100
TZNAME:CET
DTSTART:20181028T010000
END:STANDARD
END:VTIMEZONE
BEGIN:VEVENT
DTSTART;VALUE=DATE:20180824
DTEND;VALUE=DATE:20180826
DTSTAMP:20260424T060153
CREATED:20180817T095800Z
LAST-MODIFIED:20180817T095859Z
UID:20621-1535068800-1535241599@www.beaucaire.fr
SUMMARY:Fête de Garrigues Planes 2018
DESCRIPTION:Vendredi 24 août\n\n\n18h et 21h : Encierro – Manade Labourayre\n\n\n19h : Apéro\n\n\n22h : Soirée « beau-dégat » avec DJ (Cour de l’école Garrigues Planes)\n\n\n \n\n\nSamedi 25 août \n\n\n11h : Abrivado longue du Vieux Mas – 11 km – Manade l’Amista – Départ du Vieux Mas (1352 chemin de Végère). Arrivée à coté de l’école primaire de Garrigues Planes\n\n\n12h : Bandido – Manade l’Amista\n\n\n12h30 : Apéro à la beaucairoise (Cour de l’école Garrigues Planes)\n\n\n18h : Abrivado bandido – Manade l’Amista\n\n\n19h: Soirée Crazy bodeg avec DJ (Cour de l’école Garrigues Planes)\n\n\n\n\n\nRestauration possible sur place\n\n\nOrganisé par les Bandas Camariguos en partenariat avec la Mairie de Beaucaire\n\n\nInformations : 04 66 59 10 06\n\n\n \n\n\nMISE EN GARDE\n\n\nLes taureaux\, les vaches et les petits veaux demeurent des animaux sauvages et dangereux.\n\n\nCliquez ici pour consulter les règles de sécurité à respecter lors des manifestations taurines : http://www.beaucaire.fr/notre-ville/traditions/autres-traditions-taurines/manifestations-taurines-mise-garde/
URL:https://www.beaucaire.fr/evenement/fete-de-garrigues-planes-2018/
LOCATION:Ecole de Garrigues Planes\, Quartier Garrigues Planes\, Beaucaire\, 30300\, France Métropolitaine
CATEGORIES:Événements,Manifestations taurines
ATTACH;FMTTYPE=image/jpeg:https://www.beaucaire.fr/wp-content/uploads/2018/08/38797021_10156889532672847_6721797785890324480_n.jpg
END:VEVENT
BEGIN:VEVENT
DTSTART;TZID=Europe/Paris:20180824T180000
DTEND;TZID=Europe/Paris:20180825T020000
DTSTAMP:20260424T060153
CREATED:20180710T124621Z
LAST-MODIFIED:20180816T153211Z
UID:18520-1535133600-1535162400@www.beaucaire.fr
SUMMARY:Fête de Garrigues Planes
DESCRIPTION:Chaque année\, le quartier Garrigues Planes fait sa fête votive… et c’est un événement incontournable à Beaucaire !\n\nVendredi – 18h et 21h : Encierros de nuit\nManifestations taurines de rue avec la Manade l’Amista \nVendredi et Samedi dès 19h : Soirée bodéga avec DJ (Cour de l’école – Garrigues Planes) \nSamedi 11h : Abrivado\nLongue Manifestation taurine de rue\n– Départ du Vieux Mas (1352 chemin de Végère)\n– Arrivée à coté de l’école primaire de Garrigues Planes \nSuivie d’une bandido avec la Manade l’Amista\nGratuit \n19h : Bandido\nManifestation taurine de rue avec Manade l’Amista\nGratuit \nRestauration possible sur place\nOrganisé par les Bandas Camariguos en partenariat avec la Mairie de Beaucaire\nInformations : 04 66 59 10 06 \nMISE EN GARDE\nLes taureaux\, les vaches et les petits veaux demeurent des animaux sauvages et dangereux.\nCliquez ici pour consulter les règles de sécurité à respecter lors des manifestations taurines.
URL:https://www.beaucaire.fr/evenement/fete-de-garrigues-planes/
LOCATION:Garrigues Planes\, Quartier Garrigues Planes\, Beaucaire
CATEGORIES:Événements,Manifestations taurines
ATTACH;FMTTYPE=image/jpeg:https://www.beaucaire.fr/wp-content/uploads/2018/07/38797021_10156889532672847_6721797785890324480_n.jpg
END:VEVENT
END:VCALENDAR