BEGIN:VCALENDAR
VERSION:2.0
PRODID:-//Le site officiel de la Ville de Beaucaire - ECPv6.7.0//NONSGML v1.0//EN
CALSCALE:GREGORIAN
METHOD:PUBLISH
X-ORIGINAL-URL:https://www.beaucaire.fr
X-WR-CALDESC:Évènements pour Le site officiel de la Ville de Beaucaire
REFRESH-INTERVAL;VALUE=DURATION:PT1H
X-Robots-Tag:noindex
X-PUBLISHED-TTL:PT1H
BEGIN:VTIMEZONE
TZID:Europe/Paris
BEGIN:DAYLIGHT
TZOFFSETFROM:+0100
TZOFFSETTO:+0200
TZNAME:CEST
DTSTART:20180325T010000
END:DAYLIGHT
BEGIN:STANDARD
TZOFFSETFROM:+0200
TZOFFSETTO:+0100
TZNAME:CET
DTSTART:20181028T010000
END:STANDARD
END:VTIMEZONE
BEGIN:VEVENT
DTSTART;TZID=Europe/Paris:20180929T140000
DTEND;TZID=Europe/Paris:20180929T190000
DTSTAMP:20260424T042347
CREATED:20180711T133756Z
LAST-MODIFIED:20180911T115436Z
UID:18588-1538229600-1538247600@www.beaucaire.fr
SUMMARY:15ème édition de la Gambade de Saint-Roman
DESCRIPTION:– 14h00 : Marche nordique chronométrée et rando (10km)\n– 16h00 : Course de 12\,8km (Peu de bitume et un sentier 90 % nature qui vous mènera au massif de Saint-Roman\, d’où vous pourrez découvrir une très belle vue sur le géant de Provence). 2 ravitaillements. 10€ (ou 12€ sur place).\n– 16h15 : Course de 5\,8km (100 % plat\, alliant route et nature avec un passage sur la voie verte. Un ravitaillement. 8€ (ou 10€ sur place). \nOrganisé par l’association Courir à Beaucaire\, en partenariat avec la Mairie de Beaucaire. \nInformations au 06 19 71 25 80\nPré-inscriptions sur endurancechrono.com \n> Départs du Casino Municipal\, Rue du Champ de foire
URL:https://www.beaucaire.fr/evenement/14eme-edition-de-gambade-de-saint-roman/
LOCATION:Casino Municipal\, 1\, allée du Casino\, Beaucaire\, 30300\, France
CATEGORIES:Événements
ATTACH;FMTTYPE=image/jpeg:https://www.beaucaire.fr/wp-content/uploads/2018/07/DSC_0439-9.jpg
END:VEVENT
END:VCALENDAR