BEGIN:VCALENDAR
VERSION:2.0
PRODID:-//Le site officiel de la Ville de Beaucaire - ECPv6.7.0//NONSGML v1.0//EN
CALSCALE:GREGORIAN
METHOD:PUBLISH
X-ORIGINAL-URL:https://www.beaucaire.fr
X-WR-CALDESC:Évènements pour Le site officiel de la Ville de Beaucaire
REFRESH-INTERVAL;VALUE=DURATION:PT1H
X-Robots-Tag:noindex
X-PUBLISHED-TTL:PT1H
BEGIN:VTIMEZONE
TZID:Europe/Paris
BEGIN:DAYLIGHT
TZOFFSETFROM:+0100
TZOFFSETTO:+0200
TZNAME:CEST
DTSTART:20180325T010000
END:DAYLIGHT
BEGIN:STANDARD
TZOFFSETFROM:+0200
TZOFFSETTO:+0100
TZNAME:CET
DTSTART:20181028T010000
END:STANDARD
END:VTIMEZONE
BEGIN:VEVENT
DTSTART;VALUE=DATE:20181008
DTEND;VALUE=DATE:20181015
DTSTAMP:20260424T023058
CREATED:20181005T161755Z
LAST-MODIFIED:20181005T161755Z
UID:21818-1538956800-1539561599@www.beaucaire.fr
SUMMARY:La semaine bleue
DESCRIPTION:La Semaine Bleue\, semaine des retraités et des seniors\, sera particulièrement animée cette année à Beaucaire !\nDu lundi 8 au dimanche 14 octobre 2018\, la Mairie de Beaucaire\, son Centre Communal d’Action Sociale et ses partenaires ont programmé de nombreuses activités gratuites pour nos aînés. \nUn grand déjeuner-spectacle\, offert par le CCAS et la Ville de Beaucaire\, viendra clôturer cette semaine (inscriptions closes). \nInformations au 04.66.59.36.35 et sur beaucaire.fr \n   \n 
URL:https://www.beaucaire.fr/evenement/la-semaine-bleue/
LOCATION:Beaucaire\, Beaucaire\, 30300\, France Métropolitaine
CATEGORIES:Événements
ATTACH;FMTTYPE=image/jpeg:https://www.beaucaire.fr/wp-content/uploads/2018/10/repas-ccas-de-beaucaire-2018-1.jpg
ORGANIZER;CN="C.C.A.S.":MAILTO:ccas@beaucaire.fr
END:VEVENT
BEGIN:VEVENT
DTSTART;TZID=Europe/Paris:20181010T080000
DTEND;TZID=Europe/Paris:20181010T120000
DTSTAMP:20260424T023058
CREATED:20180807T091206Z
LAST-MODIFIED:20180830T134434Z
UID:20318-1539158400-1539172800@www.beaucaire.fr
SUMMARY:Brocante en régie municipale
DESCRIPTION:La Mairie de Beaucaire vous propose une Brocante en régie municipale\, tous les mercredis matin de 7h à 12h au Pré\, allée Fanfonne Guillierme.
URL:https://www.beaucaire.fr/evenement/brocante-regie-municipal-2018-10-10/
LOCATION:au Pré\, Allée Fanfonne Guillierme\, Beaucaire
CATEGORIES:Événements
ATTACH;FMTTYPE=image/png:https://www.beaucaire.fr/wp-content/uploads/2018/08/Carré-web.png
END:VEVENT
BEGIN:VEVENT
DTSTART;TZID=Europe/Paris:20181010T100000
DTEND;TZID=Europe/Paris:20181010T170000
DTSTAMP:20260424T023058
CREATED:20181001T085837Z
LAST-MODIFIED:20181001T090957Z
UID:21611-1539165600-1539190800@www.beaucaire.fr
SUMMARY:Programme des animations du mercredi 10 octobre à la Bibliothèque Municipale
DESCRIPTION:Retrouvez le programme complet des animations du mercredi 10 octobre à la Bibliothèque Municipale :\n10h : Les Ateliers Créatifs\nA la Bibliothèque\, on ne vient pas que pour lire ! Nous vous proposons des rendez-vous réguliers sous forme d’ateliers de bricolage : pliages papier\, fabrication de doudous\, crochet… et d’autres !\nCes ateliers sont gratuits et accessibles à toutes et tous.. Selon les cas\, nous pourrons vous demander quelques fois de ramener votre propre matériel.\nNous essaierons en fonction du succès de ces ateliers la mise en place d’expositions. \n11h : Lecture Kamishibaï\n16h : L’heure du conte\nPour toutes celles et ceux qui ont envie d’entendre « Il était une fois ». \n> 1 rue Roger Pascal (entrée du public Cours Gambetta)\nRenseignements et inscriptions : 04.66.59.26.98
URL:https://www.beaucaire.fr/evenement/programme-animations-mercredi-10-octobre-a-bibliotheque-municipale/
LOCATION:Bibliothèque Municipale\, 1 rue Roger Pascal\, Beaucaire\, 30300\, France
CATEGORIES:Événements
ATTACH;FMTTYPE=image/jpeg:https://www.beaucaire.fr/wp-content/uploads/2018/10/DSC_0159-845x321.jpg
END:VEVENT
END:VCALENDAR