BEGIN:VCALENDAR
VERSION:2.0
PRODID:-//Le site officiel de la Ville de Beaucaire - ECPv6.7.0//NONSGML v1.0//EN
CALSCALE:GREGORIAN
METHOD:PUBLISH
X-ORIGINAL-URL:https://www.beaucaire.fr
X-WR-CALDESC:Évènements pour Le site officiel de la Ville de Beaucaire
REFRESH-INTERVAL;VALUE=DURATION:PT1H
X-Robots-Tag:noindex
X-PUBLISHED-TTL:PT1H
BEGIN:VTIMEZONE
TZID:Europe/Paris
BEGIN:DAYLIGHT
TZOFFSETFROM:+0100
TZOFFSETTO:+0200
TZNAME:CEST
DTSTART:20180325T010000
END:DAYLIGHT
BEGIN:STANDARD
TZOFFSETFROM:+0200
TZOFFSETTO:+0100
TZNAME:CET
DTSTART:20181028T010000
END:STANDARD
END:VTIMEZONE
BEGIN:VEVENT
DTSTART;TZID=Europe/Paris:20181031T080000
DTEND;TZID=Europe/Paris:20181031T120000
DTSTAMP:20260424T004811
CREATED:20180807T091206Z
LAST-MODIFIED:20180830T134435Z
UID:20321-1540972800-1540987200@www.beaucaire.fr
SUMMARY:Brocante en régie municipale
DESCRIPTION:La Mairie de Beaucaire vous propose une Brocante en régie municipale\, tous les mercredis matin de 7h à 12h au Pré\, allée Fanfonne Guillierme.
URL:https://www.beaucaire.fr/evenement/brocante-regie-municipal-2018-10-31/
LOCATION:au Pré\, Allée Fanfonne Guillierme\, Beaucaire
CATEGORIES:Événements
ATTACH;FMTTYPE=image/png:https://www.beaucaire.fr/wp-content/uploads/2018/08/Carré-web.png
END:VEVENT
BEGIN:VEVENT
DTSTART;TZID=Europe/Paris:20181031T170000
DTEND;TZID=Europe/Paris:20181031T200000
DTSTAMP:20260424T004811
CREATED:20181031T085611Z
LAST-MODIFIED:20181031T085741Z
UID:22419-1541005200-1541016000@www.beaucaire.fr
SUMMARY:Halloween à Beaucaire
DESCRIPTION:🎃 Le 31 octobre\, c’est Halloween !\nÀ cette occasion\, la Mairie de Beaucaire offre à tous les enfants déguisés des bonbons entre 17h et 20h\, au Casino Municipal. \n> Les enfants repartiront avec une photo souvenir offerte par la Mairie.
URL:https://www.beaucaire.fr/evenement/halloween-2/
LOCATION:Casino Municipal\, 1\, allée du Casino\, Beaucaire\, 30300\, France
CATEGORIES:Événements
ATTACH;FMTTYPE=image/jpeg:https://www.beaucaire.fr/wp-content/uploads/2018/10/halloween-2018-Casino.jpg
END:VEVENT
END:VCALENDAR