BEGIN:VCALENDAR
VERSION:2.0
PRODID:-//Le site officiel de la Ville de Beaucaire - ECPv6.7.0//NONSGML v1.0//EN
CALSCALE:GREGORIAN
METHOD:PUBLISH
X-ORIGINAL-URL:https://www.beaucaire.fr
X-WR-CALDESC:Évènements pour Le site officiel de la Ville de Beaucaire
REFRESH-INTERVAL;VALUE=DURATION:PT1H
X-Robots-Tag:noindex
X-PUBLISHED-TTL:PT1H
BEGIN:VTIMEZONE
TZID:Europe/Paris
BEGIN:DAYLIGHT
TZOFFSETFROM:+0100
TZOFFSETTO:+0200
TZNAME:CEST
DTSTART:20180325T010000
END:DAYLIGHT
BEGIN:STANDARD
TZOFFSETFROM:+0200
TZOFFSETTO:+0100
TZNAME:CET
DTSTART:20181028T010000
END:STANDARD
END:VTIMEZONE
BEGIN:VEVENT
DTSTART;TZID=Europe/Paris:20181114T080000
DTEND;TZID=Europe/Paris:20181114T120000
DTSTAMP:20260424T004811
CREATED:20180807T091206Z
LAST-MODIFIED:20180830T134443Z
UID:20323-1542182400-1542196800@www.beaucaire.fr
SUMMARY:Brocante en régie municipale
DESCRIPTION:La Mairie de Beaucaire vous propose une Brocante en régie municipale\, tous les mercredis matin de 7h à 12h au Pré\, allée Fanfonne Guillierme.
URL:https://www.beaucaire.fr/evenement/brocante-regie-municipal-2018-11-14/
LOCATION:au Pré\, Allée Fanfonne Guillierme\, Beaucaire
CATEGORIES:Événements
ATTACH;FMTTYPE=image/png:https://www.beaucaire.fr/wp-content/uploads/2018/08/Carré-web.png
END:VEVENT
BEGIN:VEVENT
DTSTART;TZID=Europe/Paris:20181114T100000
DTEND;TZID=Europe/Paris:20181114T170000
DTSTAMP:20260424T004811
CREATED:20181111T121103Z
LAST-MODIFIED:20181111T121310Z
UID:22799-1542189600-1542214800@www.beaucaire.fr
SUMMARY:Bibliothèque Municipale : programme des animations du mercredi 14 novembre
DESCRIPTION:Retrouvez le programme complet des animations du mercredi 14 novembre à la Bibliothèque Municipale : \n10h : Les Ateliers Créatifs\nA la Bibliothèque\, on ne vient pas que pour lire ! Nous vous proposons des rendez-vous réguliers sous forme d’ateliers de bricolage : pliages papier\, fabrication de doudous\, crochet… et d’autres !\nCes ateliers sont gratuits et accessibles à toutes et tous. Selon les cas\, nous pourrons vous demander quelques fois de ramener votre propre matériel.\nNous essaierons en fonction du succès de ces ateliers la mise en place d’expositions. \n11h : Lecture Kamishibaï \n14h30 : Ateliers scientifiques en collaboration avec l’Association Les Petits Débrouillards « Fabrique ton robot gribouille »\n\n> 1 rue Roger Pascal (entrée du public Cours Gambetta)\n Renseignements et inscriptions : 04.66.59.26.98
URL:https://www.beaucaire.fr/evenement/bibliotheque-municipale-programme-animations-mercredi-14-novembre/
LOCATION:Bibliothèque Municipale\, 1 rue Roger Pascal\, Beaucaire\, 30300\, France
CATEGORIES:Événements
ATTACH;FMTTYPE=image/jpeg:https://www.beaucaire.fr/wp-content/uploads/2018/11/DSC_0159-845x321.jpg
END:VEVENT
END:VCALENDAR