BEGIN:VCALENDAR
VERSION:2.0
PRODID:-//Le site officiel de la Ville de Beaucaire - ECPv6.7.0//NONSGML v1.0//EN
CALSCALE:GREGORIAN
METHOD:PUBLISH
X-ORIGINAL-URL:https://www.beaucaire.fr
X-WR-CALDESC:Évènements pour Le site officiel de la Ville de Beaucaire
REFRESH-INTERVAL;VALUE=DURATION:PT1H
X-Robots-Tag:noindex
X-PUBLISHED-TTL:PT1H
BEGIN:VTIMEZONE
TZID:Europe/Paris
BEGIN:DAYLIGHT
TZOFFSETFROM:+0100
TZOFFSETTO:+0200
TZNAME:CEST
DTSTART:20180325T010000
END:DAYLIGHT
BEGIN:STANDARD
TZOFFSETFROM:+0200
TZOFFSETTO:+0100
TZNAME:CET
DTSTART:20181028T010000
END:STANDARD
END:VTIMEZONE
BEGIN:VEVENT
DTSTART;TZID=Europe/Paris:20181128T080000
DTEND;TZID=Europe/Paris:20181128T120000
DTSTAMP:20260423T231044
CREATED:20180807T091206Z
LAST-MODIFIED:20180830T134443Z
UID:20325-1543392000-1543406400@www.beaucaire.fr
SUMMARY:Brocante en régie municipale
DESCRIPTION:La Mairie de Beaucaire vous propose une Brocante en régie municipale\, tous les mercredis matin de 7h à 12h au Pré\, allée Fanfonne Guillierme.
URL:https://www.beaucaire.fr/evenement/brocante-regie-municipal-2018-11-28/
LOCATION:au Pré\, Allée Fanfonne Guillierme\, Beaucaire
CATEGORIES:Événements
ATTACH;FMTTYPE=image/png:https://www.beaucaire.fr/wp-content/uploads/2018/08/Carré-web.png
END:VEVENT
BEGIN:VEVENT
DTSTART;TZID=Europe/Paris:20181128T093000
DTEND;TZID=Europe/Paris:20181128T170000
DTSTAMP:20260423T231044
CREATED:20181111T121557Z
LAST-MODIFIED:20181128T100527Z
UID:22802-1543397400-1543424400@www.beaucaire.fr
SUMMARY:Lectures et ateliers pour enfants à la bibliothèque
DESCRIPTION:Retrouvez le programme complet des animations du mercredi 28 novembre à la Bibliothèque Municipale :\n\n9h30 : Les BB lecteurs\nDu nourrisson jusqu’à l’enfant de 3 ans\nLire des histoires aux tout-petits\, c’est le principe des séances de bébés lecteurs qui ont lieu en bibliothèque. En partenariat avec Elsa Gamon coordonnatrice du réseau d’assistantes maternelles\, nous initions nous aussi les jeunes enfants à la lecture.\nTous les bébés et les jeunes enfants aiment les livres. Les premiers mois et les premières années de la vie d’un enfant se caractérisent par un goût pour l’exploration et une curiosité insatiable.\nLes sons\, les voix\, les couleurs\, les odeurs\, la musique… tout captive nos petits aventuriers et c’est aussi le pouvoir des livres. Le but est donc de donner aux petits\, dès leur plus jeune âge\, le goût de l’histoire racontée et de l’écoute musicale. En même temps\, elle sensibilise les adultes accompagnateurs au plaisir de la lecture avec le tout-petit.\nNous accueillons de très jeunes usagers\, du nourrisson jusqu’à l’enfant de 3 ans\, dans le cadre de cet atelier bébés lecteurs. Chaque atelier est décliné selon un thème choisi à l’avance\, nous proposons des animations autour de la lecture d’albums de littérature jeunesse. Nos albums sont exposés\, dans la pièce où se déroule l’animation.\nL’atelier dure entre 20 et 30 minutes\, selon l’attention des enfants. Les personnes qui accompagnent sont les assistantes maternelles. Nous commençons à y inclure des parents\, grands-parents\, chacun étant bien sûr invité à prolonger\, à son domicile\, ces moments de lecture plaisir. \n10h : Les Ateliers Créatifs\nA la Bibliothèque\, on ne vient pas que pour lire ! Nous vous proposons des rendez-vous réguliers sous forme d’ateliers de bricolage : pliages papier\, fabrication de doudous\, crochet… et d’autres !\nCes ateliers sont gratuits et accessibles à toutes et tous. Selon les cas\, nous pourrons vous demander quelques fois de ramener votre propre matériel.\nNous essaierons en fonction du succès de ces ateliers la mise en place d’expositions. \n11h : Lecture Kamishibaï\n\n 16h : L’heure du conte\nPour toutes celles et ceux qui ont envie d’entendre « Il était une fois ». \n> 1 rue Roger Pascal (entrée du public Cours Gambetta)\n Renseignements et inscriptions : 04.66.59.26.98
URL:https://www.beaucaire.fr/evenement/bibliotheque-municipale-programme-animations-mercredi-28-novembre/
LOCATION:Bibliothèque Municipale\, 1 rue Roger Pascal\, Beaucaire\, 30300\, France
CATEGORIES:Événements
ATTACH;FMTTYPE=image/jpeg:https://www.beaucaire.fr/wp-content/uploads/2018/11/DSC_0159-845x321.jpg
END:VEVENT
END:VCALENDAR